BEGIN:VCALENDAR
VERSION:2.0
PRODID:-//Cairo Spots - ECPv6.15.20//NONSGML v1.0//EN
CALSCALE:GREGORIAN
METHOD:PUBLISH
X-WR-CALNAME:Cairo Spots
X-ORIGINAL-URL:https://cairospots.com
X-WR-CALDESC:Events for Cairo Spots
REFRESH-INTERVAL;VALUE=DURATION:PT1H
X-Robots-Tag:noindex
X-PUBLISHED-TTL:PT1H
BEGIN:VTIMEZONE
TZID:UTC
BEGIN:STANDARD
TZOFFSETFROM:+0000
TZOFFSETTO:+0000
TZNAME:UTC
DTSTART:20250101T000000
END:STANDARD
END:VTIMEZONE
BEGIN:VEVENT
DTSTART;TZID=UTC:20260112T080000
DTEND;TZID=UTC:20260112T170000
DTSTAMP:20260425T020820
CREATED:20260112T022841Z
LAST-MODIFIED:20260112T022841Z
UID:10000034-1768204800-1768237200@cairospots.com
SUMMARY:Kalam Men Lahab at El Rihany Theater
DESCRIPTION:Kalam Men Lahab returns for its second edition on February 6 at El Rihany Theatre. Doors open at 6:00 PM and the show starts at 7:00 PM. Organized by Soxeih and TMS\, the performance is presented as a live storytelling and spoken experience centered around themes of heartbreak\, separation\, and emotional reflection. \nThe show creates a shared space where stories are told and exchanged\, blending personal narratives with live performance in a theatrical setting. Kalam Men Lahab focuses on collective expression and audience connection\, with the night shaped by shared experiences and emotional honesty. \nكلام من لهب يعود بنسخته الثانية يوم ٦ فبراير على مسرح الريحاني. تفتح الأبواب في تمام الساعة ٦:٠٠ مساءً ويبدأ العرض في الساعة ٧:٠٠ مساءً. يُنظَّم الحدث من قبل Soxeih و TMS، ويقدَّم كعرض حي قائم على السرد والحكي حول موضوعات الفراق والانكسار والتجارب العاطفية. \nيوفّر العرض مساحة مشتركة لمشاركة القصص والاستماع لتجارب الآخرين، من خلال أداء حي داخل إطار مسرحي. يركّز كلام من لهب على التعبير الجماعي والتواصل مع الجمهور، حيث تتشكّل الليلة من خلال المشاعر الصادقة والتجارب الإنسانية المشتركة.
URL:https://cairospots.com/event/kalam-men-lahab-at-el-rihany-theater/
LOCATION:El Rihany Theater\, 17 Emad El-Deen\, Oraby\, Al Azbakeya\, Cairo Governorate\, Egypt
CATEGORIES:Comedy
ATTACH;FMTTYPE=image/jpeg:https://cairospots.com/wp-content/uploads/2026/01/xzzs-.jpg
END:VEVENT
BEGIN:VEVENT
DTSTART;TZID=UTC:20260113T080000
DTEND;TZID=UTC:20260114T000000
DTSTAMP:20260425T020820
CREATED:20260112T000425Z
LAST-MODIFIED:20260112T001012Z
UID:10000016-1768291200-1768348800@cairospots.com
SUMMARY:Komedy Koshk at Cairo Jazz Club 610
DESCRIPTION:This comedy night takes place on January 13 and brings together Mohamed Farghaly\, Paula Rizk\, Mazen Magdy\, and Abdelrahman Eid for a live stand up show. The performances revolve around everyday life\, relationships\, social situations\, and personal stories\, delivered through individual comedy sets in front of a live audience. The event is designed as a straightforward stand up comedy experience focused on humor drawn from real life rather than scripted or theatrical performance.
URL:https://cairospots.com/event/komedy-koshk/
LOCATION:Cairo Jazz Club 610\, CJC 610\, Al Guezira Plaza\, Sheikh Zayed 3755220 Giza Governorate
CATEGORIES:Comedy
ATTACH;FMTTYPE=image/jpeg:https://cairospots.com/wp-content/uploads/2026/01/dadd7956bd0154c5afbc11be8640d6c9.png.jpeg
END:VEVENT
BEGIN:VEVENT
DTSTART;TZID=UTC:20260116T200000
DTEND;TZID=UTC:20260116T230000
DTSTAMP:20260425T020820
CREATED:20260112T002350Z
LAST-MODIFIED:20260112T002350Z
UID:10000018-1768593600-1768604400@cairospots.com
SUMMARY:Roooka: Standup & Interactive Comedy Show
DESCRIPTION:This stand up comedy event takes place on January 16\, 2026\, at Hilton Cairo Grand Nile and marks the first solo live comedy show by Ramy Abdelhafez. The performance presents Abdelhafez in a full length stand up format following the popularity of his short form comedy content and online appearances. \nThe show features new material written specifically for the stage\, focusing on personal stories\, social observations\, and everyday experiences. This debut solo performance introduces Ramy Abdelhafez in a live stand up setting\, offering audiences the chance to experience his comedy beyond digital platforms in a single night live show.
URL:https://cairospots.com/event/roooka-standup-interactive-comedy-show/
LOCATION:Hilton Cairo Grand Nile\, Nile Corniche\, Old Cairo\, Cairo Governorate 11519\, Garden City\, Egypt
CATEGORIES:Comedy
ATTACH;FMTTYPE=image/jpeg:https://cairospots.com/wp-content/uploads/2026/01/697d4017aafe81938d281da2fd83623f.jpg
END:VEVENT
BEGIN:VEVENT
DTSTART;TZID=UTC:20260116T200000
DTEND;TZID=UTC:20260116T235900
DTSTAMP:20260425T020820
CREATED:20260112T013243Z
LAST-MODIFIED:20260117T064014Z
UID:10000021-1768593600-1768607940@cairospots.com
SUMMARY:Standup Comedy I’m just wondering by Walid Khairy at Kamelizer Sheikh Zayed
DESCRIPTION:Walid Khairy presents his first comedy special titled “I’m Just Wondering\,” featuring a live stand up performance built around scripted material and spontaneous audience interaction. The show combines prepared jokes with crowd work\, focusing on observations\, personal reflections\, and everyday situations delivered in a relaxed on stage style. \nيقدّم وليد خيري أول عرض كوميدي خاص به بعنوان «أنا بس بتساءل»، من خلال أداء ستاند أب كوميدي حي يجمع بين النكات المكتوبة والتفاعل المباشر مع الجمهور. يعتمد العرض على ملاحظات شخصية ومواقف حياتية يومية، مع أسلوب هادئ على المسرح وتفاعل عفوي مع الحضور.
URL:https://cairospots.com/event/standup-comedy-im-just-wondering/
LOCATION:Kamelizer\, Sheikh Zayed\, Majarrah\, by the mehwar road\, Sheikh Zayed.
CATEGORIES:Comedy
ATTACH;FMTTYPE=image/jpeg:https://cairospots.com/wp-content/uploads/2026/01/5ad09a65e783538df50ef5487ba3a65f.jpg
END:VEVENT
BEGIN:VEVENT
DTSTART;TZID=UTC:20260116T200000
DTEND;TZID=UTC:20260117T000000
DTSTAMP:20260425T020820
CREATED:20260113T080502Z
LAST-MODIFIED:20260116T054346Z
UID:10000024-1768593600-1768608000@cairospots.com
SUMMARY:Ain Gamal Vol. 56 By Omar El Gamal at Theatro Arkan
DESCRIPTION:Ain Gamal Vol. 56 takes place at Theatro Arkan as the interactive comedy show returns with a new edition. The performance is built around live audience participation\, improvised moments\, and stand up comedy\, continuing the format that has defined Ain Gamal as a crowd driven live entertainment experience. \nThis edition includes a special reveal that marks a new phase for Ain Gamal\, introduced during the show. The night focuses on direct interaction between performers and the audience\, with each performance shaped by real time responses and participation.
URL:https://cairospots.com/event/ain-gamal-vol-56-2/
LOCATION:Theatro Arkan\, Arkan Plaza\, Elsheikh Zayed\, Giza Governorate\, Sheikh Zayed\, Egypt
CATEGORIES:Comedy
ATTACH;FMTTYPE=image/jpeg:https://cairospots.com/wp-content/uploads/2026/01/c38290530b03f01b5ba66ff02f69917e.jpg
END:VEVENT
BEGIN:VEVENT
DTSTART;TZID=UTC:20260117T193000
DTEND;TZID=UTC:20260117T223000
DTSTAMP:20260425T020820
CREATED:20260113T074809Z
LAST-MODIFIED:20260117T085130Z
UID:10000042-1768678200-1768689000@cairospots.com
SUMMARY:Standup Comedy Open Mic at Kamelizer Sheikh Zayed
DESCRIPTION:Standup Comedy Open Mic takes place on January 17 at 7:30 PM at Kamelizer Spaces in Majarrah\, Sheikh Zayed. Organized by Al Hezb El Comedy\, the event is presented as an open mic comedy night focused on emerging stand up comedians. \nThe show features a lineup of new and upcoming performers\, including comedians taking the stage for the first time. The night is designed as a live testing ground for fresh material and new voices\, offering audiences a casual comedy experience centered on discovery and live performance. \nستاند أب كوميدي – أوبن مايك يُقام يوم ١٧ يناير في تمام الساعة ٧:٣٠ مساءً في Kamelizer Spaces بمنطقة مجرّة، الشيخ زايد، بتنظيم الحزب الكوميدي. يُقدَّم الحدث كأمسية أوبن مايك مخصّصة لاكتشاف مواهب جديدة في عالم الستاند أب. \nيشارك في العرض مجموعة من الكوميديين الصاعدين، من بينهم مؤدّون يصعدون على المسرح للمرة الأولى. تركّز الليلة على تجربة المواد الجديدة وتقديم أصوات كوميدية مختلفة ضمن أجواء خفيفة وتجربة كوميدية حية.
URL:https://cairospots.com/event/standup-comedy-open-mic-at-kamelizer-sheikh-zayed/
LOCATION:Kamelizer\, Sheikh Zayed\, Majarrah\, by the mehwar road\, Sheikh Zayed.
CATEGORIES:Comedy
ATTACH;FMTTYPE=image/jpeg:https://cairospots.com/wp-content/uploads/2026/01/4778bd42da910acc3c6efcf5fbd34ffd.jpg
END:VEVENT
BEGIN:VEVENT
DTSTART;TZID=UTC:20260118T190000
DTEND;TZID=UTC:20260118T210000
DTSTAMP:20260425T020820
CREATED:20260118T085446Z
LAST-MODIFIED:20260118T085446Z
UID:10001254-1768762800-1768770000@cairospots.com
SUMMARY:Lazeez Entertainment Live Comedy Show at El Sawy Culturewheel
DESCRIPTION:Lazeez Entertainment brings a live stand up comedy night to El Sawy Culturewheel featuring a lineup of some of Egypt’s most recognizable and rising comedians. The show delivers a mix of observational humor\, storytelling\, and sharp social commentary in an intimate theatre setting. \nThe lineup includes Shady Assaf\, Mos3ab\, Bogy\, Tich\, Hassan Hossam\, and Salma Kasem\, each bringing a distinct comedic style that reflects everyday life\, relationships\, and modern Egyptian culture. \nHosted at the Word Hall in Zamalek\, the event offers a focused live comedy experience where audience attention stays on performance and delivery\, with no filming or live streaming allowed. \nThis comedy night is ideal for audiences looking for a curated stand up experience at one of Cairo’s most established cultural venues.
URL:https://cairospots.com/event/lazeez-entertainment-live-comedy-show-at-el-sawy-culturewheel/
LOCATION:El Sawy Culturewheel\, End of\, 26th of July street\, Al Gabalayah\, Zamalek\, Cairo Governorate 4270110\, Zamalek
CATEGORIES:Comedy
ATTACH;FMTTYPE=image/jpeg:https://cairospots.com/wp-content/uploads/2026/01/thumb_25346_0_625_0_0_landscape-2.jpg
END:VEVENT
BEGIN:VEVENT
DTSTART;TZID=UTC:20260120T220000
DTEND;TZID=UTC:20260120T235900
DTSTAMP:20260425T020820
CREATED:20260115T192812Z
LAST-MODIFIED:20260119T082520Z
UID:10000812-1768946400-1768953540@cairospots.com
SUMMARY:Cairo Comedy Bunch Live at Cairo Jazz Club 610
DESCRIPTION:Cairo Comedy Bunch takes place on Tuesday\, January 20\, 2026\, at Cairo Jazz Club 610\, bringing together comedians from The Comedy Bunch and Cairo Comedy Club for a joint stand up comedy night. \nThe lineup features Ahmed ElHareedy\, Jimmy\, Gamal Ramzy\, and Abdelrahman Magdy\, presenting a mix of stand up\, storytelling\, and spontaneous crowd moments. The show focuses on everyday observations\, bold punchlines\, and live interaction\, offering a high energy comedy experience designed for shared laughs and an inclusive atmosphere.
URL:https://cairospots.com/event/cairo-comedy-bunch-live-at-cairo-jazz-club-610/
LOCATION:Cairo Jazz Club 610\, CJC 610\, Al Guezira Plaza\, Sheikh Zayed 3755220 Giza Governorate
CATEGORIES:Comedy
ATTACH;FMTTYPE=image/jpeg:https://cairospots.com/wp-content/uploads/2026/01/IMG_2829.jpeg
END:VEVENT
BEGIN:VEVENT
DTSTART;TZID=UTC:20260126T200000
DTEND;TZID=UTC:20260126T230000
DTSTAMP:20260425T020820
CREATED:20260117T094547Z
LAST-MODIFIED:20260119T074509Z
UID:10000843-1769457600-1769468400@cairospots.com
SUMMARY:Alaa El Sheikh at Boom Room Madinaty
DESCRIPTION:Alaa El Sheikh returns to Boom Room for a new night of live comedy on January 26 at the Open Air Mall in Madinaty. Following the strong response to the first show\, this second edition of his hit Playcrowd experience brings another round of sharp stand up comedy blended with spontaneous crowd work. \nThe show is built around direct interaction with the audience\, turning real time reactions into part of the performance. Expect fast paced humor\, improvisation\, and an unpredictable atmosphere where no two moments are the same. \nOrganized by Boom x Fada Boom Room\, this event offers a full comedy night experience in an open air setting\, designed for audiences looking for something lively\, engaging\, and genuinely funny.
URL:https://cairospots.com/event/alaa-el-sheikh-at-boom-room-madinaty/
LOCATION:Boom Room\, Open Air Mall\, parking Gate 3\, Madinaty\, Cairo\, Madinaty
CATEGORIES:Comedy
ATTACH;FMTTYPE=image/jpeg:https://cairospots.com/wp-content/uploads/2026/01/b11fc0f04c308569952bc9346f3edbed-2-2.jpg
END:VEVENT
BEGIN:VEVENT
DTSTART;TZID=UTC:20260127T210000
DTEND;TZID=UTC:20260127T235900
DTSTAMP:20260425T020820
CREATED:20260116T053807Z
LAST-MODIFIED:20260121T074744Z
UID:10000823-1769547600-1769558340@cairospots.com
SUMMARY:The Comedy Bunch Live at Cairo Jazz Club 610
DESCRIPTION:On January 27\, Cairo Jazz Club 610 hosts a full night of stand up comedy as The Comedy Bunch takes over the stage with four distinct comic voices and one shared goal: nonstop laughter. Starting at 8:00 PM\, the show brings together Khalid El Shoky\, Islam Amin\, Engy Hashem\, and Jimmy for a fast paced set that moves between sharp observations\, fearless honesty\, and unexpected punchlines. \nKhalid El Shoky turns everyday details into clever\, relatable humor\, while Jimmy delivers confident\, straight talking comedy rooted in life’s awkward truths. Islam Amin keeps the crowd guessing with smart twists and well timed surprises\, and Engy Hashem adds a bold\, playful edge that rounds out the night with high energy and strong presence. \nExpect a lively crowd\, quick transitions\, and a comedy experience that feels fresh from start to finish. Entry is strictly 21 plus\, valid ID and QR code required\, with door selection applied. Tickets are non refundable and non transferable.
URL:https://cairospots.com/event/the-comedy-bunch-at-cairo-jazz-club-610/
LOCATION:Cairo Jazz Club 610\, CJC 610\, Al Guezira Plaza\, Sheikh Zayed 3755220 Giza Governorate
CATEGORIES:Comedy
ATTACH;FMTTYPE=image/jpeg:https://cairospots.com/wp-content/uploads/2026/01/eb046731d5cd7d60339afb3914c5467c.png.jpg
END:VEVENT
BEGIN:VEVENT
DTSTART;TZID=UTC:20260129T200000
DTEND;TZID=UTC:20260129T210000
DTSTAMP:20260425T020820
CREATED:20260118T063421Z
LAST-MODIFIED:20260118T063421Z
UID:10000870-1769716800-1769720400@cairospots.com
SUMMARY:Stand Up Comedy Showcase at Room Garden City
DESCRIPTION:Get ready for a sharp\, fast paced night of stand up comedy featuring Jimmy\, Halawa\, and Kamtcho. This showcase brings three distinct comedic voices to the stage\, delivering unfiltered jokes\, unexpected punchlines\, and moments that will have you laughing and questioning what you just heard. \nDesigned as an intimate live comedy experience\, the night thrives on audience energy\, timing\, and bold humor. Whether you are a regular comedy fan or just looking for a fun night out\, this showcase promises a lively atmosphere and memorable performances. \nSeats are limited and tickets are non refundable.
URL:https://cairospots.com/event/stand-up-comedy-showcase-at-room-garden-city/
LOCATION:Room Garden City\, 10 Etehaad Al Mohamin\, Qasr El Nil\, Cairo Governorate 4272014\, Garden City
CATEGORIES:Comedy
ATTACH;FMTTYPE=image/jpeg:https://cairospots.com/wp-content/uploads/2026/01/IMG_1159-MohamedHalawa.jpeg.jpg
END:VEVENT
BEGIN:VEVENT
DTSTART;TZID=UTC:20260130T190000
DTEND;TZID=UTC:20260130T220000
DTSTAMP:20260425T020820
CREATED:20260117T145320Z
LAST-MODIFIED:20260117T145320Z
UID:10000847-1769799600-1769810400@cairospots.com
SUMMARY:The Trio Stand Up and Interactive Comedy Show at The Hive Mall
DESCRIPTION:The Trio Stand-Up & Interactive Comedy Show brings together three of Egypt’s most popular stand-up comedians for a night of live comedy built on sharp storytelling\, crowd interaction\, and unscripted moments. \nHeadlining the night are Salah Eladaly\, Waleed Abo Elmaged\, and Mahmoud Konafa\, each known for their distinct comedic style and strong connection with live audiences. The show also features a lineup of rising comedians\, adding fresh perspectives and new material throughout the night. \nExpect an interactive format where audience engagement plays a central role\, creating a dynamic experience that changes with every show. \nTaking place at The Hive Mall in Heliopolis\, the event offers an intimate setting designed for close-up comedy\, laughter\, and shared moments. \nA relaxed night of stand-up\, interaction\, and live entertainment.
URL:https://cairospots.com/event/the-trio-stand-up-and-interactive-comedy-show-at-the-hive-mall/
LOCATION:The Hive Mall\, Extension of El-Thawra Street\, Heliopolis\, Cairo Governorate\, Heliopolis
CATEGORIES:Comedy
ATTACH;FMTTYPE=image/jpeg:https://cairospots.com/wp-content/uploads/2026/01/834a6a7da32abd402162908e4ee96e23-2.jpg
END:VEVENT
BEGIN:VEVENT
DTSTART;TZID=UTC:20260130T210000
DTEND;TZID=UTC:20260130T230000
DTSTAMP:20260425T020820
CREATED:20260112T022048Z
LAST-MODIFIED:20260118T055453Z
UID:10000033-1769806800-1769814000@cairospots.com
SUMMARY:Ali Quandil: Crowd Work Comedy Show at Hilton Cairo Grand Nile
DESCRIPTION:Ali Quandil presents a live crowd work stand up comedy show on January 30\, 2026\, at 9:00 PM at the Hilton Cairo Grand Nile Theatre. Organized by CraftMedia 4\, the performance focuses on direct interaction with the audience\, with the show shaped in real time through spontaneous conversations and improvised comedy. \nThe night centers on unscripted moments\, audience driven humor\, and live stand up performance\, offering an intimate comedy experience where each show unfolds differently based on crowd participation. \nيقدّم علي قنديل عرض ستاند أب كوميدي تفاعلي يعتمد على الـ crowd work يوم ٣٠ يناير ٢٠٢٦ في تمام الساعة ٩:٠٠ مساءً على مسرح فندق هيلتون كايرو جراند نايل، بتنظيم CraftMedia 4. يعتمد العرض على التفاعل المباشر مع الجمهور، حيث يتشكّل الأداء لحظة بلحظة من خلال الحوار العفوي والكوميديا الارتجالية. \nيركّز العرض على المواقف غير المكتوبة، والكوميديا القائمة على مشاركة الحضور، ليقدّم تجربة ستاند أب حية تختلف في كل مرة بحسب تفاعل الجمهور.
URL:https://cairospots.com/event/ali-quandil-crowd-work-comedy-show/
LOCATION:Hilton Cairo Grand Nile\, Nile Corniche\, Old Cairo\, Cairo Governorate 11519\, Garden City\, Egypt
CATEGORIES:Comedy
ATTACH;FMTTYPE=image/jpeg:https://cairospots.com/wp-content/uploads/2026/01/sdwec.jpg
END:VEVENT
BEGIN:VEVENT
DTSTART;TZID=UTC:20260131T200000
DTEND;TZID=UTC:20260131T230000
DTSTAMP:20260425T020820
CREATED:20260130T184820Z
LAST-MODIFIED:20260131T131017Z
UID:10001809-1769889600-1769900400@cairospots.com
SUMMARY:Stand Up Comedy Open Mic at Consoleya Downtown
DESCRIPTION:Stand Up Comedy Open Mic returns on Friday\, January 30\, 2026\, at Consoleya Downtown for the first open mic night of the year\, organized by Al Hezb El Comedy. The event gives emerging comedians the chance to step on stage and perform stand up comedy\, many for the first time\, in a live audience setting. Expect a rotating lineup of new voices\, fresh material\, and unpredictable moments as performers test jokes\, build confidence\, and bring raw comedic energy to the mic. Running from the evening hours at Consoleya in Downtown Cairo\, the night offers a laid back comedy experience centered on discovery\, participation\, and live performance.
URL:https://cairospots.com/event/stand-up-comedy-open-mic-at-consoleya-downtown/
LOCATION:Consoleya\, 5 El-Fadl\, Bab Al Louq\, Abdeen\, Cairo Governorate 11513\, Downtown
CATEGORIES:Comedy
ATTACH;FMTTYPE=image/jpeg:https://cairospots.com/wp-content/uploads/2026/01/Event-Cover-41.jpg
END:VEVENT
BEGIN:VEVENT
DTSTART;TZID=UTC:20260131T210000
DTEND;TZID=UTC:20260131T235900
DTSTAMP:20260425T020820
CREATED:20260113T205125Z
LAST-MODIFIED:20260122T174010Z
UID:10000048-1769893200-1769903940@cairospots.com
SUMMARY:Eyad El Mogy: El Sabt El Momtaz at Hilton Cairo Grand Nile
DESCRIPTION:Eyad El Mogy brings his stand up comedy show El Sabt El Momtaz – The Last Dance to Hilton Cairo Grand Nile on January 31\, 2026\, at 9:00 PM. The live performance features Eyad El Mogy’s well known comedic style\, blending viral humor with real life observations in a full stage comedy show. \nيقدّم إياد الموجي عرض الستاند أب كوميدي السبت الممتاز – The Last Dance على مسرح هيلتون القاهرة جراند نايل يوم 31 يناير 2026 في تمام الساعة 9:00 مساءً. يعتمد العرض على أسلوب إياد الموجي الكوميدي المعروف، الذي يجمع بين المواقف اليومية والفكاهة التي حققت انتشاراً واسعاً على الإنترنت، في تجربة مسرحية مباشرة
URL:https://cairospots.com/event/eyad-el-mogy-el-sabt-el-momtaz-at-hilton-cairo-grand-nile/
LOCATION:Hilton Cairo Grand Nile\, Nile Corniche\, Old Cairo\, Cairo Governorate 11519\, Garden City\, Egypt
CATEGORIES:Comedy
ATTACH;FMTTYPE=image/jpeg:https://cairospots.com/wp-content/uploads/2026/01/IMG_2806.jpeg
END:VEVENT
END:VCALENDAR