BEGIN:VCALENDAR
VERSION:2.0
PRODID:-//Cairo Spots - ECPv6.15.20//NONSGML v1.0//EN
CALSCALE:GREGORIAN
METHOD:PUBLISH
X-ORIGINAL-URL:https://cairospots.com
X-WR-CALDESC:Events for Cairo Spots
REFRESH-INTERVAL;VALUE=DURATION:PT1H
X-Robots-Tag:noindex
X-PUBLISHED-TTL:PT1H
BEGIN:VTIMEZONE
TZID:UTC
BEGIN:STANDARD
TZOFFSETFROM:+0000
TZOFFSETTO:+0000
TZNAME:UTC
DTSTART:20250101T000000
END:STANDARD
END:VTIMEZONE
BEGIN:VEVENT
DTSTART;TZID=UTC:20260428T200000
DTEND;TZID=UTC:20260428T233000
DTSTAMP:20260424T200733
CREATED:20260421T183457Z
LAST-MODIFIED:20260421T183457Z
UID:10002030-1777406400-1777419000@cairospots.com
SUMMARY:The Comedy Bunch
DESCRIPTION:EVENT DESCRIPTION\nLaugh your night away with The Comedy Bunch! Omar Kint delivers his signature observational humor\, turning everyday situations into sharp\, relatable punchlines. Jimmy brings high-energy delivery and Hareedy rounds out the night with bold\, expressive storytelling and a stage presence that fills the room with echoes of humour\, with a little musical improv to make a funny night even brighter! Join us on April 28th!
URL:https://cairospots.com/event/the-comedy-bunch/
LOCATION:Cairo Jazz Club 610\, CJC 610\, Al Guezira Plaza\, Sheikh Zayed 3755220 Giza Governorate
CATEGORIES:Comedy
ATTACH;FMTTYPE=image/jpeg:https://cairospots.com/wp-content/uploads/2026/04/IMG_3561.jpeg
END:VEVENT
END:VCALENDAR