BEGIN:VCALENDAR
VERSION:2.0
PRODID:-//Cairo Spots - ECPv6.15.20//NONSGML v1.0//EN
CALSCALE:GREGORIAN
METHOD:PUBLISH
X-ORIGINAL-URL:https://cairospots.com
X-WR-CALDESC:Events for Cairo Spots
REFRESH-INTERVAL;VALUE=DURATION:PT1H
X-Robots-Tag:noindex
X-PUBLISHED-TTL:PT1H
BEGIN:VTIMEZONE
TZID:UTC
BEGIN:STANDARD
TZOFFSETFROM:+0000
TZOFFSETTO:+0000
TZNAME:UTC
DTSTART:20250101T000000
END:STANDARD
END:VTIMEZONE
BEGIN:VEVENT
DTSTART;TZID=UTC:20260213T200000
DTEND;TZID=UTC:20260213T233000
DTSTAMP:20260425T040116
CREATED:20260130T173544Z
LAST-MODIFIED:20260130T173544Z
UID:10001799-1771012800-1771025400@cairospots.com
SUMMARY:Ahmed Khairy Interactive Comedy Show “2ool w Ba3ba3” at El Rihany Theater
DESCRIPTION:Ahmed Khairy brings his interactive comedy show “2ool w Ba3ba3” to El Rihany Theater on Thursday\, February 13 at 8:00 PM\, presented by Sokseh. This live comedy experience breaks the traditional stage barrier and places the audience at the center of the show\, inviting them to speak up\, share personal stories\, joke\, play\, and engage directly with the performance. Built around real interaction and spontaneous moments\, the show creates a space for honest expression\, shared laughter\, and participation\, offering a format that goes beyond standard stand up comedy and delivers a fresh\, audience driven night at El Rihany Theater.
URL:https://cairospots.com/event/ahmed-khairy-interactive-comedy-show-2ool-w-ba3ba3-at-el-rihany-theater/
LOCATION:El Rihany Theater\, 17 Emad El-Deen\, Oraby\, Al Azbakeya\, Cairo Governorate\, Egypt
CATEGORIES:Comedy
ATTACH;FMTTYPE=image/jpeg:https://cairospots.com/wp-content/uploads/2026/01/Event-Cover-30.jpg
END:VEVENT
BEGIN:VEVENT
DTSTART;TZID=UTC:20260214T200000
DTEND;TZID=UTC:20260214T210000
DTSTAMP:20260425T040116
CREATED:20260131T154443Z
LAST-MODIFIED:20260131T154443Z
UID:10001858-1771099200-1771102800@cairospots.com
SUMMARY:Stand Up Comedy Showcase at Room New Cairo
DESCRIPTION:Stand Up Comedy Showcase hits Room Art Space at The Spot Mall\, New Cairo on Saturday\, February 14\, 2026. The show runs from 8:00 PM to 10:00 PM and brings together four comedians on one stage for a sharp\, fast paced night of stand up. Expect bold jokes\, unexpected punchlines\, and the kind of laughs that make you stop and think “did they just say that”. The showcase features Mohamed Halawa\, Sin Dee\, Bernadette\, and Ibrahim Seyam\, delivering a mix of perspectives and styles in an intimate live setting. \nRules & Info\n	•	Ticket price: 350 EGP\n	•	Seats are limited\n	•	Tickets are non refundable\n	•	Tickets can be purchased from the branch or online via https://eventyard.org/product/14-feb-standup-comedy/
URL:https://cairospots.com/event/stand-up-comedy-showcase-at-room-new-cairo/
LOCATION:Room New Cairo\, El-Obour Square Front of Gate No.4 A.U.C South Investors\, Zizinia\, New Cairo 1\, Cairo Governorate 11835\, New Cairo
CATEGORIES:Comedy
ATTACH;FMTTYPE=image/jpeg:https://cairospots.com/wp-content/uploads/2026/01/Event-Cover-81.jpg
END:VEVENT
BEGIN:VEVENT
DTSTART;TZID=UTC:20260214T200000
DTEND;TZID=UTC:20260214T210000
DTSTAMP:20260425T040116
CREATED:20260131T155805Z
LAST-MODIFIED:20260131T155805Z
UID:10001869-1771099200-1771102800@cairospots.com
SUMMARY:The Finnish Experience on Valentine’s Day at Room Garden City
DESCRIPTION:A special Valentine’s Day edition of The Finnish Experience takes place on Saturday\, February 14\, 2026\, at Room Art Space in Garden City\, Etehaad Al Mohamin\, Cairo. Doors open at 7:30 PM\, with the show running from 8:00 PM to 9:00 PM. This is a fresh\, sold out concept returning by popular demand\, offering a different form of comedy known as “Hekyokomedii\,” created and performed by Hossam El Sokary. The show blends improvised comedy with storytelling in an interactive format where the audience takes part\, laughing intelligently while exploring different cultures with warmth\, humor\, and depth through a personal journey in search of love. \nThe first two editions of The Finnish Experience sold out within hours at E&D Maadi and Nahda Nasibian Theatre. Now\, the show returns to Room Art Space Garden City\, perfectly timed for Valentine’s Day. \nHossam El Sokary is a writer and media figure known for his satirical work\, with articles published in Al Shorouk\, Al Masry Al Youm\, and Al Manassa. He ran BBC Arabic for years\, created and presented some of its most well known TV and radio programs\, headed Yahoo Middle East platforms\, and worked as a media communications consultant for international organizations. He recently shifted his focus to stand up comedy as a form of cultural and social expression\, using “Hekyokomedii” to offer audiences more than entertainment\, a thoughtful and humorous window onto the world. \nRules & Info\n	•	Doors open at 7:30 PM\n	•	Ticket price: 300 EGP\n	•	Tickets are non refundable
URL:https://cairospots.com/event/the-finnish-experience-on-valentines-day-at-room-garden-city/
LOCATION:Room Garden City\, 10 Etehaad Al Mohamin\, Qasr El Nil\, Cairo Governorate 4272014\, Garden City
CATEGORIES:Comedy
ATTACH;FMTTYPE=image/jpeg:https://cairospots.com/wp-content/uploads/2026/01/Event-Cover-85.jpg
END:VEVENT
BEGIN:VEVENT
DTSTART;TZID=UTC:20260214T210000
DTEND;TZID=UTC:20260214T233000
DTSTAMP:20260425T040116
CREATED:20260208T153813Z
LAST-MODIFIED:20260208T153813Z
UID:10001912-1771102800-1771111800@cairospots.com
SUMMARY:Omar El Gamal Live at Boom Room This Valentine’s
DESCRIPTION:Omar El Gamal takes the stage live at Boom Room in Open Air Mall Madinaty on Friday\, February 14. Doors open at 8:00 PM\, with the show starting at 9:00 PM. Ain Gamal is an interactive comedy show where the audience is part of the experience\, blending improvisation\, crowd interaction\, and relatable everyday stories. Organized by Boom Room in collaboration with Fada\, Kamikaze\, and Dot Comedy\, the night offers a different kind of Valentine’s Day outing with limited tickets available.
URL:https://cairospots.com/event/omar-el-gamal-live-at-boom-room-this-valentines/
LOCATION:Boom Room\, Open Air Mall\, parking Gate 3\, Madinaty\, Cairo\, Madinaty
CATEGORIES:Comedy
ATTACH;FMTTYPE=image/jpeg:https://cairospots.com/wp-content/uploads/2026/02/Event-Cover-22.jpg
END:VEVENT
BEGIN:VEVENT
DTSTART;TZID=UTC:20260214T220000
DTEND;TZID=UTC:20260214T235900
DTSTAMP:20260425T040116
CREATED:20260117T151422Z
LAST-MODIFIED:20260119T074336Z
UID:10000849-1771106400-1771113540@cairospots.com
SUMMARY:Mina Nader Live at Grand Tiba Theatre
DESCRIPTION:Mina Nader returns to the stage with a brand new interactive comedy show\, specially presented on Valentine’s Day at Grand Tiba Theatre. Known for his sharp observations and direct connection with the audience\, Mina delivers a performance built on real time interaction\, spontaneous moments\, and crowd driven humor. \nThe show blends stand up comedy with audience participation\, creating a dynamic experience where no two performances are the same. Mina’s ability to read the room and turn everyday situations into punchlines makes this night both personal and unpredictable. \nTaking place on February 14\, the show offers a unique Valentine’s Day outing\, whether you are coming with friends or enjoying the night solo. Expect a high energy performance\, fresh material\, and a full evening of laughter at one of Cairo’s established theater venues.
URL:https://cairospots.com/event/mina-nader-live-at-grand-tiba-theatre/
LOCATION:Grand Tiba Theatre\, Teeba Mall\, 75 El-Nasr Rd\, Al Manteqah Al Oula\, Nasr City\, Cairo Governorate 4450232\, Nasr City
CATEGORIES:Comedy
ATTACH;FMTTYPE=image/jpeg:https://cairospots.com/wp-content/uploads/2026/01/c660a5bff5145847cf2c79f69685d465.png.jpeg
END:VEVENT
BEGIN:VEVENT
DTSTART;TZID=UTC:20260215T200000
DTEND;TZID=UTC:20260215T210000
DTSTAMP:20260425T040116
CREATED:20260202T155310Z
LAST-MODIFIED:20260202T155310Z
UID:10001878-1771185600-1771189200@cairospots.com
SUMMARY:Noss ien Comedy Special at Room Garden City
DESCRIPTION:Noss ien Comedy Special brings a relaxed and intimate comedy night to Room Art Space in Garden City. The show features Ahmed Elsharkawy with a stand up comedy performance blended with a live music set\, alongside Mina Selim delivering a sharp\, fast paced\, and witty comedy performance. The night is designed to be casual\, fun\, and audience friendly\, offering a laid back atmosphere with strong live energy. Seating is limited\, creating a close up experience between performers and the crowd. Doors open at 7:30 PM\, with the show starting shortly after.
URL:https://cairospots.com/event/noss-ien-comedy-special-at-room-garden-city/
LOCATION:Room Garden City\, 10 Etehaad Al Mohamin\, Qasr El Nil\, Cairo Governorate 4272014\, Garden City
CATEGORIES:Comedy
ATTACH;FMTTYPE=image/jpeg:https://cairospots.com/wp-content/uploads/2026/02/Event-Cover-95.jpg
END:VEVENT
BEGIN:VEVENT
DTSTART;TZID=UTC:20260227T210000
DTEND;TZID=UTC:20260227T233000
DTSTAMP:20260425T040116
CREATED:20260216T113207Z
LAST-MODIFIED:20260216T113236Z
UID:10001933-1772226000-1772235000@cairospots.com
SUMMARY:Konafa ADHD Interactive Comedy Show at El Rihany Theater
DESCRIPTION:Konafa brings his ADHD Interactive Comedy Show to El Rihany Theater on February 27 at 9 PM for a night of fast paced\, unpredictable comedy. \nThis is not a traditional stand up set. The show blends storytelling\, improv\, and live audience interaction into a chaotic and hilariously relatable ride through the scattered world of ADHD. Expect sharp observations\, spontaneous moments\, and crowd driven twists that keep the energy high from start to finish. \nOrganized by Sokseh\, the show promises a different kind of comedy experience where the audience is part of the action\, not just watching it.
URL:https://cairospots.com/event/konafa-adhd-interactive-comedy-show-at-el-rihany-theater/
LOCATION:El Rihany Theater\, 17 Emad El-Deen\, Oraby\, Al Azbakeya\, Cairo Governorate\, Egypt
CATEGORIES:Comedy
ATTACH;FMTTYPE=image/jpeg:https://cairospots.com/wp-content/uploads/2026/02/Event-Cover-42.jpg
END:VEVENT
BEGIN:VEVENT
DTSTART;TZID=UTC:20260421T170000
DTEND;TZID=UTC:20260421T220000
DTSTAMP:20260425T040116
CREATED:20260415T193112Z
LAST-MODIFIED:20260415T193112Z
UID:10001971-1776790800-1776808800@cairospots.com
SUMMARY:WKND CMDY
DESCRIPTION:WKND Comedy is back with sharp\, observant\, and effortlessly in tune comic moments with the rhythm of everyday life. Featuring Hossam Khaled\, Kamatcho\, and Elias Sadkni\, three voices shaping the current comedy circuit with distinct styles of humour with social commentary\, quick-witted storytelling\, and crowd-driven improvisation. Expect funny tension and release that make life seem not so serious\, so make your smile very wide on April 21! \nHouse Rules:\n-Minimum entry age is 21+\n-Physical valid ID to be checked on door.\n-Violent behavior will not be tolerated.\n-Harassment of any kind will not be tolerated.\n-Illegal substances are not permitted.\n-Sunglasses are not permitted.\n-Slippers are not permitted.\n-Entry is for valid QR code holders only.\n-Door selection applies.\n-Tickets cannot be refunded or transferred once payment is made.
URL:https://cairospots.com/event/wknd-cmdy/
LOCATION:Cairo Jazz Club 610\, CJC 610\, Al Guezira Plaza\, Sheikh Zayed 3755220 Giza Governorate
CATEGORIES:Comedy
ATTACH;FMTTYPE=image/jpeg:https://cairospots.com/wp-content/uploads/2026/04/IMG_3489.jpeg
END:VEVENT
BEGIN:VEVENT
DTSTART;TZID=UTC:20260424T200000
DTEND;TZID=UTC:20260424T220000
DTSTAMP:20260425T040116
CREATED:20260415T202421Z
LAST-MODIFIED:20260415T202421Z
UID:10001977-1777060800-1777068000@cairospots.com
SUMMARY:Ain Gamal X Al Manara
DESCRIPTION:Get ready for a massive night of laughter with Omar El Gamal at Al Manara Main Hall\, Vol. 62 is his biggest show yet packed with sharp humor\, relatable moments\, and nonstop laughs. From crowd-favorite jokes to all-new material\, this is a comedy night you don’t want to miss.
URL:https://cairospots.com/event/ain-gamal-x-al-manara/
LOCATION:Al Manara Main Hall
CATEGORIES:Comedy
ATTACH;FMTTYPE=image/jpeg:https://cairospots.com/wp-content/uploads/2026/04/IMG_3342.jpeg
END:VEVENT
BEGIN:VEVENT
DTSTART;TZID=UTC:20260425T200000
DTEND;TZID=UTC:20260425T233000
DTSTAMP:20260425T040116
CREATED:20260419T171244Z
LAST-MODIFIED:20260419T171244Z
UID:10001996-1777147200-1777159800@cairospots.com
SUMMARY:Fresh Out The Academy- Intro To Stand Up Comedy Graduation
DESCRIPTION:Al Hezb El Comedy is back with its showcase of our Intro to Stand Up Comedy Graduation event live at Kamelizer Spaces\, District 5 on Saturday April 25th. Come check out our brand new talents fresh out of our Academy. Five new talents that will leaving laughing all night long. Hosted by: Hashem El Garhy.
URL:https://cairospots.com/event/fresh-out-the-academy-intro-to-stand-up-comedy-graduation/
LOCATION:District 5\, Cairo Governorate Desert\, Cairo Governorate 4064051\, New Cairo
CATEGORIES:Comedy
ATTACH;FMTTYPE=image/jpeg:https://cairospots.com/wp-content/uploads/2026/04/IMG_3526.jpeg
END:VEVENT
BEGIN:VEVENT
DTSTART;TZID=UTC:20260427T190000
DTEND;TZID=UTC:20260427T220000
DTSTAMP:20260425T040116
CREATED:20260415T202933Z
LAST-MODIFIED:20260415T202933Z
UID:10001979-1777316400-1777327200@cairospots.com
SUMMARY:El Khatba X Boom Room
DESCRIPTION:El Khataba is a live interactive comedy dating show full of audience games\, funny questions\, and unexpected moments. \nJoin us at Boom Room\, Madinaty\, on Monday\, April 27th at 7 PM for a night of laughs\, dating stories\, and playful challenges on stage.
URL:https://cairospots.com/event/el-khatba-x-boom-room/
LOCATION:Boom Room\, Open Air Mall\, Madinaty
CATEGORIES:Comedy
ATTACH;FMTTYPE=image/jpeg:https://cairospots.com/wp-content/uploads/2026/04/IMG_3425.jpeg
END:VEVENT
BEGIN:VEVENT
DTSTART;TZID=UTC:20260428T200000
DTEND;TZID=UTC:20260428T233000
DTSTAMP:20260425T040116
CREATED:20260421T183457Z
LAST-MODIFIED:20260421T183457Z
UID:10002030-1777406400-1777419000@cairospots.com
SUMMARY:The Comedy Bunch
DESCRIPTION:EVENT DESCRIPTION\nLaugh your night away with The Comedy Bunch! Omar Kint delivers his signature observational humor\, turning everyday situations into sharp\, relatable punchlines. Jimmy brings high-energy delivery and Hareedy rounds out the night with bold\, expressive storytelling and a stage presence that fills the room with echoes of humour\, with a little musical improv to make a funny night even brighter! Join us on April 28th!
URL:https://cairospots.com/event/the-comedy-bunch/
LOCATION:Cairo Jazz Club 610\, CJC 610\, Al Guezira Plaza\, Sheikh Zayed 3755220 Giza Governorate
CATEGORIES:Comedy
ATTACH;FMTTYPE=image/jpeg:https://cairospots.com/wp-content/uploads/2026/04/IMG_3561.jpeg
END:VEVENT
BEGIN:VEVENT
DTSTART;TZID=UTC:20260430T210000
DTEND;TZID=UTC:20260430T233000
DTSTAMP:20260425T040116
CREATED:20260420T204629Z
LAST-MODIFIED:20260420T204629Z
UID:10002020-1777582800-1777591800@cairospots.com
SUMMARY:The Goats X Rihany
DESCRIPTION:After the huge success of Volume One\, they’re back to take over Rihany stage once again on April 30. They can’t wait to see you all — bringing fresh material\, brand new jokes\, and a whole new vibe.
URL:https://cairospots.com/event/the-goats-x-rihany/
LOCATION:El Rihany Theater\, 17 Emad El-Deen\, Oraby\, Al Azbakeya\, Cairo Governorate\, Egypt
CATEGORIES:Comedy
ATTACH;FMTTYPE=image/jpeg:https://cairospots.com/wp-content/uploads/2026/04/IMG_3341.jpeg
END:VEVENT
BEGIN:VEVENT
DTSTART;TZID=UTC:20260508T193000
DTEND;TZID=UTC:20260508T213000
DTSTAMP:20260425T040116
CREATED:20260415T210106Z
LAST-MODIFIED:20260415T210106Z
UID:10001990-1778268600-1778275800@cairospots.com
SUMMARY:Keda Effeh Presents Mina Nader Interactive Comedy Show
DESCRIPTION:Step into a night where nostalgia meets laughter at Keda Effeh Comedy Nights Featuring Mina Nader interactive comedy show. Keda Effeh is a stand-up comedy experience inspired by the timeless charm of classic comedy films and the unforgettable lines “Effehat” we all grew up quoting. From iconic movie moments to everyday relatable situations\, Mina Nader’s interactive show transforms shared memories into hilarious\, live stand-up performances that connect deeply with the audience.
URL:https://cairospots.com/event/keda-effeh-presents-mina-nader-interactive-comedy-show/
LOCATION:Ewart Memorial Hall\, AUC Tahrir Square
CATEGORIES:Comedy
ATTACH;FMTTYPE=image/jpeg:https://cairospots.com/wp-content/uploads/2026/04/IMG_3508.jpeg
END:VEVENT
BEGIN:VEVENT
DTSTART;TZID=UTC:20260516T193000
DTEND;TZID=UTC:20260516T233000
DTSTAMP:20260425T040116
CREATED:20260420T211339Z
LAST-MODIFIED:20260420T211339Z
UID:10002023-1778959800-1778974200@cairospots.com
SUMMARY:Bazet Menny
DESCRIPTION:Not everything gets fixed… some things stay messed up—and that’s the funniest part. \nWaleed El Moghazy debuts his FIRST Standup Special “Bazet Menny” to Theatro stage. \nA night of chaos you’ll definitely relate to.. \nSaturday – May 16– Theatro Arkan \nGet ready to laugh at everything that went wrong\, Book your tickets now before it’s sold out.
URL:https://cairospots.com/event/bazet-menny/
LOCATION:Theatro Arkan\, Arkan Plaza\, Elsheikh Zayed\, Giza Governorate\, Sheikh Zayed\, Egypt
CATEGORIES:Comedy
ATTACH;FMTTYPE=image/jpeg:https://cairospots.com/wp-content/uploads/2026/04/IMG_3554.jpeg
END:VEVENT
END:VCALENDAR