BEGIN:VCALENDAR
VERSION:2.0
PRODID:-//Cairo Spots - ECPv6.15.20//NONSGML v1.0//EN
CALSCALE:GREGORIAN
METHOD:PUBLISH
X-ORIGINAL-URL:https://cairospots.com
X-WR-CALDESC:Events for Cairo Spots
REFRESH-INTERVAL;VALUE=DURATION:PT1H
X-Robots-Tag:noindex
X-PUBLISHED-TTL:PT1H
BEGIN:VTIMEZONE
TZID:UTC
BEGIN:STANDARD
TZOFFSETFROM:+0000
TZOFFSETTO:+0000
TZNAME:UTC
DTSTART:20250101T000000
END:STANDARD
END:VTIMEZONE
BEGIN:VEVENT
DTSTART;TZID=UTC:20261024T190000
DTEND;TZID=UTC:20261024T233000
DTSTAMP:20260425T034234
CREATED:20260218T220435Z
LAST-MODIFIED:20260218T220801Z
UID:10001934-1792868400-1792884600@cairospots.com
SUMMARY:BLUE 25th Anniversary Tour Live in New Capital Cairo
DESCRIPTION:Blue are bringing their 25th Anniversary Tour to New Capital Cairo on October 24 at 7 PM. \nOrganized by ACUD and Live Nation\, the concert celebrates 25 years of global hits including All Rise\, One Love\, and Sorry Seems To Be The Hardest Word. Fans can expect a nostalgic\, high energy show packed with the band’s biggest classics.
URL:https://cairospots.com/event/blue-25th-anniversary-tour-live-in-new-capital-cairo/
LOCATION:New Capital\, New Administrative Capital\, Cairo Governorate Desert\, Cairo Governorate\, New Capital
CATEGORIES:Concert
ATTACH;FMTTYPE=image/jpeg:https://cairospots.com/wp-content/uploads/2026/02/Event-Cover-43.jpg
END:VEVENT
BEGIN:VEVENT
DTSTART;TZID=UTC:20261128T170000
DTEND;TZID=UTC:20261128T233000
DTSTAMP:20260425T034234
CREATED:20260223T144350Z
LAST-MODIFIED:20260329T073340Z
UID:10001941-1795885200-1795908600@cairospots.com
SUMMARY:Shakira Live at the Pyramids of Giza 2026
DESCRIPTION:On April 7\, 2026 at 5 PM\, Shakira performs live at Pyramids of Giza as part of her Las Mujeres Ya No Lloran World Tour. Presented by Venture Lifestyle\, the global icon brings her latest album to one of the world’s most historic landmarks for a 6 hour concert experience. \nHouse Rules:\nNo on door tickets. No re entry. Minimum age 21 plus. Couples and mixed groups only. Violent behavior will not be tolerated. Door selection applies. Tickets are non refundable and non exchangeable.
URL:https://cairospots.com/event/shakira-live-at-the-pyramids-of-giza-2026/
LOCATION:Pyramids Of Giza\, Al Haram\, Nazlet El-Semman\, Al Haram\, Giza Governorate 3512201\, Giza
CATEGORIES:Concert
ATTACH;FMTTYPE=image/jpeg:https://cairospots.com/wp-content/uploads/2026/02/Event-Cover-52.jpg
END:VEVENT
END:VCALENDAR