BEGIN:VCALENDAR
VERSION:2.0
PRODID:-//Cairo Spots - ECPv6.15.20//NONSGML v1.0//EN
CALSCALE:GREGORIAN
METHOD:PUBLISH
X-ORIGINAL-URL:https://cairospots.com
X-WR-CALDESC:Events for Cairo Spots
REFRESH-INTERVAL;VALUE=DURATION:PT1H
X-Robots-Tag:noindex
X-PUBLISHED-TTL:PT1H
BEGIN:VTIMEZONE
TZID:UTC
BEGIN:STANDARD
TZOFFSETFROM:+0000
TZOFFSETTO:+0000
TZNAME:UTC
DTSTART:20250101T000000
END:STANDARD
END:VTIMEZONE
BEGIN:VEVENT
DTSTART;TZID=UTC:20260223T220000
DTEND;TZID=UTC:20260223T233000
DTSTAMP:20260425T021809
CREATED:20260220T140128Z
LAST-MODIFIED:20260220T140128Z
UID:10001936-1771884000-1771889400@cairospots.com
SUMMARY:Laylina Ramadan Nights Opening at Mohamed Ali Palace Ft. Khaled Selim
DESCRIPTION:The opening night will feature a live performance by Khaled Selim at 10:00 PM\, marking the start of a series of Ramadan events blending music\, atmosphere\, and historic surroundings. Organizers have also teased a special surprise for guests attending the grand launch. \nLaylina Ramadan Nights officially launches on February 23\, 2026\, at Mohamed Ali Palace\, introducing a new Ramadan evening destination set within one of Cairo’s most iconic heritage landmarks.
URL:https://cairospots.com/event/laylina-ramadan-nights-opening-at-mohamed-ali-palace-ft-khaled-selim/
LOCATION:Layalina Ramadan Tent\, 468W+96W\, Shubra\, Shubra Al Kheimah\, Shubra El Kheima 1\, Al-Qalyubia Governorate\, Downtown
CATEGORIES:Concert
ATTACH;FMTTYPE=image/jpeg:https://cairospots.com/wp-content/uploads/2026/02/Event-Cover-46.jpg
END:VEVENT
BEGIN:VEVENT
DTSTART;TZID=UTC:20260224T210000
DTEND;TZID=UTC:20260224T233000
DTSTAMP:20260425T021809
CREATED:20260131T144515Z
LAST-MODIFIED:20260131T144515Z
UID:10001835-1771966800-1771975800@cairospots.com
SUMMARY:Folklorita Live at El Sawy Culturewheel
DESCRIPTION:Folklorita take the stage on Tuesday February 24 from 9:00 PM to 11:30 PM at Wisdom Hall in Zamalek. The performance celebrates Egyptian folkloric music and vocal traditions through a live ensemble presentation in a seated indoor concert setting at El Sawy Culturewheel. \nEntry Rules\n• Children aged 6 and above require a full ticket\n• Children under 6 are not permitted except for children specific events\n• Seating is according to the seat number on the ticket\n• Tickets are non refundable and non exchangeable\n• Photography and live streaming are not permitted\n• Smoking is not permitted
URL:https://cairospots.com/event/folklorita-live-at-el-sawy-culturewheel/
LOCATION:El Sawy Culturewheel\, End of\, 26th of July street\, Al Gabalayah\, Zamalek\, Cairo Governorate 4270110\, Zamalek
CATEGORIES:Concert
ATTACH;FMTTYPE=image/jpeg:https://cairospots.com/wp-content/uploads/2026/01/Event-Cover-65.jpg
END:VEVENT
BEGIN:VEVENT
DTSTART;TZID=UTC:20260228T210000
DTEND;TZID=UTC:20260228T233000
DTSTAMP:20260425T021809
CREATED:20260131T144822Z
LAST-MODIFIED:20260131T144822Z
UID:10001836-1772312400-1772321400@cairospots.com
SUMMARY:Cocktail Band Live at El Sawy Culturewheel
DESCRIPTION:Cocktail Band take the stage at El Sawy Culturewheel for a nostalgic live concert blending Arabic and international classics.\nThe performance takes place on Saturday 28 February\, from 9:00 PM to 11:30 PM\, at Wisdom Hall\, El Sawy Culturewheel\, Zamalek\, in a seated concert setting. \nEntry Rules\n• Children aged 6 and above require a full ticket\n• Children under 6 are not permitted except for children specific events\n• Seating is according to the seat number on the ticket\n• Tickets are non refundable and non exchangeable\n• Photography and live streaming are not permitted\n• Smoking is not permitted
URL:https://cairospots.com/event/cocktail-band-live-at-el-sawy-culturewheel/
LOCATION:El Sawy Culturewheel\, End of\, 26th of July street\, Al Gabalayah\, Zamalek\, Cairo Governorate 4270110\, Zamalek
CATEGORIES:Concert
ATTACH;FMTTYPE=image/jpeg:https://cairospots.com/wp-content/uploads/2026/01/Event-Cover-66.jpg
END:VEVENT
BEGIN:VEVENT
DTSTART;TZID=UTC:20260303T220000
DTEND;TZID=UTC:20260303T233000
DTSTAMP:20260425T021809
CREATED:20260223T130558Z
LAST-MODIFIED:20260223T130558Z
UID:10001940-1772575200-1772580600@cairospots.com
SUMMARY:Angham at The Grand Egyptian Museum
DESCRIPTION:Ahl Masr Burn Hospital presents One Night\, One Light on March 3\, 2026 at 10 PM at Almashrafia Tent inside the Grand Egyptian Museum. The Sohour features a live performance by Angham\, with a special appearance by Hisham Kharma\, plus an art exhibition and silent auction supporting Phase Two Expansion of the hospital.
URL:https://cairospots.com/event/angham-at-the-grand-egyptian-museum/
LOCATION:The Grand Egyptian Museum\, Cairo - Alexandria Desert Rd\, Kafr Nassar\, Al Haram\, Giza Governorate 3513204\, Giza\, Egypt
CATEGORIES:Concert
ATTACH;FMTTYPE=image/jpeg:https://cairospots.com/wp-content/uploads/2026/02/Event-Cover-51.jpg
END:VEVENT
BEGIN:VEVENT
DTSTART;TZID=UTC:20260305T220000
DTEND;TZID=UTC:20260305T233000
DTSTAMP:20260425T021809
CREATED:20260222T163757Z
LAST-MODIFIED:20260222T163757Z
UID:10001937-1772748000-1772753400@cairospots.com
SUMMARY:Emdan Elnour Gazaga Live at Boom Room Madinaty
DESCRIPTION:Gazaga brings a special Ramadan night to Boom Room at Open Air Mall\, Madinaty on March 5 at 10:00 PM. Performing in Madinaty for the first time\, the band is set to deliver a live set featuring their most loved songs in an open air Ramadan atmosphere. The event is organized by Boom Room in collaboration with Fada.
URL:https://cairospots.com/event/emdan-elnour-gazaga-live-at-boom-room-madinaty/
LOCATION:Boom Room\, Open Air Mall\, parking Gate 3\, Madinaty\, Cairo\, Madinaty
CATEGORIES:Concert
ATTACH;FMTTYPE=image/jpeg:https://cairospots.com/wp-content/uploads/2026/02/Event-Cover-48.jpg
END:VEVENT
BEGIN:VEVENT
DTSTART;TZID=UTC:20260307T220000
DTEND;TZID=UTC:20260307T233000
DTSTAMP:20260425T021809
CREATED:20260222T164918Z
LAST-MODIFIED:20260222T164918Z
UID:10001938-1772920800-1772926200@cairospots.com
SUMMARY:El Leila El Kebira Live at Boom Room Madinaty
DESCRIPTION:El Leila El Kebira\, Egypt’s iconic puppet performance\, takes the stage at Boom Room\, Open Air Mall\, Madinaty on March 7 at 10:00 PM. Organized by Boom Room in collaboration with Fada\, the show brings the beloved characters and songs to a live Ramadan setting for the first time at the venue. The night features live music\, stage performances\, and a family friendly atmosphere inspired by the spirit of Ramadan.
URL:https://cairospots.com/event/el-leila-el-kebira-live-at-boom-room-madinaty/
LOCATION:Boom Room\, Open Air Mall\, parking Gate 3\, Madinaty\, Cairo\, Madinaty
CATEGORIES:Concert
ATTACH;FMTTYPE=image/jpeg:https://cairospots.com/wp-content/uploads/2026/02/Event-Cover-49.jpg
END:VEVENT
BEGIN:VEVENT
DTSTART;TZID=UTC:20260308T220000
DTEND;TZID=UTC:20260308T233000
DTSTAMP:20260425T021809
CREATED:20260222T165234Z
LAST-MODIFIED:20260222T165234Z
UID:10001939-1773007200-1773012600@cairospots.com
SUMMARY:Teseenaty Band Live at Boom Room Madinaty
DESCRIPTION:Teseenaty Band takes over Boom Room at Open Air Mall\, Madinaty on March 8 at 10:00 PM for a nostalgia driven Ramadan night. Organized by Boom Room in collaboration with Fada\, the event blends 90s hits with classic Ramadan tracks in a live performance setting. The night promises a music focused experience built around throwback favorites and seasonal vibes.
URL:https://cairospots.com/event/teseenaty-band-live-at-boom-room-madinaty/
LOCATION:Boom Room\, Open Air Mall\, parking Gate 3\, Madinaty\, Cairo\, Madinaty
CATEGORIES:Concert
ATTACH;FMTTYPE=image/jpeg:https://cairospots.com/wp-content/uploads/2026/02/Event-Cover-50.jpg
END:VEVENT
BEGIN:VEVENT
DTSTART;TZID=UTC:20260321T220000
DTEND;TZID=UTC:20260321T233000
DTSTAMP:20260425T021809
CREATED:20260312T142333Z
LAST-MODIFIED:20260312T142333Z
UID:10001945-1774130400-1774135800@cairospots.com
SUMMARY:Saad El Oud at Cairo Jazz Club 610
DESCRIPTION:Celebrate eid with a taste of the golden age of middle eastern musical heritage ! Emotions will hit you with a pang as the roots of tradition take a deeper path into a modern\, personal interpretation with an evening of timeless Arabic music with Saad el Oud. One of the distinctive contemporary voices of the oud in Egypt\, Saad brings you a captivating performance\, giving you the space to enjoy his rich vocal presence and refined instrumental approach\, a performance that bridges the depth of classical Arabic repertoire with a modern and intimate musical sensibility\, moving you with beloved Arabic classics and nostalgic melodies\, engulfed with the warm resonance of the oud. An atmosphere of closeness\, connection\, elegance and authenticity await you on the on the 21st of March. \nHouse Rules:\n-Minimum entry age is 21+\n-Physical valid ID to be checked on door.\n-Violent behavior will not be tolerated.\n-Harassment of any kind will not be tolerated.\n-Illegal substances are not permitted.\n-Sunglasses are not permitted.\n-Slippers are not permitted.\n-Entry is for valid QR code holders only.\n-Door selection applies.\n-Tickets cannot be refunded or transferred once payment is made.
URL:https://cairospots.com/event/saad-el-oud-at-cairo-jazz-club-610/
LOCATION:Cairo Jazz Club 610\, CJC 610\, Al Guezira Plaza\, Sheikh Zayed 3755220 Giza Governorate
CATEGORIES:Concert
ATTACH;FMTTYPE=image/jpeg:https://cairospots.com/wp-content/uploads/2026/03/Event-Cover-57.jpg
END:VEVENT
BEGIN:VEVENT
DTSTART;TZID=UTC:20260402T200000
DTEND;TZID=UTC:20260402T233000
DTSTAMP:20260425T021809
CREATED:20260321T195839Z
LAST-MODIFIED:20260321T195839Z
UID:10001952-1775160000-1775172600@cairospots.com
SUMMARY:Lege-Cy Live at AUC Tahrir 2026 Culture Fest
DESCRIPTION:Join us for an electrifying night with Egyptian rapper Lege-cy\, performing live on April 2nd at AUC Tahrir. Step into the “El Rehla” and experience a powerful fusion of rap\, rhythm\, and energy as Lege-cy brings his most iconic tracks to the stage. Don’t miss this unforgettable night of music and atmosphere in the heart of Cairo.
URL:https://cairospots.com/event/lege-cy-live-at-auc-tahrir-2026-culture-fest/
LOCATION:AUC Tahrir Square\, 113 Al Kasr Al Aini\, Ad Dawawin\, Abdeen\, Cairo Governorate 11511\, Downtown\, Egypt
CATEGORIES:Concert
ATTACH;FMTTYPE=image/jpeg:https://cairospots.com/wp-content/uploads/2026/03/Event-Cover-66.jpg
END:VEVENT
BEGIN:VEVENT
DTSTART;TZID=UTC:20260402T220000
DTEND;TZID=UTC:20260402T233000
DTSTAMP:20260425T021809
CREATED:20260305T193734Z
LAST-MODIFIED:20260305T193921Z
UID:10001943-1775167200-1775172600@cairospots.com
SUMMARY:Shkoon Traces Tour at Cairo Jazz Club 610
DESCRIPTION:Shkoon live in Cairo. The German-Syrian duo bring their Traces tour to Cairo Jazz Club 610 on Thursday\, April 2nd\, 2026. Ameen Khayer (Syria) and Thorben Diekmann (Germany) blend Syrian folklore\, mawwal vocals\, and electronic production into one of Arab electronica’s most distinctive live acts. Three albums deep — Rima\, Firaq\, and Masrahiya — with past performances at the Pyramids of Giza\, Dubai Opera\, and the London Jazz Festival. Support from Mahlab and Sebzz b2b Ouzo. Presented by Kord Agency
URL:https://cairospots.com/event/shkoon-traces-tour-at-cairo-jazz-club-610/
LOCATION:Cairo Jazz Club 610\, CJC 610\, Al Guezira Plaza\, Sheikh Zayed 3755220 Giza Governorate
CATEGORIES:Concert
ATTACH;FMTTYPE=image/jpeg:https://cairospots.com/wp-content/uploads/2026/03/Event-Cover-1.jpg
END:VEVENT
BEGIN:VEVENT
DTSTART;VALUE=DATE:20260410
DTEND;VALUE=DATE:20260414
DTSTAMP:20260425T021809
CREATED:20260404T172451Z
LAST-MODIFIED:20260404T173008Z
UID:10001960-1775790000-1776049199@cairospots.com
SUMMARY:PLUS x VLS EASTER GET AWAY WEEKEND
DESCRIPTION:You asked and we listened\, The Venture Lifestyle x Plus Weekend Getaway in El Gouna is the full run\, now offered as one complete package. \nApril 10th \nCubix El Gouna kicks things off with Seth Troxler\, Ilario Alicante\, Delilah\, and Rolbac\, setting the tone with an open-air blend of deep and driving electronic sounds. \nApril 11th \nBurna Boy takes over the Gouna Conference and Culture Center with a high-energy live show\, bringing his signature Afro-fusion sound to the Red Sea. \nApril 12th \nBack to Cubix for the closing night\, with Colyn\, Innellea\, and Losless alongside Ashmawy\, Mohasseb\, and Katya Livingston\, for a late-night melodic and hypnotic send-off. \nThree nights\, three distinct energies\, one seamless experience. \nHouse Rules: \n•⁠ ⁠Doors open: 9:00 PM \n•⁠ ⁠Doors close: 12:00 AM \n•⁠ ⁠No On-Door Tickets \n•⁠ ⁠No re-entry \n•⁠ ⁠Minimum entry age is 21+ \n•⁠ ⁠Couples/Mixed Groups only \n•⁠ ⁠Violent behavior will not be tolerated \n•⁠ ⁠Door selection applies \n•⁠ ⁠Paid tickets are not refundable or exchangeable
URL:https://cairospots.com/event/plus-x-vls-easter-get-away-weekend/
LOCATION:Cubix El Gouna
CATEGORIES:Concert,Party
ATTACH;FMTTYPE=image/jpeg:https://cairospots.com/wp-content/uploads/2026/04/banner-md-v01-5.jpg
END:VEVENT
BEGIN:VEVENT
DTSTART;TZID=UTC:20260411T170000
DTEND;TZID=UTC:20260411T233000
DTSTAMP:20260425T021809
CREATED:20260401T172335Z
LAST-MODIFIED:20260401T172517Z
UID:10001958-1775926800-1775950200@cairospots.com
SUMMARY:Burna Boy Live in Egypt at El Gouna Red Sea
DESCRIPTION:Burna Boy’s Egypt debut has been rescheduled from March 22 to April 11\, 2026 at El Gouna Conference and Culture Center\, presented by Venture Lifestyle. \nThe show was originally announced in late February as Burna Boy’s first ever performance in Egypt. The new date moves the concert to a Friday. All existing tickets remain valid. \nBurna Boy is a Grammy winning Nigerian artist known for blending Afrobeats\, dancehall\, reggae\, and hip hop. He won Best Global Music Album at the 2021 Grammys and holds 13 career nominations. In 2024 he became the first African artist to perform on the Grammy stage. \nTickets available on @ticketegypt. Sponsored by Orange.
URL:https://cairospots.com/event/burna-boy-live-in-egypt-at-el-gouna-red-sea/
LOCATION:El Gouna\, El Gouna Red Sea\, El Gouna
CATEGORIES:Concert
ATTACH;FMTTYPE=image/jpeg:https://cairospots.com/wp-content/uploads/2026/04/Event-Cover-71.jpg
END:VEVENT
BEGIN:VEVENT
DTSTART;TZID=UTC:20260412T180000
DTEND;TZID=UTC:20260412T233000
DTSTAMP:20260425T021809
CREATED:20260329T111813Z
LAST-MODIFIED:20260329T111958Z
UID:10001954-1776016800-1776036600@cairospots.com
SUMMARY:Tamer Hosny & French Montana in Egypt at Azha Ain Sokhna's Backyard Festival
DESCRIPTION:Backyard Festival returns on April 12\, 2026 at Azha Ain Sokhna with Tamer Hosny and French Montana headlining. It Takes 2 is the featured DJ for the night. \nFrench Montana is a Moroccan American rapper born Karim Kharbouch in Casablanca. He moved to New York at 13 and has since become one of the most streamed African born artists in history with 28 million monthly Spotify listeners and a diamond certified single. He has worked with Drake\, Rick Ross\, Swae Lee\, and Lil Wayne. \nTamer Hosny is one of the Arab world’s biggest pop stars with a career spanning two decades across music\, film\, and live performance. \nThe event is produced by MKE with Madaar Developments as main partner.
URL:https://cairospots.com/event/tamer-hosny-french-montana-in-egypt-at-azha-ain-sokhnas-backyard-festival/
LOCATION:Azha Ain El Sokhna\, Ain El Sokhna\, Egypt\, Ain El Sokhna
CATEGORIES:Concert
ATTACH;FMTTYPE=image/jpeg:https://cairospots.com/wp-content/uploads/2026/03/Event-Cover-67.jpg
END:VEVENT
BEGIN:VEVENT
DTSTART;TZID=UTC:20260417T180000
DTEND;TZID=UTC:20260417T233000
DTSTAMP:20260425T021809
CREATED:20260329T133042Z
LAST-MODIFIED:20260329T133252Z
UID:10001955-1776448800-1776468600@cairospots.com
SUMMARY:Tul8te Live in Alexandria at Al Ittihad Club
DESCRIPTION:Tul8te performs his first ever show in Alexandria on April 17\, 2026 at Al Ittihad Alexandria Club as part of his 2025-2026 World Tour.\nTul8te is a masked Egyptian singer\, rapper\, and producer who rose to fame with Layalina from his debut album Tesh Shabab in 2024. His second album Cocktail Ghena’y placed five tracks in the Egyptian top ten simultaneously\, with Habeeby Leh and Mateegy A3ady Aleiky both reaching number one. He co-founded the collective Badinvstmnt and is signed to MDLBEAST Records. He was featured by GRAMMY.com and has been nominated six times at Billboard’s Arabic Music Gala.\nThe show is organized by Urchin Experiences.
URL:https://cairospots.com/event/tul8te-live-in-alexandria-at-al-ittihad-club/
LOCATION:Al Ittihad Alexandria Club\, Al Ittihad Alexandria Club\, Alexandria\, Egypt\, Alexandria
CATEGORIES:Concert
ATTACH;FMTTYPE=image/jpeg:https://cairospots.com/wp-content/uploads/2026/03/Event-Cover-68.jpg
END:VEVENT
BEGIN:VEVENT
DTSTART;TZID=UTC:20260419T190000
DTEND;TZID=UTC:20260419T220000
DTSTAMP:20260425T021809
CREATED:20260415T192541Z
LAST-MODIFIED:20260415T192541Z
UID:10001970-1776625200-1776636000@cairospots.com
SUMMARY:Mishel Mesak X Boom Room
DESCRIPTION:THE BIGGEST SHAM EL NESSIM PARTY Sunday\, April 19 Boom Room Madinaty 7:00 PM BE THERE
URL:https://cairospots.com/event/mishel-mesak-x-boom-room/
LOCATION:Boom Room\, Open Air Mall\, Madinaty
CATEGORIES:Concert
ATTACH;FMTTYPE=image/jpeg:https://cairospots.com/wp-content/uploads/2026/04/IMG_3323.jpeg
END:VEVENT
BEGIN:VEVENT
DTSTART;TZID=UTC:20260423T183000
DTEND;TZID=UTC:20260423T213000
DTSTAMP:20260425T021809
CREATED:20260419T192242Z
LAST-MODIFIED:20260419T192242Z
UID:10002013-1776969000-1776979800@cairospots.com
SUMMARY:Hisham Kharma Concert 23-April 2026
DESCRIPTION:Hisham Kharma Concert 23-April 2026\nThu 23 Apr 2026 06 : 30 PM – Thu 23 Apr 2026 09 : 30 PM
URL:https://cairospots.com/event/hisham-kharma-concert-23-april-2026/
LOCATION:Cairo Opera House\, Cairo Opera House\, Gezira St\, Zamalek\, Cairo Governorate 4270020\, Zamalek
CATEGORIES:Concert
ATTACH;FMTTYPE=image/jpeg:https://cairospots.com/wp-content/uploads/2026/04/IMG_3544.jpeg
END:VEVENT
BEGIN:VEVENT
DTSTART;TZID=UTC:20260424T150000
DTEND;TZID=UTC:20260424T220000
DTSTAMP:20260425T021809
CREATED:20260419T191445Z
LAST-MODIFIED:20260420T180928Z
UID:10002012-1777042800-1777068000@cairospots.com
SUMMARY:Marwan Pablo
DESCRIPTION:Get ready for an unforgettable night as Marwan Pablo takes over Antoniadis Music Arena on April 24th for a one-of-a-kind live experience in the heart of Alexandria. Known for his electrifying stage presence and chart-topping hits\, Pablo is set to deliver a high-energy performance that brings together music\, visuals\, and atmosphere like never before.
URL:https://cairospots.com/event/marwan-pablo/
LOCATION:Antoniadis Music Arena\, Alexandria
CATEGORIES:Concert
ATTACH;FMTTYPE=image/jpeg:https://cairospots.com/wp-content/uploads/2026/04/IMG_3543.jpeg
END:VEVENT
BEGIN:VEVENT
DTSTART;TZID=UTC:20260429T200000
DTEND;TZID=UTC:20260429T230000
DTSTAMP:20260425T021809
CREATED:20260415T203502Z
LAST-MODIFIED:20260415T203502Z
UID:10001981-1777492800-1777503600@cairospots.com
SUMMARY:MENNA HUSSEIN | MASSAR EGBARI
DESCRIPTION:House Rules:\n-Minimum entry age is 23+\n-Physical valid ID to be checked on door.\n-Violent behavior will not be tolerated.\n-Entry is allowed for couples or mixed groups only.\n-Harassment of any kind will not be tolerated.\n-Illegal substances are not permitted.\n-Sunglasses are not permitted.\n-Slippers are not permitted.\n-Entry is for valid QR code holders only.\n-Door selection applies.\n-Tickets cannot be refunded or transferred once payment is made.
URL:https://cairospots.com/event/menna-hussein-massar-egbari/
LOCATION:Tenaya
CATEGORIES:Concert
ATTACH;FMTTYPE=image/jpeg:https://cairospots.com/wp-content/uploads/2026/04/IMG_3499.jpeg
END:VEVENT
BEGIN:VEVENT
DTSTART;TZID=UTC:20260430T190000
DTEND;TZID=UTC:20260430T233000
DTSTAMP:20260425T021809
CREATED:20260419T171754Z
LAST-MODIFIED:20260419T171754Z
UID:10001997-1777575600-1777591800@cairospots.com
SUMMARY:International Jazz Day
DESCRIPTION:The Jazz Society of Egypt proudly celebrates International Jazz Day on Thursday\, 30 April 2026 \nFor one unforgettable night\, the finest voices of the Egyptian jazz scene unite on one stage in “Egypt’s Jazz All-Stars” — a spectacular showcase of artistry\, rhythm\, and soul. \nThis year marks a historic moment as we present the debut of the Jazz Society of Egypt Orchestra\, bringing a bold new sound to the heart of the celebration. \nAn evening where tradition meets innovation\, and where jazz speaks in an unmistakably Egyptian voice. \nJoin us for a night of brilliance\, collaboration\, and pure musical magic.
URL:https://cairospots.com/event/international-jazz-day/
CATEGORIES:Concert
ATTACH;FMTTYPE=image/jpeg:https://cairospots.com/wp-content/uploads/2026/04/IMG_3527.jpeg
END:VEVENT
BEGIN:VEVENT
DTSTART;TZID=UTC:20260501T140000
DTEND;TZID=UTC:20260501T233000
DTSTAMP:20260425T021809
CREATED:20260405T155648Z
LAST-MODIFIED:20260405T155720Z
UID:10001961-1777644000-1777678200@cairospots.com
SUMMARY:Disco Misr Festival - 10th Album Launch
DESCRIPTION:This isn’t just an album launch… this is a 10/10 kind of festival. \nDisco Misr are taking over ZED Park\, El Sheikh Zayed on Friday\, May 1st\, 2026 to celebrate the release of their 10th Remix Album\, 10/10. \nIf you’ve been to a Disco Misr Album Launch Festival before\, then you already know that it’s much more than just an event…it’s a full-day Disco Misr field trip. \nThey took all their favorite subjects\, mixed them together\, and turned them into one giant day out. \nAnd yes…it passed with a 10/10. \nExpect a full day of everything we love: \n10/10 music\, 10/10 food & drinks\, 10/10 energy\, 10/10 surprises\, joy\, and all the people who know exactly how to celebrate. \nYou know what to do! \nHouse Rules: \n– Doors open at 2 PM \n– Ticket required starting 7 years old \n– Family-friendly event. Kids are welcome\, but stay under your supervision. \n– No outside food or beverage. \n– No alcohol\n– Zero tolerance for drugs. \n– Security checks on entry. No illegal\, dangerous\, or unapproved items (including drones and pro cameras). \n– No professional filming or recording without prior approval. \n– Tickets are non-refundable and can’t be resold for profit outside official channels. \n– Lineup\, set times\, and schedule may change. \n– Respect the space\, the people\, and the vibe. No aggressive or disruptive behavior. \n– This event operates under Egyptian law. \n– By attending\, you agree to being photographed or filmed. \n– Keep your belongings with you at all times\, you’re responsible for them.
URL:https://cairospots.com/event/disco-misr-festival-10th-album-launch/
LOCATION:Zed Park\, Zed Park\, El Sheikh Zayed\, Giza Governorate\, Sheikh Zayed
CATEGORIES:Concert
ATTACH;FMTTYPE=image/jpeg:https://cairospots.com/wp-content/uploads/2026/04/Event-Cover-73.jpg
END:VEVENT
BEGIN:VEVENT
DTSTART;TZID=UTC:20260501T200000
DTEND;TZID=UTC:20260501T233000
DTSTAMP:20260425T021809
CREATED:20260420T184529Z
LAST-MODIFIED:20260420T184714Z
UID:10002018-1777665600-1777678200@cairospots.com
SUMMARY:EL Hekaya
DESCRIPTION:Join us on May 1st in EL HEKAYA. In a world where everything is constantly changing— tastes\, people\, and music\, there remains one constant we always return to. “El Hekaya” is more than a concert; it is a journey through time\, emotion\, and memory\, celebrating the enduring legacy of Amr Diab. Set at AUC\, this experience brings together generations through a sound that has never faded\, only evolved. No matter how far we explore new trends\, we find ourselves drawn back to the voice and feeling we know best. Because in the end\, Amr Diab is not just part of the story\, he is the story.
URL:https://cairospots.com/event/el-hekaya-2/
LOCATION:AUC Football Field
CATEGORIES:Concert
ATTACH;FMTTYPE=image/jpeg:https://cairospots.com/wp-content/uploads/2026/04/IMG_3466-1.jpeg
END:VEVENT
BEGIN:VEVENT
DTSTART;TZID=UTC:20260507T190000
DTEND;TZID=UTC:20260507T233000
DTSTAMP:20260425T021809
CREATED:20260420T205508Z
LAST-MODIFIED:20260420T205508Z
UID:10002021-1778180400-1778196600@cairospots.com
SUMMARY:Glass Onion X Theatro Arkan
DESCRIPTION:Get ready for a night of timeless music with Glass Onion\, The Beatles Tribute Band\, live at Theatro Arkan. \nJoin us on Thursday\, May 7 at 7:30 PM for a special live experience celebrating the iconic songs\, unforgettable melodies\, and pure nostalgia of The Beatles. A night filled with legendary hits\, great vibes\, and the magic of live music awaits.
URL:https://cairospots.com/event/glass-onion-x-theatro-arkan/
LOCATION:Theatro Arkan\, Arkan Plaza\, Elsheikh Zayed\, Giza Governorate\, Sheikh Zayed\, Egypt
CATEGORIES:Concert
ATTACH;FMTTYPE=image/jpeg:https://cairospots.com/wp-content/uploads/2026/04/IMG_3552.jpeg
END:VEVENT
BEGIN:VEVENT
DTSTART;TZID=UTC:20260515T193000
DTEND;TZID=UTC:20260515T220000
DTSTAMP:20260425T021809
CREATED:20260415T194511Z
LAST-MODIFIED:20260420T181127Z
UID:10001973-1778873400-1778882400@cairospots.com
SUMMARY:Angham x El Arena
DESCRIPTION:May 15th\, Angham takes over El Arena for a night defined by elegance\, power\, and presence. An artist whose voice carries decades of emotion and precision\, she doesn’t just perform\, she commands every moment on stage. Set within the scale and sophistication of El Arena\, the experience is elevated by a massive\, high-impact production\, from immersive sound to striking visuals\, all designed to match her stature. This isn’t just a concert\, it’s a fully realized experience built to be felt. Don’t miss out.
URL:https://cairospots.com/event/angham-x-el-arena/
LOCATION:El Arena
CATEGORIES:Concert
ATTACH;FMTTYPE=image/jpeg:https://cairospots.com/wp-content/uploads/2026/04/IMG_3491.jpeg
END:VEVENT
BEGIN:VEVENT
DTSTART;TZID=UTC:20260515T193000
DTEND;TZID=UTC:20260515T230000
DTSTAMP:20260425T021809
CREATED:20260419T174307Z
LAST-MODIFIED:20260419T174307Z
UID:10001999-1778873400-1778886000@cairospots.com
SUMMARY:Amr Selim X Theatro Arkan
DESCRIPTION:Enjoy a special musical evening with maestro Amr Selim at Teatro Arkan on May 15 at 7:30 PM.\nA refined live experience that brings together the magic of piano\, beautiful melodies\, and a unique artistic atmosphere for an unforgettable night.
URL:https://cairospots.com/event/amr-selim-x-theatro-arkan/
LOCATION:Theatro Arkan\, Arkan Plaza\, Elsheikh Zayed\, Giza Governorate\, Sheikh Zayed\, Egypt
CATEGORIES:Concert
ATTACH;FMTTYPE=image/jpeg:https://cairospots.com/wp-content/uploads/2026/04/IMG_3529.jpeg
END:VEVENT
BEGIN:VEVENT
DTSTART;TZID=UTC:20260526T210000
DTEND;TZID=UTC:20260526T233000
DTSTAMP:20260425T021809
CREATED:20260218T220727Z
LAST-MODIFIED:20260227T212012Z
UID:10001935-1779829200-1779838200@cairospots.com
SUMMARY:Andrea Bocelli Romanza 30th Anniversary World Tour Live in New Capital
DESCRIPTION:Andrea Bocelli brings his Romanza 30th Anniversary World Tour to Egypt on May 26 at 9 PM at the City of Arts and Culture in the New Capital. \nOrganized by ACUD and Live Nation\, the evening celebrates the legacy of Romanza\, the album that introduced Bocelli to the world and became one of the best selling classical records of all time. Audiences can expect a powerful live performance featuring selections from Romanza alongside some of his most iconic repertoire in an elegant\, full scale production. \nA landmark night for classical music fans in Egypt.
URL:https://cairospots.com/event/andrea-bocelli-romanza-30th-anniversary-world-tour-live-in-new-capital/
LOCATION:New Capital\, New Administrative Capital\, Cairo Governorate Desert\, Cairo Governorate\, New Capital
CATEGORIES:Concert
ATTACH;FMTTYPE=image/jpeg:https://cairospots.com/wp-content/uploads/2026/02/Event-Cover-44.jpg
END:VEVENT
BEGIN:VEVENT
DTSTART;TZID=UTC:20261024T190000
DTEND;TZID=UTC:20261024T233000
DTSTAMP:20260425T021809
CREATED:20260218T220435Z
LAST-MODIFIED:20260218T220801Z
UID:10001934-1792868400-1792884600@cairospots.com
SUMMARY:BLUE 25th Anniversary Tour Live in New Capital Cairo
DESCRIPTION:Blue are bringing their 25th Anniversary Tour to New Capital Cairo on October 24 at 7 PM. \nOrganized by ACUD and Live Nation\, the concert celebrates 25 years of global hits including All Rise\, One Love\, and Sorry Seems To Be The Hardest Word. Fans can expect a nostalgic\, high energy show packed with the band’s biggest classics.
URL:https://cairospots.com/event/blue-25th-anniversary-tour-live-in-new-capital-cairo/
LOCATION:New Capital\, New Administrative Capital\, Cairo Governorate Desert\, Cairo Governorate\, New Capital
CATEGORIES:Concert
ATTACH;FMTTYPE=image/jpeg:https://cairospots.com/wp-content/uploads/2026/02/Event-Cover-43.jpg
END:VEVENT
BEGIN:VEVENT
DTSTART;TZID=UTC:20261128T170000
DTEND;TZID=UTC:20261128T233000
DTSTAMP:20260425T021809
CREATED:20260223T144350Z
LAST-MODIFIED:20260329T073340Z
UID:10001941-1795885200-1795908600@cairospots.com
SUMMARY:Shakira Live at the Pyramids of Giza 2026
DESCRIPTION:On April 7\, 2026 at 5 PM\, Shakira performs live at Pyramids of Giza as part of her Las Mujeres Ya No Lloran World Tour. Presented by Venture Lifestyle\, the global icon brings her latest album to one of the world’s most historic landmarks for a 6 hour concert experience. \nHouse Rules:\nNo on door tickets. No re entry. Minimum age 21 plus. Couples and mixed groups only. Violent behavior will not be tolerated. Door selection applies. Tickets are non refundable and non exchangeable.
URL:https://cairospots.com/event/shakira-live-at-the-pyramids-of-giza-2026/
LOCATION:Pyramids Of Giza\, Al Haram\, Nazlet El-Semman\, Al Haram\, Giza Governorate 3512201\, Giza
CATEGORIES:Concert
ATTACH;FMTTYPE=image/jpeg:https://cairospots.com/wp-content/uploads/2026/02/Event-Cover-52.jpg
END:VEVENT
END:VCALENDAR