BEGIN:VCALENDAR
VERSION:2.0
PRODID:-//Cairo Spots - ECPv6.15.20//NONSGML v1.0//EN
CALSCALE:GREGORIAN
METHOD:PUBLISH
X-WR-CALNAME:Cairo Spots
X-ORIGINAL-URL:https://cairospots.com
X-WR-CALDESC:Events for Cairo Spots
REFRESH-INTERVAL;VALUE=DURATION:PT1H
X-Robots-Tag:noindex
X-PUBLISHED-TTL:PT1H
BEGIN:VTIMEZONE
TZID:UTC
BEGIN:STANDARD
TZOFFSETFROM:+0000
TZOFFSETTO:+0000
TZNAME:UTC
DTSTART:20250101T000000
END:STANDARD
END:VTIMEZONE
BEGIN:VEVENT
DTSTART;VALUE=DATE:20260424
DTEND;VALUE=DATE:20260427
DTSTAMP:20260424T214146
CREATED:20260111T220358Z
LAST-MODIFIED:20260117T084748Z
UID:10000013-1776999600-1777172399@cairospots.com
SUMMARY:Zamna Festival in Egypt at The Pyramids Of Giza
DESCRIPTION:Zamna is returning to Egypt after last year’s legendary weekend. Three days of music\, culture\, and adventure that stretched from the Pyramids to the Nile. Guests from over 100 nationalities explored Cairo by day\, discovered ancient history\, cruised the river at sunset\, and danced through a series of pool parties\, rooftops\, after-parties\, and of course\, the main stage beneath the desert sky. This April 24 & 25\, the journey continues. A bigger program\, more artists\, more experiences\, and a deeper connection to Egypt’s magic. We’re building a complete musical getaway: festival nights\, curated daytime activities\, cultural tours\, hotel packages\, and exclusive side events across the city. Whether you want to relive the energy or finally experience what you missed—this edition is for you.
URL:https://cairospots.com/event/zamna-festival-in-egypt-at-the-pyramids-of-giza/
LOCATION:Pyramids Of Giza\, Al Haram\, Nazlet El-Semman\, Al Haram\, Giza Governorate 3512201\, Giza
CATEGORIES:Festival
ATTACH;FMTTYPE=image/jpeg:https://cairospots.com/wp-content/uploads/2026/01/01KC6VQ4EHAN0M85APGZKA85CS.jpeg
END:VEVENT
END:VCALENDAR