BEGIN:VCALENDAR
VERSION:2.0
PRODID:-//Cairo Spots - ECPv6.15.20//NONSGML v1.0//EN
CALSCALE:GREGORIAN
METHOD:PUBLISH
X-ORIGINAL-URL:https://cairospots.com
X-WR-CALDESC:Events for Cairo Spots
REFRESH-INTERVAL;VALUE=DURATION:PT1H
X-Robots-Tag:noindex
X-PUBLISHED-TTL:PT1H
BEGIN:VTIMEZONE
TZID:UTC
BEGIN:STANDARD
TZOFFSETFROM:+0000
TZOFFSETTO:+0000
TZNAME:UTC
DTSTART:20250101T000000
END:STANDARD
END:VTIMEZONE
BEGIN:VEVENT
DTSTART;TZID=UTC:20260321T200000
DTEND;TZID=UTC:20260321T235900
DTSTAMP:20260425T023257
CREATED:20260113T163810Z
LAST-MODIFIED:20260227T201557Z
UID:10000047-1774123200-1774137540@cairospots.com
SUMMARY:The Moment Presented by P+US in Ain El Sokhna
DESCRIPTION:Moment Festival lands in Egypt for the first time on March 21\, 2026\, Presented by P+us at Il Monte Galala in Ain Sokhna. The event brings a large scale electronic music festival experience to the Red Sea coast\, with lineup and program details to be announced. Early registration is now open.
URL:https://cairospots.com/event/pre-registration-the-moment-presented-by-pus-in-ain-el-sokhna/
LOCATION:Il Monte Galala\, Il Monte Galala\, Ain Al Sokhna\, Ain Al Sokhna
CATEGORIES:Festival
ATTACH;FMTTYPE=image/jpeg:https://cairospots.com/wp-content/uploads/2026/01/Event-Cover-9-1.jpg
END:VEVENT
BEGIN:VEVENT
DTSTART;TZID=UTC:20260321T200000
DTEND;TZID=UTC:20260321T235900
DTSTAMP:20260425T023257
CREATED:20260121T165517Z
LAST-MODIFIED:20260227T201738Z
UID:10001332-1774123200-1774137540@cairospots.com
SUMMARY:MRAK Presented by Ulter in Ain El Sokhna
DESCRIPTION:On Saturday\, March 21\, 2026\, MRAK brings his Ulteration sound to Ain El Sokhna for a night driven by atmosphere\, tension\, and immersive electronic storytelling\, joined by Magdalena and Amgad. \nAs one half of Tale Of Us and a leading force behind the Afterlife movement\, MRAK’s solo project dives into deeper\, darker\, and more emotional territory within melodic techno. His performances are known for cinematic builds\, brooding tension\, and a live intensity that blurs the line between club culture and audiovisual performance. \nSet against the open landscape of Ain El Sokhna\, the night unfolds as a full scale production where sound\, light\, and space align. With Magdalena’s refined\, hypnotic selections and Amgad’s locally rooted yet forward driven sound\, the lineup promises a continuous journey built on mood\, momentum\, and immersive electronic expression.
URL:https://cairospots.com/event/mrak-presented-by-ulter-in-ain-el-sokhna-2/
LOCATION:Ain El Sokhna\, Ain Sokhna\, Ain El Sokhna
CATEGORIES:Festival
ATTACH;FMTTYPE=image/png:https://cairospots.com/wp-content/uploads/2026/01/Untitled-design-6.png
END:VEVENT
BEGIN:VEVENT
DTSTART;TZID=UTC:20260322T200000
DTEND;TZID=UTC:20260322T235900
DTSTAMP:20260425T023257
CREATED:20260114T160859Z
LAST-MODIFIED:20260127T161330Z
UID:10000799-1774209600-1774223940@cairospots.com
SUMMARY:No Art Presented by Human Figures at Somabay
DESCRIPTION:No Art has officially revealed the full lineup for its Egypt showcase at Soma Bay on March 22\, 2026. Presented by Human Figures\, the Amsterdam based imprint lands in one of Egypt’s most distinctive coastal destinations for a large scale music and culture experience starting at 8:00 PM. \nThe lineup brings together artists closely tied to No Art’s identity\, balancing groove led house\, left field selections\, and contemporary club sounds. Known for its music first philosophy and tightly programmed events\, No Art continues its expansion into destination settings\, pairing international club culture with the unique atmosphere of Soma Bay. \nDesigned as a multi sensory music and art experience\, the night explores unconventional intersections between sound\, space\, and visual expression through the Human Figures platform. \nEvent Details \n• Date: March 22\, 2026 \n• Location: Soma Bay\, Egypt \n• Start time: 8:00 PM \nEntry Policy \n• Entry restricted to mixed groups or couples only \n• Minimum age: 23+ \n• Valid QR code ticket and original physical ID required \n• Door selection applies \n• No re entry allowed \n• Doors close at 1:00 AM or earlier if full capacity is reached \nHouse Rules \n• Tickets are non refundable and non transferable \n• Violent behavior and harassment are not permitted \n• Drug use is strictly prohibited \n• Weapons and flags are not allowed \nTable and Lounge Inquiries \n• WhatsApp: +201040000506
URL:https://cairospots.com/event/pre-registration-no-art-at-somabay/
LOCATION:Human Figures Platform\, 7GRMVX6G+Q3\, Somabay\, Egypt
CATEGORIES:Festival
ATTACH;FMTTYPE=image/png:https://cairospots.com/wp-content/uploads/2026/01/banner-md-v02.png
END:VEVENT
BEGIN:VEVENT
DTSTART;TZID=UTC:20260327T190000
DTEND;TZID=UTC:20260327T233000
DTSTAMP:20260425T023257
CREATED:20260213T142717Z
LAST-MODIFIED:20260302T183354Z
UID:10001928-1774638000-1774654200@cairospots.com
SUMMARY:PUBG MOBILE 8th Anniversary Carnival at The Pyramids Of Giza
DESCRIPTION:PUBG MOBILE is based on PUBG: BATTLEGROUNDS\, the phenomenon that took the world of interactive entertainment by storm in 2017. \nUp to 100 players parachute onto a remote island to battle in a winner-takes-all showdown. Players must locate and scavenge their own weapons\, vehicles\, and supplies\, and defeat every player in a visually and tactically rich battleground that forces players into a shrinking play zone. \nOn March 27\, 2026\, PUBG MOBILE will celebrate its 8th Anniversary Carnival at one of the most iconic landmarks in human history — the Pyramids of Giza. \nSet against ancient stone\, open desert skies\, and thousands of years of civilization\, a mega stage performance of epic scale this Carnival brings gaming\, music\, art\, and culture together in one unforgettable moment. \n\nEvent Highlights\nThe PUBG MOBILE 8th Anniversary Carnival features two core experiences: \nI. Immersive Interactive Zones\n\nInteractive installations\, brand activations\, and photo moments\nGuests are invited to explore freely and create their own anniversary journey\n\nII. Main Stage Show\n\nPerformances by several famous artists\nA fusion of esports culture\, music\, and dance\nHigh-end stage design\, lighting\, screens\, and show programming\n\n\nHouse Rules:\n\n⁠Doors open: 07:00 PM ⁠\nDoors close: 12:00 AM\nNo On-Door Tickets\nPhysical ID must be presented via entrance\nNo re-entry\nMinimum entry age is 16+\nViolent behavior will not be tolerated\nDoor selection applies\nPaid tickets are not refundable or exchangeable\nMake sure to redeem your Physical ticket prior to the event from designated locations to be announced\nFirst come\, first served: Reservations are handled on a first-come\, first-served basis.\nProfile check: Kindly ensure that all information provided is accurate\, as profiles are reviewed to facilitate a smooth security clearance process.\nEmail reminder: Please provide a valid email and check your spam/junk folder if you do not receive the payment reminder.\n\n\nPresented and organized by VENTURE LIFESTYLE \nPUBG MOBILE is co-developed by LIGHTSPEED STUDIOS of Tencent Games and KRAFTON\, Inc.
URL:https://cairospots.com/event/pubg-mobile-8th-anniversary-carnival-at-the-pyramids-of-giza/
LOCATION:Pyramids Of Giza\, Al Haram\, Nazlet El-Semman\, Al Haram\, Giza Governorate 3512201\, Giza
CATEGORIES:Festival,Games,Party
ATTACH;FMTTYPE=image/jpeg:https://cairospots.com/wp-content/uploads/2026/02/Event-Cover-45.jpg
END:VEVENT
BEGIN:VEVENT
DTSTART;VALUE=DATE:20260424
DTEND;VALUE=DATE:20260427
DTSTAMP:20260425T023257
CREATED:20260111T220358Z
LAST-MODIFIED:20260117T084748Z
UID:10000013-1776999600-1777172399@cairospots.com
SUMMARY:Zamna Festival in Egypt at The Pyramids Of Giza
DESCRIPTION:Zamna is returning to Egypt after last year’s legendary weekend. Three days of music\, culture\, and adventure that stretched from the Pyramids to the Nile. Guests from over 100 nationalities explored Cairo by day\, discovered ancient history\, cruised the river at sunset\, and danced through a series of pool parties\, rooftops\, after-parties\, and of course\, the main stage beneath the desert sky. This April 24 & 25\, the journey continues. A bigger program\, more artists\, more experiences\, and a deeper connection to Egypt’s magic. We’re building a complete musical getaway: festival nights\, curated daytime activities\, cultural tours\, hotel packages\, and exclusive side events across the city. Whether you want to relive the energy or finally experience what you missed—this edition is for you.
URL:https://cairospots.com/event/zamna-festival-in-egypt-at-the-pyramids-of-giza/
LOCATION:Pyramids Of Giza\, Al Haram\, Nazlet El-Semman\, Al Haram\, Giza Governorate 3512201\, Giza
CATEGORIES:Festival
ATTACH;FMTTYPE=image/jpeg:https://cairospots.com/wp-content/uploads/2026/01/01KC6VQ4EHAN0M85APGZKA85CS.jpeg
END:VEVENT
BEGIN:VEVENT
DTSTART;VALUE=DATE:20260507
DTEND;VALUE=DATE:20260511
DTSTAMP:20260425T023257
CREATED:20260111T204019Z
LAST-MODIFIED:20260306T191324Z
UID:10000010-1778122800-1778381999@cairospots.com
SUMMARY:Sandbox Festival 2026
DESCRIPTION:Sandbox Festival 2026 returns to El Gouna from May 7 to May 9\, bringing three days of electronic music performances to Egypt’s Red Sea destination. The festival features a mix of international and regional artists\, presented across large scale stages with full production\, visuals\, and curated programming. \nSandbox Festival is designed as a multi day electronic music experience\, combining daytime and nighttime events in El Gouna’s resort setting. Full lineup and program details will be announced at a later date. \n.
URL:https://cairospots.com/event/sandbox-festival-2026/
LOCATION:El Gouna\, El Gouna Red Sea\, El Gouna
CATEGORIES:Festival
ATTACH;FMTTYPE=image/png:https://cairospots.com/wp-content/uploads/2026/01/Screenshot_2025-11-03_at_2.07.54PM.png
END:VEVENT
BEGIN:VEVENT
DTSTART;TZID=UTC:20260724T210000
DTEND;TZID=UTC:20260724T233000
DTSTAMP:20260425T023257
CREATED:20260213T132244Z
LAST-MODIFIED:20260213T133140Z
UID:10001927-1784926800-1784935800@cairospots.com
SUMMARY:PRE-REGISTRATION: Adriatique in North Coast
DESCRIPTION:Adriatique takes over The North Coast on July 24\, 2026\, for a special open-air experience presented by P+US. The duo will deliver a curated journey of depth\, tension\, and atmosphere by the sea. This marks their first show since their last X Show performance at the Pyramids\, featuring a large-scale production debuting their new new logo for a new immersive visual experience.
URL:https://cairospots.com/event/pre-registration-adriatique-in-north-coast/
LOCATION:North Coast\, North Coast\, Egypt\, North Coast
CATEGORIES:Festival,Party
ATTACH;FMTTYPE=image/jpeg:https://cairospots.com/wp-content/uploads/2026/02/Event-Cover-35-1.jpg
END:VEVENT
BEGIN:VEVENT
DTSTART;TZID=UTC:20260821T210000
DTEND;TZID=UTC:20260821T233000
DTSTAMP:20260425T023257
CREATED:20260214T185242Z
LAST-MODIFIED:20260214T185358Z
UID:10001929-1787346000-1787355000@cairospots.com
SUMMARY:PRE-REGISTRATION: Black Coffee in North Coast
DESCRIPTION:Black Coffee returns to the North Coast on August 21st for a special night presented by P+US. Set by the sea\, the night moves through his signature Afro-house sound\, steady\, emotional\, and built for summer after dark. Following his last coast appearance\, he returns for another summer night shaped by sound\, and atmosphere. \nHouse Rules:\n•⁠ ⁠Doors open: 9:00 PM\n•⁠ ⁠Doors close: 12:00 AM\n•⁠ ⁠No On-Door Tickets\n•⁠ ⁠No re-entry\n•⁠ ⁠Minimum entry age is 21+\n•⁠ ⁠Couples/Mixed Groups only\n•⁠ ⁠Violent behavior will not be tolerated\n•⁠ ⁠Door selection applies\n•⁠ ⁠Paid tickets are not refundable or exchangeable\n•⁠ ⁠Entry via valid physical ticket only\n•⁠ ⁠Tickets must be redeemed in advance from the officially announced locations only\nVENUE INFORMATION
URL:https://cairospots.com/event/pre-registration-black-coffee-in-north-coast/
LOCATION:North Coast\, North Coast\, Egypt\, North Coast
CATEGORIES:Festival,Party
ATTACH;FMTTYPE=image/jpeg:https://cairospots.com/wp-content/uploads/2026/02/IMG_3374.jpeg
END:VEVENT
BEGIN:VEVENT
DTSTART;TZID=UTC:20261008T120000
DTEND;TZID=UTC:20261010T233000
DTSTAMP:20260425T023257
CREATED:20260420T175432Z
LAST-MODIFIED:20260420T181422Z
UID:10002017-1791460800-1791675000@cairospots.com
SUMMARY:Chill O’posite Festival
DESCRIPTION:Dahab 2026\, from the 8th of October – 10th.
URL:https://cairospots.com/event/chill-oposite-festival/
LOCATION:Dahab
CATEGORIES:Festival
ATTACH;FMTTYPE=image/jpeg:https://cairospots.com/wp-content/uploads/2026/04/IMG_3548.jpeg
END:VEVENT
END:VCALENDAR