BEGIN:VCALENDAR
VERSION:2.0
PRODID:-//Cairo Spots - ECPv6.15.20//NONSGML v1.0//EN
CALSCALE:GREGORIAN
METHOD:PUBLISH
X-ORIGINAL-URL:https://cairospots.com
X-WR-CALDESC:Events for Cairo Spots
REFRESH-INTERVAL;VALUE=DURATION:PT1H
X-Robots-Tag:noindex
X-PUBLISHED-TTL:PT1H
BEGIN:VTIMEZONE
TZID:UTC
BEGIN:STANDARD
TZOFFSETFROM:+0000
TZOFFSETTO:+0000
TZNAME:UTC
DTSTART:20250101T000000
END:STANDARD
END:VTIMEZONE
BEGIN:VEVENT
DTSTART;TZID=UTC:20260130T130000
DTEND;TZID=UTC:20260130T220000
DTSTAMP:20260425T023412
CREATED:20260120T155958Z
LAST-MODIFIED:20260127T162649Z
UID:10001316-1769778000-1769810400@cairospots.com
SUMMARY:Grill Setup at Cairo Gate By Emaar Misr
DESCRIPTION:Grill Setup kicks off 2026 with its first edition in a brand new venue at Cairo Gate in West Cairo. Hosted at Cairo Gate by Emaar Misr on Friday January 30\, this daytime experience runs from 1 PM to 9 PM and marks a fresh chapter for the concept in an open\, green setting designed for long afternoons under the winter sun. \nStaying true to Grill Setup’s core idea of introducing people to spaces that gradually feel familiar and comfortable\, this edition blends music\, food\, and atmosphere in a relaxed outdoor environment. The music lineup features SOS and STZ setting the tone throughout the day\, with DJ Carlos Willengton returning after a standout Sahel set\, bringing high energy and intention to this edition. \nThe Grill Setup kitchen will be serving a full menu including OGS Burger\, Truffle Burger\, Brisket Sliders\, BBQ Drumsticks\, Kogi Beef Tacos\, Chicken Tacos\, Veggie Tacos\, and fries. An open bar will run from 1 PM to 3 PM\, offering signature cocktails\, beer\, and wine\, while food service will take place between 4 PM and 7 PM. \nThis is a limited capacity event with reservations required and payment processed upon approval. IDs will be checked at the door and entry is 21+. Kids under 12 are allowed with parents until 6 PM. Small dogs on leash are welcome\, and parking is limited\, with carpooling encouraged. No refunds or exchanges apply. \nReservations and payment are handled through the link in bio via Knotmena. Come early\, come hungry.
URL:https://cairospots.com/event/grill-setup-at-cairo-gate-by-emaar-misr/
LOCATION:Cairo Gate\, Cairo - Alexandria Desert Rd\, First Al Sheikh Zayed\, Giza Governorate 3247310\, Sheikh Zayed
CATEGORIES:Food,Party
ATTACH;FMTTYPE=image/jpeg:https://cairospots.com/wp-content/uploads/2026/01/1768837250800-cropped-image-2-scaled.jpg
END:VEVENT
BEGIN:VEVENT
DTSTART;TZID=UTC:20260130T150000
DTEND;TZID=UTC:20260130T233000
DTSTAMP:20260425T023412
CREATED:20260127T125919Z
LAST-MODIFIED:20260127T125955Z
UID:10001347-1769785200-1769815800@cairospots.com
SUMMARY:La Dolce Vita at The Brunch Club
DESCRIPTION:GK Hospitality’s Brunch Club heads west with La Dolce Vita\, a two room brunch experience designed to move seamlessly between Mimi Milano and Mexi Cali. Expect an easy daytime flow that builds into a full blown afternoon party\, with shared tables\, rotating energy\, and music guiding the pace from start to finish. \nTaking place on Friday\, January 30\, the soundtrack comes from KZ & Cake\, Ahmed Eid\, Dou\, and Amr Zikry\, alongside a surprise DJ\, starting from 3 PM till late. Two rooms\, multiple sounds\, and one continuous vibe that carries you through the day. \nThis is where your weekend belongs.\nReservations via WhatsApp at 0110 001 7759.
URL:https://cairospots.com/event/la-dolce-vita-at-the-brunch-club/
LOCATION:Mimi Milano\, Golf Central Mall\, Palm Hills\, First 6th of October\, Giza Governorate 3292531\, Sheikh Zayed
CATEGORIES:Food,Party
ATTACH;FMTTYPE=image/jpeg:https://cairospots.com/wp-content/uploads/2026/01/Untitled-design-14.jpg
END:VEVENT
BEGIN:VEVENT
DTSTART;TZID=UTC:20260206T150000
DTEND;TZID=UTC:20260206T233000
DTSTAMP:20260425T023412
CREATED:20260202T165504Z
LAST-MODIFIED:20260202T165616Z
UID:10001883-1770390000-1770420600@cairospots.com
SUMMARY:La Dolce Vita Brunch at Mexi Cali and Mimi Milano
DESCRIPTION:La Dolce Vita returns with a two venue brunch experience across Mexi Cali and Mimi Milano on Friday\, February 6\, starting from 3 PM and running late into the evening. Designed as a shared daytime to sunset celebration\, the event blends food\, drinks\, and music across both spaces\, creating a seamless brunch to party flow. \nThe lineup features Minds of Lust\, ThatGirl Sherryk\, Nizo\, Riad\, and Hey D\, setting the tone with a mix of upbeat selections and crowd driven energy throughout the afternoon. Guests can move between rooms while enjoying curated menus and a relaxed yet lively atmosphere built for long stays and late finishes. \nLa Dolce Vita is structured as a social\, music led brunch experience where daytime dining gradually transitions into a full scale party environment. \nFor reservations and bookings\, contact +20 104 460 3322.
URL:https://cairospots.com/event/la-dolce-vita-brunch-at-mexi-cali-and-mimi-milano/
LOCATION:Mimi Milano\, Golf Central Mall\, Palm Hills\, First 6th of October\, Giza Governorate 3292531\, Sheikh Zayed
CATEGORIES:Food,Party
ATTACH;FMTTYPE=image/jpeg:https://cairospots.com/wp-content/uploads/2026/02/Event-Cover-102.jpg
END:VEVENT
BEGIN:VEVENT
DTSTART;TZID=UTC:20260206T160000
DTEND;TZID=UTC:20260206T233000
DTSTAMP:20260425T023412
CREATED:20260129T111406Z
LAST-MODIFIED:20260129T112617Z
UID:10001796-1770393600-1770420600@cairospots.com
SUMMARY:DiscoTech at Buoy
DESCRIPTION:DiscoTech returns to Buoy on Friday\, February 6 with a full day to night takeover. Music starts at 4 PM and runs straight through the night across two setups\, the Terrace and the Speakeasy. \nThe Terrace is led by Berlin based Andre Zimmer\, bringing raw\, high impact club selections shaped by his work with Big Trouble Records and Fabric. He is joined by Youla\, Youssef Roshdy\, Moenes\, Misty\, setting the tone from daytime into sunset. \nAs night falls\, the Speakeasy opens with a deeper shift in energy. Tino takes control with UK rooted house grooves and crisp percussion\, followed by Mady 303 closing the night with stripped back\, deep club sounds designed to hold the room.
URL:https://cairospots.com/event/discotech-at-buoy/
LOCATION:Buoy By KIKI’s\, Garden 8\, 2FWM+FJP\, Salah El Din Abdel Karim\, New Cairo 1\, Cairo Governorate 4740302\, New Cairo
CATEGORIES:Food,Party
ATTACH;FMTTYPE=image/jpeg:https://cairospots.com/wp-content/uploads/2026/01/Event-Cover-25.jpg
END:VEVENT
BEGIN:VEVENT
DTSTART;TZID=UTC:20260207T150000
DTEND;TZID=UTC:20260207T233000
DTSTAMP:20260425T023412
CREATED:20260127T114611Z
LAST-MODIFIED:20260127T125538Z
UID:10001342-1770476400-1770507000@cairospots.com
SUMMARY:STORIA Saturday Brunch with Minds of Lust & Ziad Mousa
DESCRIPTION:STORIA’s Saturday Brunch returns on Saturday\, February 7\, 2026\, with a daytime session built around music\, food\, and a crowd that eases naturally from lunch into dancing. Kicking off from 3 PM till late\, the afternoon is designed to move at its own pace\, where good energy carries the room well into the evening. \nDubai based duo Minds of Lust headline the brunch\, joined by Ziad Mousa\, setting the soundtrack for a laid back yet groove driven session that keeps the tables full and the dance floor active. Expect a social brunch atmosphere where coming hungry is encouraged and staying dancing is almost guaranteed. \nThe brunch takes place at STORIA\, with reservations recommended. To book your table\, call 0122 145 1111.
URL:https://cairospots.com/event/storia-saturday-brunch-with-minds-of-lust-ziad-mousa/
LOCATION:Storia Katameya Heights\, Katameya Heights Rd\, New Cairo 1\, Cairo Governorate 4721010\, New Cairo
CATEGORIES:Food,Party
ATTACH;FMTTYPE=image/jpeg:https://cairospots.com/wp-content/uploads/2026/01/Untitled-design-9.jpg
END:VEVENT
BEGIN:VEVENT
DTSTART;TZID=UTC:20260213T170000
DTEND;TZID=UTC:20260213T233000
DTSTAMP:20260425T023412
CREATED:20260206T174618Z
LAST-MODIFIED:20260206T174931Z
UID:10001903-1771002000-1771025400@cairospots.com
SUMMARY:Brunch Collective at Barranco
DESCRIPTION:Brunch Collective returns with an elevated afternoon to night experience at Barranco\, blending refined Nikkei cuisine with a carefully curated musical journey. Taking place on Friday\, February 13\, from 5:00 PM till late\, the event brings together a sophisticated crowd for a relaxed yet high energy gathering soundtracked by Afro House and House sets from Jimboo and Aly Awadi. Set against the backdrop of Barranco on Cairo Alexandria Desert Road in Pyramids Heights\, Giza\, the experience is designed around good food\, flowing conversations\, and music that carries the night forward. Chic casual dress code applies\, with a focus on atmosphere\, respect\, and responsible enjoyment throughout the event.
URL:https://cairospots.com/event/brunch-collective-at-barranco/
LOCATION:Barranco\, Cairo - Alexandria Desert Rd\, Al Giza Desert\, Giza Governorate 3296131\, Giza\, Giza Governorate 12512\, New Giza
CATEGORIES:Food,Party
ATTACH;FMTTYPE=image/jpeg:https://cairospots.com/wp-content/uploads/2026/02/Event-Cover-10.jpg
END:VEVENT
BEGIN:VEVENT
DTSTART;TZID=UTC:20260213T220000
DTEND;TZID=UTC:20260213T233000
DTSTAMP:20260425T023412
CREATED:20260206T200144Z
LAST-MODIFIED:20260206T200403Z
UID:10001904-1771020000-1771025400@cairospots.com
SUMMARY:Anti Valentine’s Singles Edition at Lucida
DESCRIPTION:Anti Valentine’s Singles Edition lands at Lucida for a night that flips the script on February 13. Starting from 10 PM onwards\, this one is not about couples\, it is about movement\, mood\, and letting the night take its own direction. The dance floor is driven by a back to back set from Sam and Bassem Nassif\, bringing a late night energy built for release\, connection\, and pure momentum. Designed as a no pressure\, music first experience\, the night leans into rhythm\, atmosphere\, and the freedom to lose yourself till late. For reservations and tables\, head to the link in bio or call 01201130000.
URL:https://cairospots.com/event/anti-valentines-singles-edition-at-lucida/
LOCATION:Lucida\, Arkan Plaza Extension\, First Al Sheikh Zayed\, Giza Governorate 3242304\, Sheikh Zayed
CATEGORIES:Food
ATTACH;FMTTYPE=image/jpeg:https://cairospots.com/wp-content/uploads/2026/02/Event-Cover-11.jpg
END:VEVENT
BEGIN:VEVENT
DTSTART;TZID=UTC:20260214T160000
DTEND;TZID=UTC:20260214T233000
DTSTAMP:20260425T023412
CREATED:20260205T153054Z
LAST-MODIFIED:20260205T153054Z
UID:10001899-1771084800-1771111800@cairospots.com
SUMMARY:Storia’s Valentine with Harfoush
DESCRIPTION:Valentine’s Day at Storia is set to unfold with a live performance by Harfoush\, blending jazz energy with a warm\, celebratory atmosphere. Taking place on Saturday\, February 14 at 4 PM\, the afternoon brings together signature dishes\, flowing drinks\, and live music that builds into an easygoing celebration of love and connection. Expect a lively crowd\, familiar melodies\, and a setting made for lingering conversations\, shared moments\, and dancing well into the evening. Reservations are available at 0122 145 1111.
URL:https://cairospots.com/event/storias-valentine-with-harfoush/
LOCATION:Storia Katameya Heights\, Katameya Heights Rd\, New Cairo 1\, Cairo Governorate 4721010\, New Cairo
CATEGORIES:Food
ATTACH;FMTTYPE=image/jpeg:https://cairospots.com/wp-content/uploads/2026/02/Event-Cover-6.jpg
END:VEVENT
BEGIN:VEVENT
DTSTART;TZID=UTC:20260214T180000
DTEND;TZID=UTC:20260214T233000
DTSTAMP:20260425T023412
CREATED:20260205T152550Z
LAST-MODIFIED:20260205T152550Z
UID:10001897-1771092000-1771111800@cairospots.com
SUMMARY:Beyond the Table for Two at The Lemon Tree & Co.
DESCRIPTION:This Valentine’s Day\, The Lemon Tree & Co. invites you to step beyond the traditional dinner setting into an intimate wine and dine experience. The evening brings together curated wines\, shared plates\, and a warm\, thoughtfully designed atmosphere\, with Fadi Sameh live setting the tone as the night unfolds. Guests can choose between a sunset seating that gently opens the evening or a late night seating for those who prefer a deeper\, more intimate flow. Reservations are available via @thelemontreeandco link in bio.
URL:https://cairospots.com/event/beyond-the-table-for-two-at-the-lemon-tree-co/
LOCATION:Lemon Tree & Co. One Ninety\, 2C83+26 One ninety\, New Cairo 1\, Cairo Governorate 4720120\, New Cairo
CATEGORIES:Food
ATTACH;FMTTYPE=image/png:https://cairospots.com/wp-content/uploads/2026/02/Event-Cover.png
END:VEVENT
BEGIN:VEVENT
DTSTART;TZID=UTC:20260403T140000
DTEND;TZID=UTC:20260403T233000
DTSTAMP:20260425T023412
CREATED:20260329T145824Z
LAST-MODIFIED:20260329T152733Z
UID:10001956-1775224800-1775259000@cairospots.com
SUMMARY:Tryb Launches First Brunch at Mimi Milano Ft. Kimotion
DESCRIPTION:Tryb launches its first brunch experience in Cairo on Friday April 3\, 2026 at Mimi Milano in Palm Hills\, running from 2 PM till late. \nThe lineup features Kimotion\, Ziad Mousa\, and Samaha. The music direction is afro house\, afro tech\, and afro melodic. Tryb is a new event brand focused on elite events around afro house culture. This is their debut in Cairo. \nMimi Milano is located in Golf Central Mall\, Palm Hills. The brunch combines a refined food experience with a full day of music from 2 PM onwards.
URL:https://cairospots.com/event/tryb-launches-first-brunch-at-mimi-milano-ft-kimotion/
LOCATION:Mimi Milano\, Golf Central Mall\, Palm Hills\, First 6th of October\, Giza Governorate 3292531\, Sheikh Zayed
CATEGORIES:Food,Party
ATTACH;FMTTYPE=image/jpeg:https://cairospots.com/wp-content/uploads/2026/03/Event-Cover-69.jpg
END:VEVENT
BEGIN:VEVENT
DTSTART;TZID=UTC:20260424T130000
DTEND;TZID=UTC:20260424T190000
DTSTAMP:20260425T023412
CREATED:20260415T184433Z
LAST-MODIFIED:20260420T180856Z
UID:10001964-1777035600-1777057200@cairospots.com
SUMMARY:The Brunch at Esca Cueva
DESCRIPTION:Hilltop Brunch Overlooking Cairo Elevated above the city\, this brunch offers one of the most breathtaking perspectives Cairo has to offer. Set on a scenic hilltop\, you’ll be overlooking the endless skyline of Cairo — a city that stretches as far as the eye can see\, blending history\, chaos\, beauty\, and energy all into one. It’s a view that reminds you exactly why Cairo is unlike anywhere else in the world. This experience is all about balance: a relaxed daytime setting\, a refined crowd\, and music that slowly builds as the afternoon unfolds. Whether you’re here for the views\, the atmosphere\, or the people\, this is where everything comes together effortlessly. Includes: • Open bar (beer\, wine) • Open buffet (cheeses\, canapés\, fruits\, desserts) What to expect: • Panoramic views over Cairo’s skyline • Curated music & laid-back brunch vibes • International crowd & social atmosphere A moment to take it all in before the intensity of the night begins. The perfect reset before Zamna. Very limited capacity. Book early.
URL:https://cairospots.com/event/the-brunch-at-esca-cueva/
LOCATION:Esca Cueva
CATEGORIES:Food,Party
ATTACH;FMTTYPE=image/jpeg:https://cairospots.com/wp-content/uploads/2026/04/IMG_3481-1.jpeg
END:VEVENT
BEGIN:VEVENT
DTSTART;TZID=UTC:20260425T140000
DTEND;TZID=UTC:20260425T180000
DTSTAMP:20260425T023412
CREATED:20260415T185658Z
LAST-MODIFIED:20260420T181032Z
UID:10001965-1777125600-1777140000@cairospots.com
SUMMARY:Downtown Cairo Rooftop Brunch
DESCRIPTION:Downtown Rooftop Brunch @ Mazeej Set above the vibrant streets of Downtown Cairo\, this rooftop brunch at Mazeej Boutique Hotel is your perfect daytime escape before the energy of Zamna begins. Downtown Cairo isn’t just a location — it’s the soul of the city. A place where historic architecture meets modern culture\, where every street has a story\, and where Cairo’s real character comes alive. From hidden cafés to iconic buildings\, it’s the kind of area you explore once… and keep coming back to. Now take that energy\, and bring it up to a rooftop. Expect a laid-back yet elevated atmosphere with a curated crowd\, great music\, and panoramic views over one of the most authentic districts in the city. Whether you’re just landing in Cairo or already deep into the weekend experience\, this is where you reset\, connect\, and get into the rhythm. What to expect: • Open bar: wine\, sangria & beer • Rooftop setting in one of Downtown’s most charming boutique hotels • Music & atmosphere designed to ease you into the night ahead • International crowd & festival energy This is the pre-drink spot before Zamna — the place where the weekend really starts. Very limited capacity. Book early.
URL:https://cairospots.com/event/downtown-cairo-rooftop-brunch/
LOCATION:Mazeej Balad Rooftop
CATEGORIES:Food,Party
ATTACH;FMTTYPE=image/jpeg:https://cairospots.com/wp-content/uploads/2026/04/IMG_3482.jpeg
END:VEVENT
END:VCALENDAR