BEGIN:VCALENDAR
VERSION:2.0
PRODID:-//Cairo Spots - ECPv6.15.20//NONSGML v1.0//EN
CALSCALE:GREGORIAN
METHOD:PUBLISH
X-ORIGINAL-URL:https://cairospots.com
X-WR-CALDESC:Events for Cairo Spots
REFRESH-INTERVAL;VALUE=DURATION:PT1H
X-Robots-Tag:noindex
X-PUBLISHED-TTL:PT1H
BEGIN:VTIMEZONE
TZID:UTC
BEGIN:STANDARD
TZOFFSETFROM:+0000
TZOFFSETTO:+0000
TZNAME:UTC
DTSTART:20250101T000000
END:STANDARD
END:VTIMEZONE
BEGIN:VEVENT
DTSTART;TZID=UTC:20260120T200000
DTEND;TZID=UTC:20260120T235900
DTSTAMP:20260425T041106
CREATED:20260119T075253Z
LAST-MODIFIED:20260119T075253Z
UID:10001290-1768939200-1768953540@cairospots.com
SUMMARY:Game Night at The Tap East
DESCRIPTION:Game Night returns on Tuesday\, January 20\, 2026\, with a high energy evening built around games\, music\, and food. Expect surprise DJs on deck duty throughout the night\, keeping the soundtrack moving while the games stay competitive. \nThe night is designed for groups and walk ins alike\, combining interactive games with big bites\, drinks\, and a lively crowd atmosphere. Bookings are available via direct message on The Tap East Facebook page.
URL:https://cairospots.com/event/game-night-at-the-tap-east/
LOCATION:The Tap East\, 2FWG+6FJ، Stella Compound\, Mohamed Naguib Axis\, New Cairo\, New Cairo 1\, Cairo Governorate\, New Cairo
CATEGORIES:Games
ATTACH;FMTTYPE=image/jpeg:https://cairospots.com/wp-content/uploads/2026/01/🔥-TUESDAY-20th-GAME-NIGHTs-heating-up-with-our-surprise-acts-on-deck-duty-🎧-Its-your-time-to-2.jpg
END:VEVENT
BEGIN:VEVENT
DTSTART;TZID=UTC:20260120T200000
DTEND;TZID=UTC:20260120T235900
DTSTAMP:20260425T041106
CREATED:20260119T081803Z
LAST-MODIFIED:20260119T082459Z
UID:10001293-1768939200-1768953540@cairospots.com
SUMMARY:Game Night with Samy El Sakka at The Tap West
DESCRIPTION:Game Night returns on Tuesday\, January 20\, 2026\, with Samy El Sakka taking over deck duties for a high energy night built around music\, games\, and late night momentum. Expect a lively dancefloor\, competitive game setups\, and a soundtrack that keeps the pace moving throughout the night. \nAlongside the music\, the night brings together casual games\, food\, and drinks in a social club setting designed for groups looking to unwind and stay active. The event blends interactive play with DJ driven energy\, making it a midweek night that goes beyond a standard party format.
URL:https://cairospots.com/event/game-night-with-samy-el-sakka-at-the-tap-west/
LOCATION:The Tap West\, Galleria40\, 26th of July Corridor\, First Al Sheikh Zayed\, Giza Governorate 12578\, Sheikh Zayed
CATEGORIES:Food,Games,Party
ATTACH;FMTTYPE=image/jpeg:https://cairospots.com/wp-content/uploads/2026/01/🔥-TUESDAY-20th-GAME-NIGHTs-heating-up-with-SAMY-EL-SAKKA-on-deck-duty-🎧-Expect-wild-drops-s-2.jpg
END:VEVENT
BEGIN:VEVENT
DTSTART;TZID=UTC:20260122T190000
DTEND;TZID=UTC:20260122T213000
DTSTAMP:20260425T041106
CREATED:20260118T061053Z
LAST-MODIFIED:20260118T061236Z
UID:10000866-1769108400-1769117400@cairospots.com
SUMMARY:Trivia Game Night at Darb 15
DESCRIPTION:Trivia Game Night is a lively and interactive quiz experience hosted at Darb 15 Beit Arafa in Maadi. The event features a wide range of questions across multiple topics\, presented in both English and Arabic\, making it accessible and engaging for bilingual participants and trivia enthusiasts alike. \nWhether you join solo or as part of a team\, the focus is on fun\, participation\, and friendly competition. Expect an energetic atmosphere filled with laughter\, quick thinking\, and great vibes\, where learning and entertainment come together in a relaxed social setting. \nThis is a night designed for curious minds\, social spirits\, and anyone looking to enjoy a smart and playful challenge in a welcoming community space.
URL:https://cairospots.com/event/trivia-game-night-at-darb-15/
LOCATION:Darb 15 Bait Arafa\, X72C+V3X\, Street 15\, Maadi as Sarayat Al Gharbeyah\, Maadi\, Cairo Governorate 4212008\, Maadi
CATEGORIES:Games
ATTACH;FMTTYPE=image/jpeg:https://cairospots.com/wp-content/uploads/2026/01/SnapInsta-Ai_3811364225457965582-2.jpg
END:VEVENT
BEGIN:VEVENT
DTSTART;TZID=UTC:20260129T200000
DTEND;TZID=UTC:20260129T220000
DTSTAMP:20260425T041106
CREATED:20260119T153804Z
LAST-MODIFIED:20260119T153804Z
UID:10001301-1769716800-1769724000@cairospots.com
SUMMARY:Game Night at Ghurnata Community Space with Playfulbatta
DESCRIPTION:Game Night returns to Ghurnata Community Space on Thursday\, January 29\, 2026\, from 8:00 to 10:00 p.m.\, in collaboration with Playfulbatta. \nThe evening is centered around board games\, card games\, and interactive play designed to encourage connection\, conversation\, and shared fun in a relaxed\, screen free setting. Participants can join casual group games\, meet new people\, and enjoy a social atmosphere built around play and laughter. \nThe event is open to anyone looking for a laid back night out focused on community and interaction rather than phones or screens. Reservations and details are available via DM with Playfulbatta.
URL:https://cairospots.com/event/game-night-at-ghurnata-community-space-with-playfulbatta/
LOCATION:Ghurnata Community Space\, Ghernata\, El-Montaza\, Heliopolis\, Cairo Governorate 4460220\, Heliopolis
CATEGORIES:Games
ATTACH;FMTTYPE=image/jpeg:https://cairospots.com/wp-content/uploads/2026/01/Game-Night-returns-to-Ghurnata-Community-Space-for-the-second-time.In-collaboration-with-@playfu-2.jpg
END:VEVENT
END:VCALENDAR