BEGIN:VCALENDAR
VERSION:2.0
PRODID:-//Cairo Spots - ECPv6.15.20//NONSGML v1.0//EN
CALSCALE:GREGORIAN
METHOD:PUBLISH
X-WR-CALNAME:Cairo Spots
X-ORIGINAL-URL:https://cairospots.com
X-WR-CALDESC:Events for Cairo Spots
REFRESH-INTERVAL;VALUE=DURATION:PT1H
X-Robots-Tag:noindex
X-PUBLISHED-TTL:PT1H
BEGIN:VTIMEZONE
TZID:UTC
BEGIN:STANDARD
TZOFFSETFROM:+0000
TZOFFSETTO:+0000
TZNAME:UTC
DTSTART:20250101T000000
END:STANDARD
END:VTIMEZONE
BEGIN:VEVENT
DTSTART;TZID=UTC:20260425T120000
DTEND;TZID=UTC:20260425T190000
DTSTAMP:20260424T200750
CREATED:20260416T121626Z
LAST-MODIFIED:20260420T181002Z
UID:10001991-1777118400-1777143600@cairospots.com
SUMMARY:Pyramids Park Pool Party
DESCRIPTION:Pool Party @ Pyramids Park Resort Set against one of Cairo’s most iconic backdrops\, this pool party at Pyramids Park Resort is where the weekend energy truly comes alive. Just minutes away from the Pyramids\, this venue blends resort-style relaxation with a high-energy crowd\, creating the perfect daytime escape before the night unfolds. Expect a vibrant international mix of guests\, great music\, and a setting designed for both chilling and turning up. Whether you’re in the pool\, dancing under the sun\, or posted up with friends\, this is where the atmosphere builds fast and sets the tone for everything that follows. What to expect: • Poolside DJ sets & uplifting daytime music • Spacious resort setting surrounded by palm trees • International crowd & festival energy This is a key stop of the Zamna weekend — the perfect way to reset\, recharge\, and get back into the rhythm before the night. Very limited capacity. Book early.
URL:https://cairospots.com/event/pyramids-park-pool-party-2/
LOCATION:Pyramids Park Resort Hotel
CATEGORIES:Party
ATTACH;FMTTYPE=image/jpeg:https://cairospots.com/wp-content/uploads/2026/04/IMG_3512.jpeg
END:VEVENT
BEGIN:VEVENT
DTSTART;TZID=UTC:20260425T140000
DTEND;TZID=UTC:20260425T180000
DTSTAMP:20260424T200750
CREATED:20260415T185658Z
LAST-MODIFIED:20260420T181032Z
UID:10001965-1777125600-1777140000@cairospots.com
SUMMARY:Downtown Cairo Rooftop Brunch
DESCRIPTION:Downtown Rooftop Brunch @ Mazeej Set above the vibrant streets of Downtown Cairo\, this rooftop brunch at Mazeej Boutique Hotel is your perfect daytime escape before the energy of Zamna begins. Downtown Cairo isn’t just a location — it’s the soul of the city. A place where historic architecture meets modern culture\, where every street has a story\, and where Cairo’s real character comes alive. From hidden cafés to iconic buildings\, it’s the kind of area you explore once… and keep coming back to. Now take that energy\, and bring it up to a rooftop. Expect a laid-back yet elevated atmosphere with a curated crowd\, great music\, and panoramic views over one of the most authentic districts in the city. Whether you’re just landing in Cairo or already deep into the weekend experience\, this is where you reset\, connect\, and get into the rhythm. What to expect: • Open bar: wine\, sangria & beer • Rooftop setting in one of Downtown’s most charming boutique hotels • Music & atmosphere designed to ease you into the night ahead • International crowd & festival energy This is the pre-drink spot before Zamna — the place where the weekend really starts. Very limited capacity. Book early.
URL:https://cairospots.com/event/downtown-cairo-rooftop-brunch/
LOCATION:Mazeej Balad Rooftop
CATEGORIES:Food,Party
ATTACH;FMTTYPE=image/jpeg:https://cairospots.com/wp-content/uploads/2026/04/IMG_3482.jpeg
END:VEVENT
BEGIN:VEVENT
DTSTART;TZID=UTC:20260425T140000
DTEND;TZID=UTC:20260425T233000
DTSTAMP:20260424T200750
CREATED:20260421T182825Z
LAST-MODIFIED:20260421T182825Z
UID:10002028-1777125600-1777159800@cairospots.com
SUMMARY:MOHASSEB 14TH ANNIVERSARY
DESCRIPTION:EVENT DESCRIPTION\nCelebrating 14 years of Mohasseb & Friends\, this anniversary edition brings together artists who have contributed to that journey! For over a decade\, Mohasseb has been a defining force within Cairo’s electronic music scene\, holding one of the longest-running residencies at Cairo Jazz Club. Known for his melodic techno identity and immersive\, emotionally charged sets\, Mohasseb’s journey from local selector to internationally recognized act reflects a very deep connection to the dancefloor. This night features Heavy Pins\, whose signature blend of deep house\, nu-disco\, and G-house\, a natural extension of Mohasseb’s sonic world\, and Waleed and Clay Lio add their own perspectives to the night\, bridging sounds\, styles\, and moments that reflect the spirit of the series. Celebrate with us on April 25!
URL:https://cairospots.com/event/mohasseb-14th-anniversary/
LOCATION:Cairo Jazz Club 610\, CJC 610\, Al Guezira Plaza\, Sheikh Zayed 3755220 Giza Governorate
CATEGORIES:Party
ATTACH;FMTTYPE=image/jpeg:https://cairospots.com/wp-content/uploads/2026/04/IMG_3559.jpeg
END:VEVENT
BEGIN:VEVENT
DTSTART;TZID=UTC:20260425T200000
DTEND;TZID=UTC:20260425T233000
DTSTAMP:20260424T200750
CREATED:20260419T184853Z
LAST-MODIFIED:20260419T184853Z
UID:10002006-1777147200-1777159800@cairospots.com
SUMMARY:Bahiyyah | High Dam
DESCRIPTION:Music with Egyptian rhythm\, and celebration as Bahyiia takes the stage with powerful vocals and contemporary Arabic melodies that carry emotion and depth and High Dam bring their signature blend of Nubian heritage and modern instrumentation\, weaving traditional rhythms into a vibrant live performance that bridges generations and musical worlds! Join us on April 25th for the love of Egyptian Heritage!
URL:https://cairospots.com/event/bahiyyah-high-dam/
LOCATION:Cairo Jazz Club Agouza\, 197 26th of July Corridor\, Agouza\, Giza\, Agouza
CATEGORIES:Party
ATTACH;FMTTYPE=image/jpeg:https://cairospots.com/wp-content/uploads/2026/04/IMG_3536.jpeg
END:VEVENT
BEGIN:VEVENT
DTSTART;TZID=UTC:20260425T200000
DTEND;TZID=UTC:20260425T233000
DTSTAMP:20260424T200750
CREATED:20260421T180811Z
LAST-MODIFIED:20260421T210736Z
UID:10002024-1777147200-1777159800@cairospots.com
SUMMARY:Vavura
DESCRIPTION:For one night only\, VAVURA returns to celebrate two years of shaping the afterhours scene in Cairo. .An intimate gathering set in a private location\, where sound\, energy\, and crowd become one. .From 3AM till sunrise and beyond\, expect a carefully curated journey led by Youssef Awadly\, MOE\, and Sabri B2B Rikaya. .This is not just a party it’s a continuation of a movement.
URL:https://cairospots.com/event/vavura/
LOCATION:Private Venue
CATEGORIES:Party
ATTACH;FMTTYPE=image/jpeg:https://cairospots.com/wp-content/uploads/2026/04/b8a61156-f8fc-4914-b5a9-61e66d755820.jpeg
END:VEVENT
END:VCALENDAR