BEGIN:VCALENDAR
VERSION:2.0
PRODID:-//Cairo Spots - ECPv6.15.20//NONSGML v1.0//EN
CALSCALE:GREGORIAN
METHOD:PUBLISH
X-ORIGINAL-URL:https://cairospots.com
X-WR-CALDESC:Events for Cairo Spots
REFRESH-INTERVAL;VALUE=DURATION:PT1H
X-Robots-Tag:noindex
X-PUBLISHED-TTL:PT1H
BEGIN:VTIMEZONE
TZID:UTC
BEGIN:STANDARD
TZOFFSETFROM:+0000
TZOFFSETTO:+0000
TZNAME:UTC
DTSTART:20250101T000000
END:STANDARD
END:VTIMEZONE
BEGIN:VEVENT
DTSTART;TZID=UTC:20260427T190000
DTEND;TZID=UTC:20260427T210000
DTSTAMP:20260424T200904
CREATED:20260421T183109Z
LAST-MODIFIED:20260421T183109Z
UID:10002029-1777316400-1777323600@cairospots.com
SUMMARY:Salsa Night
DESCRIPTION:Salsa Night
URL:https://cairospots.com/event/salsa-night/
LOCATION:Cairo Jazz Club 610\, CJC 610\, Al Guezira Plaza\, Sheikh Zayed 3755220 Giza Governorate
CATEGORIES:Party
ATTACH;FMTTYPE=image/jpeg:https://cairospots.com/wp-content/uploads/2026/04/IMG_3560.jpeg
END:VEVENT
BEGIN:VEVENT
DTSTART;TZID=UTC:20260427T200000
DTEND;TZID=UTC:20260427T233000
DTSTAMP:20260424T200904
CREATED:20260419T185507Z
LAST-MODIFIED:20260419T185507Z
UID:10002008-1777320000-1777332600@cairospots.com
SUMMARY:404 Groove Showcase
DESCRIPTION:EVENT DESCRIPTION\n404 Groove is back with another banging showcase! A line up to get you maxing out on the groove\, Budz b2b Gees open with a loose\, tech house-led start\, setting the tone \, Saify and Omar Arafa take it further with a fiery b2b set\, and Fade Republic b2b Zawahry with melodic techno and afro house! Join us on April 27th!
URL:https://cairospots.com/event/404-groove-showcase/
LOCATION:Cairo Jazz Club Agouza\, 197 26th of July Corridor\, Agouza\, Giza\, Agouza
CATEGORIES:Party
ATTACH;FMTTYPE=image/jpeg:https://cairospots.com/wp-content/uploads/2026/04/IMG_3539.jpeg
END:VEVENT
END:VCALENDAR