BEGIN:VCALENDAR
VERSION:2.0
PRODID:-//Cairo Spots - ECPv6.15.20//NONSGML v1.0//EN
CALSCALE:GREGORIAN
METHOD:PUBLISH
X-ORIGINAL-URL:https://cairospots.com
X-WR-CALDESC:Events for Cairo Spots
REFRESH-INTERVAL;VALUE=DURATION:PT1H
X-Robots-Tag:noindex
X-PUBLISHED-TTL:PT1H
BEGIN:VTIMEZONE
TZID:UTC
BEGIN:STANDARD
TZOFFSETFROM:+0000
TZOFFSETTO:+0000
TZNAME:UTC
DTSTART:20250101T000000
END:STANDARD
END:VTIMEZONE
BEGIN:VEVENT
DTSTART;TZID=UTC:20260502T200000
DTEND;TZID=UTC:20260502T233000
DTSTAMP:20260424T200858
CREATED:20260421T184733Z
LAST-MODIFIED:20260421T205602Z
UID:10002034-1777752000-1777764600@cairospots.com
SUMMARY:UMI | THE SYNAPTIC
DESCRIPTION:EVENT DESCRIPTION\nConnect to the fire of the alternative urban sounds of Arabic rap and hiphop! Umi brings live sets taking you into his world of dark and light urban sound with an explorative spectrum of Egyptian Arabic R&B\, rap and electro shaabi influences with surprising melodic elements and global twists like afro and Brazilian beats. Palestinian-Jordanian bar spitter The Synaptik follows with a live hip-hop performance with his signature emotion\, storytelling\, and atmospheric sound all the way from Palestine. Join us on May 2nd!
URL:https://cairospots.com/event/umi-the-synaptic/
LOCATION:Cairo Jazz Club 610\, CJC 610\, Al Guezira Plaza\, Sheikh Zayed 3755220 Giza Governorate
CATEGORIES:Party
ATTACH;FMTTYPE=image/jpeg:https://cairospots.com/wp-content/uploads/2026/04/IMG_3565.jpeg
END:VEVENT
END:VCALENDAR