BEGIN:VCALENDAR
VERSION:2.0
PRODID:-//Cairo Spots - ECPv6.15.20//NONSGML v1.0//EN
CALSCALE:GREGORIAN
METHOD:PUBLISH
X-ORIGINAL-URL:https://cairospots.com
X-WR-CALDESC:Events for Cairo Spots
REFRESH-INTERVAL;VALUE=DURATION:PT1H
X-Robots-Tag:noindex
X-PUBLISHED-TTL:PT1H
BEGIN:VTIMEZONE
TZID:UTC
BEGIN:STANDARD
TZOFFSETFROM:+0000
TZOFFSETTO:+0000
TZNAME:UTC
DTSTART:20250101T000000
END:STANDARD
END:VTIMEZONE
BEGIN:VEVENT
DTSTART;TZID=UTC:20260516T200000
DTEND;TZID=UTC:20260516T233000
DTSTAMP:20260424T231447
CREATED:20260419T180207Z
LAST-MODIFIED:20260419T180207Z
UID:10002001-1778961600-1778974200@cairospots.com
SUMMARY:MAINLINE MAGIC ORCHESTRA
DESCRIPTION:House Rules:\n-Minimum entry age is 23+\n-Physical valid ID to be checked on door.\n-Violent behavior will not be tolerated.\n-Entry is allowed for couples or mixed groups only.\n-Harassment of any kind will not be tolerated.\n-Illegal substances are not permitted.\n-Sunglasses are not permitted.\n-Slippers are not permitted.\n-Entry is for valid QR code holders only.\n-Door selection applies.\n-Tickets cannot be refunded or transferred once payment is made.
URL:https://cairospots.com/event/mainline-magic-orchestra/
LOCATION:Cairo Jazz Club 610\, CJC 610\, Al Guezira Plaza\, Sheikh Zayed 3755220 Giza Governorate
CATEGORIES:Party
ATTACH;FMTTYPE=image/jpeg:https://cairospots.com/wp-content/uploads/2026/04/IMG_3531.jpeg
END:VEVENT
END:VCALENDAR