BEGIN:VCALENDAR
VERSION:2.0
PRODID:-//Cairo Spots - ECPv6.15.20//NONSGML v1.0//EN
CALSCALE:GREGORIAN
METHOD:PUBLISH
X-ORIGINAL-URL:https://cairospots.com
X-WR-CALDESC:Events for Cairo Spots
REFRESH-INTERVAL;VALUE=DURATION:PT1H
X-Robots-Tag:noindex
X-PUBLISHED-TTL:PT1H
BEGIN:VTIMEZONE
TZID:UTC
BEGIN:STANDARD
TZOFFSETFROM:+0000
TZOFFSETTO:+0000
TZNAME:UTC
DTSTART:20250101T000000
END:STANDARD
END:VTIMEZONE
BEGIN:VEVENT
DTSTART;TZID=UTC:20260522T200000
DTEND;TZID=UTC:20260522T233000
DTSTAMP:20260425T005613
CREATED:20260420T174607Z
LAST-MODIFIED:20260420T210816Z
UID:10002016-1779480000-1779492600@cairospots.com
SUMMARY:Adam Port
DESCRIPTION:Adam Port takes over the iconic Citadel of Saladin for a night that blends history with sound like never before! \nUnder the open sky\, expect deep grooves\, hypnotic rhythms\, and the unmistakable Keinemusik atmosphere.\nThis isn’t just an event\, it’s a moment where music\, culture\, and legacy collide.
URL:https://cairospots.com/event/adam-port/
LOCATION:Salah El Din Citadel
CATEGORIES:Party
ATTACH;FMTTYPE=image/jpeg:https://cairospots.com/wp-content/uploads/2026/04/IMG_3547.jpeg
END:VEVENT
BEGIN:VEVENT
DTSTART;TZID=UTC:20260528T210000
DTEND;TZID=UTC:20260528T233000
DTSTAMP:20260425T005613
CREATED:20260419T194133Z
LAST-MODIFIED:20260422T171405Z
UID:10002014-1780002000-1780011000@cairospots.com
SUMMARY:Plus’ anniversary - Korolova
DESCRIPTION:P+US presents Korolova on May 28 at Cubix\, El Gouna. A rising force in melodic techno and progressive house\, she brings an electrifying\, atmospheric sound shaped to connect on a deeper level. With global recognition\, major label releases\, and her own Captive Soul imprint\, Korolova delivers a journey driven by emotion\, energy\, and momentum. \nHouse Rules : \nDoors open: 9:00 PM \nDoors close: 12:00 AM \nNo on-door tickets \nNo re-entry \nMinimum entry age: 21+ \nCouples / mixed groups only \nBouchon Not Allowed \nRespectful behavior is expected at all times \nDoor selection applies \nPaid tickets are non-refundable and non-exchangeable \nEvent Tickets don’t guarantee access to El Gouna Premises
URL:https://cairospots.com/event/plus-anniversary-korolova/
LOCATION:Cubix El Gouna
CATEGORIES:Party
ATTACH;FMTTYPE=image/jpeg:https://cairospots.com/wp-content/uploads/2026/04/77632865-f6fc-4ada-9ffd-495a413cc325.jpeg
END:VEVENT
BEGIN:VEVENT
DTSTART;TZID=UTC:20260724T210000
DTEND;TZID=UTC:20260724T233000
DTSTAMP:20260425T005613
CREATED:20260213T132244Z
LAST-MODIFIED:20260213T133140Z
UID:10001927-1784926800-1784935800@cairospots.com
SUMMARY:PRE-REGISTRATION: Adriatique in North Coast
DESCRIPTION:Adriatique takes over The North Coast on July 24\, 2026\, for a special open-air experience presented by P+US. The duo will deliver a curated journey of depth\, tension\, and atmosphere by the sea. This marks their first show since their last X Show performance at the Pyramids\, featuring a large-scale production debuting their new new logo for a new immersive visual experience.
URL:https://cairospots.com/event/pre-registration-adriatique-in-north-coast/
LOCATION:North Coast\, North Coast\, Egypt\, North Coast
CATEGORIES:Festival,Party
ATTACH;FMTTYPE=image/jpeg:https://cairospots.com/wp-content/uploads/2026/02/Event-Cover-35-1.jpg
END:VEVENT
BEGIN:VEVENT
DTSTART;TZID=UTC:20260807T210000
DTEND;TZID=UTC:20260807T233000
DTSTAMP:20260425T005613
CREATED:20260420T173730Z
LAST-MODIFIED:20260420T181333Z
UID:10002015-1786136400-1786145400@cairospots.com
SUMMARY:PRE-REGISTRATION: Solomun
DESCRIPTION:P+US presents Solomun this August 7th the North Coast. Known for his signature long-format sets\, he delivers an immersive journey through melodic house and techno. Guided by his “Nobody Is Not Loved” ethos\, the night unfolds as one collective experience by the sea. \nPre-sale is now open. Limited tickets available. \nHouse Rules: \n•⁠ ⁠Doors open: 9:00 PM \n•⁠ ⁠Doors close: 12:00 AM \n•⁠ ⁠No On-Door Tickets \n•⁠ ⁠No re-entry \n•⁠ ⁠Minimum entry age is 21+ \n•⁠ ⁠Couples/Mixed Groups only \n•⁠ ⁠Violent behavior will not be tolerated \n•⁠ ⁠Door selection applies \n•⁠ ⁠Paid tickets are not refundable or exchangeable \n•⁠ ⁠Entry via valid physical ticket only \n•⁠ ⁠Tickets must be redeemed in advance from the officially announ
URL:https://cairospots.com/event/pre-registration-solomun/
LOCATION:North Coast\, North Coast\, Egypt\, North Coast
CATEGORIES:Party
ATTACH;FMTTYPE=image/jpeg:https://cairospots.com/wp-content/uploads/2026/04/IMG_3546.jpeg
END:VEVENT
BEGIN:VEVENT
DTSTART;TZID=UTC:20260821T210000
DTEND;TZID=UTC:20260821T233000
DTSTAMP:20260425T005613
CREATED:20260214T185242Z
LAST-MODIFIED:20260214T185358Z
UID:10001929-1787346000-1787355000@cairospots.com
SUMMARY:PRE-REGISTRATION: Black Coffee in North Coast
DESCRIPTION:Black Coffee returns to the North Coast on August 21st for a special night presented by P+US. Set by the sea\, the night moves through his signature Afro-house sound\, steady\, emotional\, and built for summer after dark. Following his last coast appearance\, he returns for another summer night shaped by sound\, and atmosphere. \nHouse Rules:\n•⁠ ⁠Doors open: 9:00 PM\n•⁠ ⁠Doors close: 12:00 AM\n•⁠ ⁠No On-Door Tickets\n•⁠ ⁠No re-entry\n•⁠ ⁠Minimum entry age is 21+\n•⁠ ⁠Couples/Mixed Groups only\n•⁠ ⁠Violent behavior will not be tolerated\n•⁠ ⁠Door selection applies\n•⁠ ⁠Paid tickets are not refundable or exchangeable\n•⁠ ⁠Entry via valid physical ticket only\n•⁠ ⁠Tickets must be redeemed in advance from the officially announced locations only\nVENUE INFORMATION
URL:https://cairospots.com/event/pre-registration-black-coffee-in-north-coast/
LOCATION:North Coast\, North Coast\, Egypt\, North Coast
CATEGORIES:Festival,Party
ATTACH;FMTTYPE=image/jpeg:https://cairospots.com/wp-content/uploads/2026/02/IMG_3374.jpeg
END:VEVENT
END:VCALENDAR