BEGIN:VCALENDAR
VERSION:2.0
PRODID:-//Cairo Spots - ECPv6.15.20//NONSGML v1.0//EN
CALSCALE:GREGORIAN
METHOD:PUBLISH
X-WR-CALNAME:Cairo Spots
X-ORIGINAL-URL:https://cairospots.com
X-WR-CALDESC:Events for Cairo Spots
REFRESH-INTERVAL;VALUE=DURATION:PT1H
X-Robots-Tag:noindex
X-PUBLISHED-TTL:PT1H
BEGIN:VTIMEZONE
TZID:UTC
BEGIN:STANDARD
TZOFFSETFROM:+0000
TZOFFSETTO:+0000
TZNAME:UTC
DTSTART:20250101T000000
END:STANDARD
END:VTIMEZONE
BEGIN:VEVENT
DTSTART;TZID=UTC:20260424T140000
DTEND;TZID=UTC:20260424T230000
DTSTAMP:20260424T164958
CREATED:20260415T205232Z
LAST-MODIFIED:20260415T205232Z
UID:10001988-1777039200-1777071600@cairospots.com
SUMMARY:RTS Flying Lap SPRINT | Round 1 2026
DESCRIPTION:A high-energy motorsport event where drivers compete against the clock in an intense time attack format. \nThe event also features an exciting drift show\, creating a vibrant atmosphere for car enthusiasts and anyone looking for an enjoyable outdoor experience wtih friends and families.
URL:https://cairospots.com/event/rts-flying-lap-sprint-round-1-2026/
LOCATION:Curve Karting\, RSTC
CATEGORIES:Sports
ATTACH;FMTTYPE=image/jpeg:https://cairospots.com/wp-content/uploads/2026/04/IMG_3469.jpeg
END:VEVENT
BEGIN:VEVENT
DTSTART;VALUE=DATE:20260507
DTEND;VALUE=DATE:20260512
DTSTAMP:20260424T164958
CREATED:20260415T204725Z
LAST-MODIFIED:20260415T204725Z
UID:10001986-1778122800-1778468399@cairospots.com
SUMMARY:ASEEL Egyptian Horse Festival
DESCRIPTION:ASEEL Egyptian Horse Festival \nJoin us for an extraordinary celebration of equestrian heritage at The Egyptian Horse Festival\, taking place from May 7 to May 10. This Four – day event brings together horse enthusiasts\, breeders\, and experts for an unforgettable experience. \nThe festival begins with the prestigious Aseel Beauty Competition\, running for the first three days\, showcasing the elegance\, purity\, and excellence of Arabian horses. \nOn the fourth day\, don’t miss Mazad Masr\, an exclusive horse auction offering a unique opportunity to acquire exceptional horses from top breeders. \nWhether you are a professional\, a breeder\, or simply a horse lover\, this festival promises a remarkable journey into the world of Egyptian horses.
URL:https://cairospots.com/event/aseel-egyptian-horse-festival/
LOCATION:Armed Forces Equestrian Club Nasr City
CATEGORIES:Sports
ATTACH;FMTTYPE=image/jpeg:https://cairospots.com/wp-content/uploads/2026/04/IMG_3427.jpeg
END:VEVENT
BEGIN:VEVENT
DTSTART;TZID=UTC:20260516T160000
DTEND;TZID=UTC:20260516T230000
DTSTAMP:20260424T164958
CREATED:20260419T175214Z
LAST-MODIFIED:20260419T175214Z
UID:10002000-1778947200-1778972400@cairospots.com
SUMMARY:Ski Egypt’s 4x4 Snow Challenge Event – The 3rd Edition
DESCRIPTION:Back by popular demand after two successful editions\, Ski Egypt’s 4×4 Snow Challenge returns for its third edition – bigger\, bolder\, and more exciting than ever. \nHeld exclusively at Ski Egypt\, the only place in the Middle East and Africa where 4×4 cars race on snow\, this year’s event raises the bar. \nWatch powerful 4×4 vehicles drift\, race\, and tackle extreme snow-covered obstacles at -2°C as they compete for the ultimate title: Rally Snow Champion. \nBeyond the action\, enjoy a full day of live DJ sets\, entertainment\, and a vibrant atmosphere bringing together thrill-seekers and motorsport enthusiasts. \nCheer for your favorite team\, soak in the energy\, and don’t miss your chance to be part of one of the region’s most unique events on snow
URL:https://cairospots.com/event/ski-egypts-4x4-snow-challenge-event-the-3rd-edition/
LOCATION:Ski Egypt at Mall of Egypt
CATEGORIES:Sports
ATTACH;FMTTYPE=image/jpeg:https://cairospots.com/wp-content/uploads/2026/04/IMG_3530.jpeg
END:VEVENT
END:VCALENDAR