BEGIN:VCALENDAR
VERSION:2.0
PRODID:-//Cairo Spots - ECPv6.15.20//NONSGML v1.0//EN
CALSCALE:GREGORIAN
METHOD:PUBLISH
X-ORIGINAL-URL:https://cairospots.com
X-WR-CALDESC:Events for Cairo Spots
REFRESH-INTERVAL;VALUE=DURATION:PT1H
X-Robots-Tag:noindex
X-PUBLISHED-TTL:PT1H
BEGIN:VTIMEZONE
TZID:UTC
BEGIN:STANDARD
TZOFFSETFROM:+0000
TZOFFSETTO:+0000
TZNAME:UTC
DTSTART:20250101T000000
END:STANDARD
END:VTIMEZONE
BEGIN:VEVENT
DTSTART;TZID=UTC:20260130T210000
DTEND;TZID=UTC:20260130T230000
DTSTAMP:20260425T003751
CREATED:20260112T022048Z
LAST-MODIFIED:20260118T055453Z
UID:10000033-1769806800-1769814000@cairospots.com
SUMMARY:Ali Quandil: Crowd Work Comedy Show at Hilton Cairo Grand Nile
DESCRIPTION:Ali Quandil presents a live crowd work stand up comedy show on January 30\, 2026\, at 9:00 PM at the Hilton Cairo Grand Nile Theatre. Organized by CraftMedia 4\, the performance focuses on direct interaction with the audience\, with the show shaped in real time through spontaneous conversations and improvised comedy. \nThe night centers on unscripted moments\, audience driven humor\, and live stand up performance\, offering an intimate comedy experience where each show unfolds differently based on crowd participation. \nيقدّم علي قنديل عرض ستاند أب كوميدي تفاعلي يعتمد على الـ crowd work يوم ٣٠ يناير ٢٠٢٦ في تمام الساعة ٩:٠٠ مساءً على مسرح فندق هيلتون كايرو جراند نايل، بتنظيم CraftMedia 4. يعتمد العرض على التفاعل المباشر مع الجمهور، حيث يتشكّل الأداء لحظة بلحظة من خلال الحوار العفوي والكوميديا الارتجالية. \nيركّز العرض على المواقف غير المكتوبة، والكوميديا القائمة على مشاركة الحضور، ليقدّم تجربة ستاند أب حية تختلف في كل مرة بحسب تفاعل الجمهور.
URL:https://cairospots.com/event/ali-quandil-crowd-work-comedy-show/
LOCATION:Hilton Cairo Grand Nile\, Nile Corniche\, Old Cairo\, Cairo Governorate 11519\, Garden City\, Egypt
CATEGORIES:Comedy
ATTACH;FMTTYPE=image/jpeg:https://cairospots.com/wp-content/uploads/2026/01/sdwec.jpg
END:VEVENT
END:VCALENDAR