BEGIN:VCALENDAR
VERSION:2.0
PRODID:-//Cairo Spots - ECPv6.15.20//NONSGML v1.0//EN
CALSCALE:GREGORIAN
METHOD:PUBLISH
X-ORIGINAL-URL:https://cairospots.com
X-WR-CALDESC:Events for Cairo Spots
REFRESH-INTERVAL;VALUE=DURATION:PT1H
X-Robots-Tag:noindex
X-PUBLISHED-TTL:PT1H
BEGIN:VTIMEZONE
TZID:UTC
BEGIN:STANDARD
TZOFFSETFROM:+0000
TZOFFSETTO:+0000
TZNAME:UTC
DTSTART:20250101T000000
END:STANDARD
END:VTIMEZONE
BEGIN:VEVENT
DTSTART;TZID=UTC:20260124T200000
DTEND;TZID=UTC:20260124T210000
DTSTAMP:20260425T023411
CREATED:20260118T064536Z
LAST-MODIFIED:20260119T082841Z
UID:10000872-1769284800-1769288400@cairospots.com
SUMMARY:Shawshy Time Crowd Work Special at Room New Cairo
DESCRIPTION:Shawshy Time returns to the stage after a long break with a brand new crowd work special and a fresh live format. This show is built entirely around real time interaction\, spontaneous moments\, and audience driven comedy\, making every performance unique. \nThe night marks Shawshy’s first show of the year and sets the tone for a new chapter of live stand up at Room Art Space New Cairo. Expect sharp observations\, quick improvisation\, and direct engagement with the crowd in an intimate setting designed for shared tables and close interaction. \nDoors open earlier to allow guests to settle in before the show begins. Tickets are non refundable. One minimum order per person applies and is not included in the ticket price.
URL:https://cairospots.com/event/shawshy-time-crowd-work-special-at-room-new-cairo/
LOCATION:Room New Cairo\, El-Obour Square Front of Gate No.4 A.U.C South Investors\, Zizinia\, New Cairo 1\, Cairo Governorate 11835\, New Cairo
CATEGORIES:Concert
ATTACH;FMTTYPE=image/jpeg:https://cairospots.com/wp-content/uploads/2026/01/IMG_0277-MostafaZalouk.jpeg.jpg
END:VEVENT
END:VCALENDAR