BEGIN:VCALENDAR
VERSION:2.0
PRODID:-//Cairo Spots - ECPv6.15.20//NONSGML v1.0//EN
CALSCALE:GREGORIAN
METHOD:PUBLISH
X-WR-CALNAME:Cairo Spots
X-ORIGINAL-URL:https://cairospots.com
X-WR-CALDESC:Events for Cairo Spots
REFRESH-INTERVAL;VALUE=DURATION:PT1H
X-Robots-Tag:noindex
X-PUBLISHED-TTL:PT1H
BEGIN:VTIMEZONE
TZID:UTC
BEGIN:STANDARD
TZOFFSETFROM:+0000
TZOFFSETTO:+0000
TZNAME:UTC
DTSTART:20250101T000000
END:STANDARD
END:VTIMEZONE
BEGIN:VEVENT
DTSTART;TZID=UTC:20260121T200000
DTEND;TZID=UTC:20260121T235900
DTSTAMP:20260425T022311
CREATED:20260115T183505Z
LAST-MODIFIED:20260116T065022Z
UID:10000806-1769025600-1769039940@cairospots.com
SUMMARY:Afrobeats & Reggaeton at Cairo Jazz Club Agouza
DESCRIPTION:Afrobeats & Reggaeton takes place on Wednesday\, January 21\, 2026\, at Cairo Jazz Club. The night features DJ sets by Jaadu and Bubblegum Kollectiv\, each bringing their own approach to rhythm driven club music. \nThe event focuses on a mix of Afrobeats and Reggaeton\, moving between melodic grooves and high energy beats designed for the dancefloor. The night is presented as a club focused music experience centered on movement\, atmosphere\, and continuous energy.
URL:https://cairospots.com/event/afrobeats-reggaeton-at-cairo-jazz-club-agouza/
LOCATION:Cairo Jazz Club Agouza\, 197 26th of July Corridor\, Agouza\, Giza\, Agouza
CATEGORIES:Party
ATTACH;FMTTYPE=image/jpeg:https://cairospots.com/wp-content/uploads/2026/01/IMG_2816-1.jpeg
END:VEVENT
END:VCALENDAR