BEGIN:VCALENDAR
VERSION:2.0
PRODID:-//Cairo Spots - ECPv6.15.20//NONSGML v1.0//EN
CALSCALE:GREGORIAN
METHOD:PUBLISH
X-ORIGINAL-URL:https://cairospots.com
X-WR-CALDESC:Events for Cairo Spots
REFRESH-INTERVAL;VALUE=DURATION:PT1H
X-Robots-Tag:noindex
X-PUBLISHED-TTL:PT1H
BEGIN:VTIMEZONE
TZID:UTC
BEGIN:STANDARD
TZOFFSETFROM:+0000
TZOFFSETTO:+0000
TZNAME:UTC
DTSTART:20250101T000000
END:STANDARD
END:VTIMEZONE
BEGIN:VEVENT
DTSTART;TZID=UTC:20260212T220000
DTEND;TZID=UTC:20260212T233000
DTSTAMP:20260425T003702
CREATED:20260208T130752Z
LAST-MODIFIED:20260208T130818Z
UID:10001906-1770933600-1770939000@cairospots.com
SUMMARY:CAIIRO x Ziad Mousa at The Village West
DESCRIPTION:On Thursday\, February 12\, The Village hosts a night dedicated to deep grooves\, atmosphere\, and late night energy\, featuring CAIIRO and Ziad Mousa. Bringing together two artists shaping the regional electronic music scene\, the night is built around immersive sound\, focused rhythms\, and a crowd that moves with the music. Expect a stripped back dance floor experience where sound\, space\, and energy come together from start to late hours.
URL:https://cairospots.com/event/caiiro-x-ziad-mousa-at-the-village-west/
LOCATION:The Village West\, The Village West\, 17، 17 second، Giza Governorate 3247201\, Sheikh Zayed
CATEGORIES:Party
ATTACH;FMTTYPE=image/jpeg:https://cairospots.com/wp-content/uploads/2026/02/Event-Cover-13.jpg
END:VEVENT
END:VCALENDAR