BEGIN:VCALENDAR
VERSION:2.0
PRODID:-//Cairo Spots - ECPv6.15.20//NONSGML v1.0//EN
CALSCALE:GREGORIAN
METHOD:PUBLISH
X-ORIGINAL-URL:https://cairospots.com
X-WR-CALDESC:Events for Cairo Spots
REFRESH-INTERVAL;VALUE=DURATION:PT1H
X-Robots-Tag:noindex
X-PUBLISHED-TTL:PT1H
BEGIN:VTIMEZONE
TZID:UTC
BEGIN:STANDARD
TZOFFSETFROM:+0000
TZOFFSETTO:+0000
TZNAME:UTC
DTSTART:20250101T000000
END:STANDARD
END:VTIMEZONE
BEGIN:VEVENT
DTSTART;TZID=UTC:20260206T210000
DTEND;TZID=UTC:20260206T233000
DTSTAMP:20260424T231219
CREATED:20260202T164745Z
LAST-MODIFIED:20260202T164745Z
UID:10001882-1770411600-1770420600@cairospots.com
SUMMARY:Disco Misr at The Village West Cairo
DESCRIPTION:Disco Misr take over The Village on Friday\, February 6\, turning the space into a high energy dance floor built around crowd favorites\, sharp transitions\, and nonstop movement. Known for their ability to blend familiar sounds with a party driven edge\, the trio delivers a set that keeps the momentum high from start to finish. \nThe night is set for full capacity vibes\, packed floors\, and a soundtrack designed to keep everyone moving well into the night. Expect a lively crowd\, upbeat selections\, and the signature Disco Misr atmosphere that has made their live sets a staple of Cairo’s nightlife. \nFor reservations\, contact 0127 002 2253 or 0127 002 2293 or 0127 300 9997 or 0127 300 9992.
URL:https://cairospots.com/event/disco-misr-at-the-village-west-cairo/
LOCATION:The Village West\, The Village West\, 17، 17 second، Giza Governorate 3247201\, Sheikh Zayed
CATEGORIES:Party
ATTACH;FMTTYPE=image/jpeg:https://cairospots.com/wp-content/uploads/2026/02/Event-Cover-100.jpg
END:VEVENT
BEGIN:VEVENT
DTSTART;TZID=UTC:20260122T210000
DTEND;TZID=UTC:20260122T235900
DTSTAMP:20260424T231219
CREATED:20260116T082241Z
LAST-MODIFIED:20260117T071618Z
UID:10000833-1769115600-1769126340@cairospots.com
SUMMARY:Disco Misr at Noi Metropoli
DESCRIPTION:Noi Metropoli presents Disco Misr live in Cairo\, Egypt on Thursday\, January 22\, 2026. Expect a night of dance ready edits\, nostalgic throwbacks\, and high energy live performance from one of Egypt’s most loved party bands\, running from 9:00 PM till late at Noi Metropoli. \nDoors open at 9:00 PM. Doors close at 11:00 PM or once full capacity is reached. Tickets are available via the ticket link. \nHigh tables are available for groups of five or more at no extra cost. Corkage is allowed for tables only. For VIP bookings\, contact +201111125541. VIP pricing includes finger foods and either one hard drink token or two soft drinks for the amount paid. \nAge policy is 21+ with valid ID required. Dress code is casual and comfortable. This event is couples only. \nIllegal substances are strictly prohibited. We maintain a safe and responsible atmosphere. Please respect the venue\, the artists\, and the crowd. No re entry once doors are closed. Tickets are non refundable and non transferable once purchased.
URL:https://cairospots.com/event/disco-misr-at-noi-metropoli/
LOCATION:Noi Metropoli\, New Giza Rd\, First 6th of October\, Giza Governorate 3293400\, New Giza
CATEGORIES:Party
ATTACH;FMTTYPE=image/jpeg:https://cairospots.com/wp-content/uploads/2026/01/SnapInsta-Ai_3809186750262963896-2.jpg
END:VEVENT
BEGIN:VEVENT
DTSTART;TZID=UTC:20260117T150000
DTEND;TZID=UTC:20260117T220000
DTSTAMP:20260424T231219
CREATED:20260114T144007Z
LAST-MODIFIED:20260119T074715Z
UID:10000796-1768662000-1768687200@cairospots.com
SUMMARY:STORIA Saturday Brunch with Disco Misr
DESCRIPTION:Your Saturday plans start at STORIA. \nJoin us for a laid back Saturday Lunch & Brunch experience starting from 3 PM till late. Expect a relaxed daytime atmosphere\, signature dishes\, and sunny vibes that ease into the evening\, soundtracked by Disco Misr. \nWhether you’re coming for the food\, the music\, or both\, STORIA sets the tone for an effortless Saturday hangout. \nDate: Saturday\, January 17\nTime: 3:00 PM till late\nLocation: STORIA\nMusic by: Disco Misr\nReservations: 01221451111
URL:https://cairospots.com/event/storia-saturday-brunch-with-disco-misr/
LOCATION:Katameya Heights\, New Cairo 1\, Cairo Governorate 4721010\, New Cairo
CATEGORIES:Food
ATTACH;FMTTYPE=image/jpeg:https://cairospots.com/wp-content/uploads/2026/01/SnapInsta-Ai_DTWEohejYLd-2.jpg
END:VEVENT
END:VCALENDAR