BEGIN:VCALENDAR
VERSION:2.0
PRODID:-//Cairo Spots - ECPv6.15.20//NONSGML v1.0//EN
CALSCALE:GREGORIAN
METHOD:PUBLISH
X-ORIGINAL-URL:https://cairospots.com
X-WR-CALDESC:Events for Cairo Spots
REFRESH-INTERVAL;VALUE=DURATION:PT1H
X-Robots-Tag:noindex
X-PUBLISHED-TTL:PT1H
BEGIN:VTIMEZONE
TZID:UTC
BEGIN:STANDARD
TZOFFSETFROM:+0000
TZOFFSETTO:+0000
TZNAME:UTC
DTSTART:20250101T000000
END:STANDARD
END:VTIMEZONE
BEGIN:VEVENT
DTSTART;TZID=UTC:20260129T210000
DTEND;TZID=UTC:20260129T233000
DTSTAMP:20260425T035410
CREATED:20260127T123712Z
LAST-MODIFIED:20260127T125507Z
UID:10001344-1769720400-1769729400@cairospots.com
SUMMARY:El Waili and Amer at The Tap West
DESCRIPTION:On Thursday\, January 29\, El Waili lands at The Tap West with a night built around his signature sound\, shifting between groove\, space\, and melodic tension that keeps the room locked in. It’s the kind of set that unfolds gradually and pulls you deeper as the night goes on. \nJoining him is Amer\, setting the pace with high energy selections that keep the momentum moving from start to finish. Expect a packed dancefloor\, familiar faces\, and a crowd that knows exactly why they’re there. \nDoors open in the evening\, with music running late into the night. Reservations are required\, so make sure to secure your spot ahead of time.
URL:https://cairospots.com/event/el-waili-and-amer-at-the-tap-west/
LOCATION:The Tap West\, Galleria40\, 26th of July Corridor\, First Al Sheikh Zayed\, Giza Governorate 12578\, Sheikh Zayed
CATEGORIES:Party
ATTACH;FMTTYPE=image/jpeg:https://cairospots.com/wp-content/uploads/2026/01/Untitled-design-11.jpg
END:VEVENT
END:VCALENDAR