BEGIN:VCALENDAR
VERSION:2.0
PRODID:-//Cairo Spots - ECPv6.15.20//NONSGML v1.0//EN
CALSCALE:GREGORIAN
METHOD:PUBLISH
X-ORIGINAL-URL:https://cairospots.com
X-WR-CALDESC:Events for Cairo Spots
REFRESH-INTERVAL;VALUE=DURATION:PT1H
X-Robots-Tag:noindex
X-PUBLISHED-TTL:PT1H
BEGIN:VTIMEZONE
TZID:UTC
BEGIN:STANDARD
TZOFFSETFROM:+0000
TZOFFSETTO:+0000
TZNAME:UTC
DTSTART:20250101T000000
END:STANDARD
END:VTIMEZONE
BEGIN:VEVENT
DTSTART;TZID=UTC:20260125T210000
DTEND;TZID=UTC:20260125T230000
DTSTAMP:20260425T033623
CREATED:20260118T112017Z
LAST-MODIFIED:20260119T074521Z
UID:10001283-1769374800-1769382000@cairospots.com
SUMMARY:Fatma Said Live in Concert at the Grand Egyptian Museum
DESCRIPTION:Experience an exceptional live music performance with internationally acclaimed soprano Fatma Said in concert at the Grand Egyptian Museum. This special evening brings together classical vocal excellence and orchestral mastery in one of Egypt’s most iconic cultural landmarks. \nAccompanied by renowned conductor Nader Abbassi\, the concert presents a refined repertoire that highlights Fatma Said’s expressive range\, musical depth\, and global artistry. The performance blends classical influences with emotional storytelling\, creating an immersive experience for both seasoned music lovers and new audiences. \nSet against the architectural grandeur of the Grand Egyptian Museum\, the concert offers a rare opportunity to enjoy world class music in a setting that celebrates Egypt’s cultural legacy and contemporary artistic presence. \nThis event promises a memorable night of elegance\, sound\, and atmosphere\, marking a standout moment on Egypt’s 2026 cultural calendar.
URL:https://cairospots.com/event/fatma-said-live-in-concert-at-the-grand-egyptian-museum/
LOCATION:The Grand Egyptian Museum\, Cairo - Alexandria Desert Rd\, Kafr Nassar\, Al Haram\, Giza Governorate 3513204\, Giza\, Egypt
CATEGORIES:Concert
ATTACH;FMTTYPE=image/jpeg:https://cairospots.com/wp-content/uploads/2026/01/bbd03d648d1347e54c06c86125e0df1b.jpg
END:VEVENT
END:VCALENDAR