BEGIN:VCALENDAR
VERSION:2.0
PRODID:-//Cairo Spots - ECPv6.15.20//NONSGML v1.0//EN
CALSCALE:GREGORIAN
METHOD:PUBLISH
X-ORIGINAL-URL:https://cairospots.com
X-WR-CALDESC:Events for Cairo Spots
REFRESH-INTERVAL;VALUE=DURATION:PT1H
X-Robots-Tag:noindex
X-PUBLISHED-TTL:PT1H
BEGIN:VTIMEZONE
TZID:UTC
BEGIN:STANDARD
TZOFFSETFROM:+0000
TZOFFSETTO:+0000
TZNAME:UTC
DTSTART:20250101T000000
END:STANDARD
END:VTIMEZONE
BEGIN:VEVENT
DTSTART;TZID=UTC:20260128T220000
DTEND;TZID=UTC:20260128T235900
DTSTAMP:20260425T004645
CREATED:20260116T034831Z
LAST-MODIFIED:20260117T095348Z
UID:10000817-1769637600-1769644740@cairospots.com
SUMMARY:Neo Cairo with Issa & Assouad at Cairo Jazz Club Agouza
DESCRIPTION:Neo Cairo takes place on Wednesday\, January 28\, 2026\, at Cairo Jazz Club\, featuring a live DJ performance by Egyptian duo Issa & Assouad. The night is centered on contemporary urban club sounds\, blending hip hop\, R&B\, and club ready electronic grooves. \nIssa & Assouad deliver a high energy set built on tight sequencing\, rhythmic flow\, and modern production. Moving between trap influenced tracks\, polished club selections\, and crowd driven rhythms\, the night bridges underground influences with mainstream appeal in a dancefloor focused setting.
URL:https://cairospots.com/event/neo-cairo-with-issa-assouad-at-cairo-jazz-club-agouza/
LOCATION:Cairo Jazz Club Agouza\, 197 26th of July Corridor\, Agouza\, Giza\, Agouza
CATEGORIES:Party
ATTACH;FMTTYPE=image/jpeg:https://cairospots.com/wp-content/uploads/2026/01/event_2108674264.jpg
END:VEVENT
END:VCALENDAR