BEGIN:VCALENDAR
VERSION:2.0
PRODID:-//Cairo Spots - ECPv6.15.20//NONSGML v1.0//EN
CALSCALE:GREGORIAN
METHOD:PUBLISH
X-ORIGINAL-URL:https://cairospots.com
X-WR-CALDESC:Events for Cairo Spots
REFRESH-INTERVAL;VALUE=DURATION:PT1H
X-Robots-Tag:noindex
X-PUBLISHED-TTL:PT1H
BEGIN:VTIMEZONE
TZID:UTC
BEGIN:STANDARD
TZOFFSETFROM:+0000
TZOFFSETTO:+0000
TZNAME:UTC
DTSTART:20250101T000000
END:STANDARD
END:VTIMEZONE
BEGIN:VEVENT
DTSTART;TZID=UTC:20260120T220000
DTEND;TZID=UTC:20260120T235900
DTSTAMP:20260425T003533
CREATED:20260115T192812Z
LAST-MODIFIED:20260119T082520Z
UID:10000812-1768946400-1768953540@cairospots.com
SUMMARY:Cairo Comedy Bunch Live at Cairo Jazz Club 610
DESCRIPTION:Cairo Comedy Bunch takes place on Tuesday\, January 20\, 2026\, at Cairo Jazz Club 610\, bringing together comedians from The Comedy Bunch and Cairo Comedy Club for a joint stand up comedy night. \nThe lineup features Ahmed ElHareedy\, Jimmy\, Gamal Ramzy\, and Abdelrahman Magdy\, presenting a mix of stand up\, storytelling\, and spontaneous crowd moments. The show focuses on everyday observations\, bold punchlines\, and live interaction\, offering a high energy comedy experience designed for shared laughs and an inclusive atmosphere.
URL:https://cairospots.com/event/cairo-comedy-bunch-live-at-cairo-jazz-club-610/
LOCATION:Cairo Jazz Club 610\, CJC 610\, Al Guezira Plaza\, Sheikh Zayed 3755220 Giza Governorate
CATEGORIES:Comedy
ATTACH;FMTTYPE=image/jpeg:https://cairospots.com/wp-content/uploads/2026/01/IMG_2829.jpeg
END:VEVENT
BEGIN:VEVENT
DTSTART;TZID=UTC:20260127T210000
DTEND;TZID=UTC:20260127T235900
DTSTAMP:20260425T003533
CREATED:20260116T053807Z
LAST-MODIFIED:20260121T074744Z
UID:10000823-1769547600-1769558340@cairospots.com
SUMMARY:The Comedy Bunch Live at Cairo Jazz Club 610
DESCRIPTION:On January 27\, Cairo Jazz Club 610 hosts a full night of stand up comedy as The Comedy Bunch takes over the stage with four distinct comic voices and one shared goal: nonstop laughter. Starting at 8:00 PM\, the show brings together Khalid El Shoky\, Islam Amin\, Engy Hashem\, and Jimmy for a fast paced set that moves between sharp observations\, fearless honesty\, and unexpected punchlines. \nKhalid El Shoky turns everyday details into clever\, relatable humor\, while Jimmy delivers confident\, straight talking comedy rooted in life’s awkward truths. Islam Amin keeps the crowd guessing with smart twists and well timed surprises\, and Engy Hashem adds a bold\, playful edge that rounds out the night with high energy and strong presence. \nExpect a lively crowd\, quick transitions\, and a comedy experience that feels fresh from start to finish. Entry is strictly 21 plus\, valid ID and QR code required\, with door selection applied. Tickets are non refundable and non transferable.
URL:https://cairospots.com/event/the-comedy-bunch-at-cairo-jazz-club-610/
LOCATION:Cairo Jazz Club 610\, CJC 610\, Al Guezira Plaza\, Sheikh Zayed 3755220 Giza Governorate
CATEGORIES:Comedy
ATTACH;FMTTYPE=image/jpeg:https://cairospots.com/wp-content/uploads/2026/01/eb046731d5cd7d60339afb3914c5467c.png.jpg
END:VEVENT
END:VCALENDAR