BEGIN:VCALENDAR
VERSION:2.0
PRODID:-//Cairo Spots - ECPv6.15.20//NONSGML v1.0//EN
CALSCALE:GREGORIAN
METHOD:PUBLISH
X-ORIGINAL-URL:https://cairospots.com
X-WR-CALDESC:Events for Cairo Spots
REFRESH-INTERVAL;VALUE=DURATION:PT1H
X-Robots-Tag:noindex
X-PUBLISHED-TTL:PT1H
BEGIN:VTIMEZONE
TZID:UTC
BEGIN:STANDARD
TZOFFSETFROM:+0000
TZOFFSETTO:+0000
TZNAME:UTC
DTSTART:20250101T000000
END:STANDARD
END:VTIMEZONE
BEGIN:VEVENT
DTSTART;TZID=UTC:20260116T200000
DTEND;TZID=UTC:20260116T235900
DTSTAMP:20260425T003238
CREATED:20260112T013448Z
LAST-MODIFIED:20260116T054025Z
UID:10000022-1768593600-1768607940@cairospots.com
SUMMARY:Amour Propre\, Ashmawy & Jojo at Cairo Jazz Club 610
DESCRIPTION:A night driven by Afro and melodic electronic sound as Jojo\, Ashmawy\, and Amour Propre come together for a textured\, groove led journey on the dancefloor. Expect deep rhythms\, flowing melodies\, and energetic builds as each artist brings their own sonic identity into a cohesive late night experience on Friday\, January 16.
URL:https://cairospots.com/event/amour-propre-ashmawy-jojo-at-cairo-jazz-club-610/
LOCATION:Cairo Jazz Club 610\, CJC 610\, Al Guezira Plaza\, Sheikh Zayed 3755220 Giza Governorate
CATEGORIES:Party
ATTACH;FMTTYPE=image/jpeg:https://cairospots.com/wp-content/uploads/2026/01/365e4fc94c1994a8b1739e7d6c1e99ad.jpg
END:VEVENT
END:VCALENDAR