BEGIN:VCALENDAR
VERSION:2.0
PRODID:-//Cairo Spots - ECPv6.15.20//NONSGML v1.0//EN
CALSCALE:GREGORIAN
METHOD:PUBLISH
X-ORIGINAL-URL:https://cairospots.com
X-WR-CALDESC:Events for Cairo Spots
REFRESH-INTERVAL;VALUE=DURATION:PT1H
X-Robots-Tag:noindex
X-PUBLISHED-TTL:PT1H
BEGIN:VTIMEZONE
TZID:UTC
BEGIN:STANDARD
TZOFFSETFROM:+0000
TZOFFSETTO:+0000
TZNAME:UTC
DTSTART:20250101T000000
END:STANDARD
END:VTIMEZONE
BEGIN:VEVENT
DTSTART;TZID=UTC:20260205T210000
DTEND;TZID=UTC:20260205T233000
DTSTAMP:20260425T035429
CREATED:20260202T163902Z
LAST-MODIFIED:20260202T164017Z
UID:10001879-1770325200-1770334200@cairospots.com
SUMMARY:Behind the Curtain at Cincin
DESCRIPTION:Cincin presents Behind the Curtain on Thursday\, February 5\, a late night music experience unfolding from 9:00 PM onwards at Cincin. \nThe night features a curated lineup with Lostboi\, Kareem Deraz\, and Selim\, setting the tone for an intimate session where music and atmosphere take center stage. Behind the Curtain is designed as a relaxed yet immersive gathering\, easing guests into the night through sound driven moments and a refined crowd. \nHosted at Cincin Walk of Cairo\, the event offers a midweek escape built around connection\, mood\, and late night energy beyond the usual Thursday routine.
URL:https://cairospots.com/event/behind-the-curtain-at-cincin/
LOCATION:CinCin\, next to Sodic West gate\, Walk of Cairo\, Giza Governorate 12588\, Sheikh Zayed
CATEGORIES:Party
ATTACH;FMTTYPE=image/jpeg:https://cairospots.com/wp-content/uploads/2026/02/Event-Cover-96.jpg
END:VEVENT
BEGIN:VEVENT
DTSTART;TZID=UTC:20260123T210000
DTEND;TZID=UTC:20260123T235900
DTSTAMP:20260425T035429
CREATED:20260119T191659Z
LAST-MODIFIED:20260127T123950Z
UID:10001310-1769202000-1769212740@cairospots.com
SUMMARY:Kareem Deraz Live DJ Set at The Tap East
DESCRIPTION:On Friday January 23\, 2026\, Kareem Deraz performs a live DJ set at The Tap East starting at 5 PM. \nExpect a high energy set built for the dance floor with a focused selection designed to keep momentum going through the evening.
URL:https://cairospots.com/event/kareem-deraz-live-dj-set-at-the-tap-east/
LOCATION:The Tap East\, 2FWG+6FJ، Stella Compound\, Mohamed Naguib Axis\, New Cairo\, New Cairo 1\, Cairo Governorate\, New Cairo
CATEGORIES:Party
ATTACH;FMTTYPE=image/jpeg:https://cairospots.com/wp-content/uploads/2026/01/IMG_2875.jpeg
END:VEVENT
BEGIN:VEVENT
DTSTART;TZID=UTC:20260123T170000
DTEND;TZID=UTC:20260123T235900
DTSTAMP:20260425T035429
CREATED:20260119T185757Z
LAST-MODIFIED:20260127T125551Z
UID:10001308-1769187600-1769212740@cairospots.com
SUMMARY:Kareem Deraz and Khaled Ashraf Live Brunch at The Tap East
DESCRIPTION:On Friday January 23\, 2026\, The Tap East hosts a live brunch session featuring Kareem Deraz and Khaled Ashraf. The afternoon brings together DJ driven sets and live performance energy\, blending rhythmic selections with acoustic and electronic elements suited for a daytime crowd. \nStarting at 5 PM\, the event is built around music that keeps the pace moving while guests enjoy food and drinks. Expect a focused music experience that leans on groove\, live talent\, and a relaxed but high energy brunch atmosphere that carries through the afternoon.
URL:https://cairospots.com/event/kareem-deraz-and-khaled-ashraf-live-brunch-at-the-tap-east/
LOCATION:The Tap East\, 2FWG+6FJ، Stella Compound\, Mohamed Naguib Axis\, New Cairo\, New Cairo 1\, Cairo Governorate\, New Cairo
CATEGORIES:Food,Party
ATTACH;FMTTYPE=image/jpeg:https://cairospots.com/wp-content/uploads/2026/01/IMG_2874.jpeg
END:VEVENT
END:VCALENDAR