BEGIN:VCALENDAR
VERSION:2.0
PRODID:-//Cairo Spots - ECPv6.15.20//NONSGML v1.0//EN
CALSCALE:GREGORIAN
METHOD:PUBLISH
X-ORIGINAL-URL:https://cairospots.com
X-WR-CALDESC:Events for Cairo Spots
REFRESH-INTERVAL;VALUE=DURATION:PT1H
X-Robots-Tag:noindex
X-PUBLISHED-TTL:PT1H
BEGIN:VTIMEZONE
TZID:UTC
BEGIN:STANDARD
TZOFFSETFROM:+0000
TZOFFSETTO:+0000
TZNAME:UTC
DTSTART:20250101T000000
END:STANDARD
END:VTIMEZONE
BEGIN:VEVENT
DTSTART;TZID=UTC:20260117T140000
DTEND;TZID=UTC:20260117T235900
DTSTAMP:20260425T023425
CREATED:20260117T063557Z
LAST-MODIFIED:20260119T074743Z
UID:10000836-1768658400-1768694340@cairospots.com
SUMMARY:The Brunch Club Bottomless Brunch at The Brunch Club Ft. La Familia & Taef
DESCRIPTION:The Brunch Club returns with its first Bottomless Brunch of 2026 on Saturday\, January 17\, starting from 2:00 PM until late at The Brunch Club. Known for its signature Saturday energy\, this daytime to evening brunch experience blends relaxed dining with a lively party atmosphere. \nGuests can enjoy bottomless wine\, beer\, and sangria while the vibe builds throughout the afternoon with live DJ sets and curated music selections. This edition features La Familia and Taef\, bringing a dynamic soundtrack that carries the brunch seamlessly into an all-day celebration. \nDesigned for groups\, friends\, and brunch lovers looking to kick off the year in style\, the event combines free-flow beverages\, upbeat music\, and a social setting that keeps the energy high well into the evening. \nAdvance booking is recommended due to limited availability. For reservations and inquiries\, bookings are available via phone or through the official link.
URL:https://cairospots.com/event/the-brunch-club-bottomless-brunch-at-the-brunch-club-ft-la-familia-taef/
LOCATION:The Brasserie\, Lake House The Club\, N Teseen St\, New Cairo 1\, Cairo Governorate 11835\, New Cairo
CATEGORIES:Food
ATTACH;FMTTYPE=image/jpeg:https://cairospots.com/wp-content/uploads/2026/01/IMG_2841.jpeg
END:VEVENT
END:VCALENDAR