BEGIN:VCALENDAR
VERSION:2.0
PRODID:-//Cairo Spots - ECPv6.15.20//NONSGML v1.0//EN
CALSCALE:GREGORIAN
METHOD:PUBLISH
X-ORIGINAL-URL:https://cairospots.com
X-WR-CALDESC:Events for Cairo Spots
REFRESH-INTERVAL;VALUE=DURATION:PT1H
X-Robots-Tag:noindex
X-PUBLISHED-TTL:PT1H
BEGIN:VTIMEZONE
TZID:UTC
BEGIN:STANDARD
TZOFFSETFROM:+0000
TZOFFSETTO:+0000
TZNAME:UTC
DTSTART:20250101T000000
END:STANDARD
END:VTIMEZONE
BEGIN:VEVENT
DTSTART;TZID=UTC:20260205T210000
DTEND;TZID=UTC:20260205T233000
DTSTAMP:20260424T230214
CREATED:20260202T163902Z
LAST-MODIFIED:20260202T164017Z
UID:10001879-1770325200-1770334200@cairospots.com
SUMMARY:Behind the Curtain at Cincin
DESCRIPTION:Cincin presents Behind the Curtain on Thursday\, February 5\, a late night music experience unfolding from 9:00 PM onwards at Cincin. \nThe night features a curated lineup with Lostboi\, Kareem Deraz\, and Selim\, setting the tone for an intimate session where music and atmosphere take center stage. Behind the Curtain is designed as a relaxed yet immersive gathering\, easing guests into the night through sound driven moments and a refined crowd. \nHosted at Cincin Walk of Cairo\, the event offers a midweek escape built around connection\, mood\, and late night energy beyond the usual Thursday routine.
URL:https://cairospots.com/event/behind-the-curtain-at-cincin/
LOCATION:CinCin\, next to Sodic West gate\, Walk of Cairo\, Giza Governorate 12588\, Sheikh Zayed
CATEGORIES:Party
ATTACH;FMTTYPE=image/jpeg:https://cairospots.com/wp-content/uploads/2026/02/Event-Cover-96.jpg
END:VEVENT
BEGIN:VEVENT
DTSTART;TZID=UTC:20260213T210000
DTEND;TZID=UTC:20260213T233000
DTSTAMP:20260424T230214
CREATED:20260210T095222Z
LAST-MODIFIED:20260210T095633Z
UID:10001921-1771016400-1771025400@cairospots.com
SUMMARY:FK Your Flowers at The Rec Room
DESCRIPTION:On Friday\, February 13\, romance takes a back seat as Azaar\, Lostboi\, and Twobees flip Valentine’s clichés on their head. No flowers\, no slow dances\, just a night built around high energy selections\, heavy grooves\, and a packed dance floor. Love looks different here\, louder\, sweatier\, and driven by music till late. Reservations via +20 122 6688996.
URL:https://cairospots.com/event/fk-your-flowers-at-the-rec-room/
LOCATION:The Rec Room\, 17 Street 257\, Maadi as Sarayat Al Gharbeyah\, Maadi\, Cairo Governorate 4234004\, Maadi
CATEGORIES:Party
ATTACH;FMTTYPE=image/jpeg:https://cairospots.com/wp-content/uploads/2026/02/Event-Cover-32.jpg
END:VEVENT
END:VCALENDAR