BEGIN:VCALENDAR
VERSION:2.0
PRODID:-//Cairo Spots - ECPv6.15.20//NONSGML v1.0//EN
CALSCALE:GREGORIAN
METHOD:PUBLISH
X-ORIGINAL-URL:https://cairospots.com
X-WR-CALDESC:Events for Cairo Spots
REFRESH-INTERVAL;VALUE=DURATION:PT1H
X-Robots-Tag:noindex
X-PUBLISHED-TTL:PT1H
BEGIN:VTIMEZONE
TZID:UTC
BEGIN:STANDARD
TZOFFSETFROM:+0000
TZOFFSETTO:+0000
TZNAME:UTC
DTSTART:20250101T000000
END:STANDARD
END:VTIMEZONE
BEGIN:VEVENT
DTSTART;TZID=UTC:20260204T220000
DTEND;TZID=UTC:20260204T235900
DTSTAMP:20260424T233156
CREATED:20260121T074317Z
LAST-MODIFIED:20260123T123725Z
UID:10001320-1770242400-1770249540@cairospots.com
SUMMARY:Nagham Saleh\, Maryam Saleh and Zeid Hamdan Live at Cairo Jazz Club 610
DESCRIPTION:On February 4\, the stage at Cairo Jazz Club 610 hosts a night made for the bold and the curious\, bringing together three artists who each push Arabic music in their own uncompromising direction. \nMaryam Saleh leads the night with her raw\, fearless songwriting and psychedelic edges\, blending poetry\, rebellion\, and experimental sound. Joining her is Zeid Hamdan\, whose unmistakable touch bridges alternative Arabic music and electronic textures\, while Nagham Saleh adds a fresh Egyptian shaabi inspired voice to complete the lineup. \nExpect an intense live set that leans into experimentation\, emotion\, and individuality\, all unfolding in an intimate club setting that rewards those looking for something different.
URL:https://cairospots.com/event/nagham-saleh-maryam-saleh-and-zeid-hamdan-live-at-cairo-jazz-club-610/
LOCATION:Cairo Jazz Club 610\, CJC 610\, Al Guezira Plaza\, Sheikh Zayed 3755220 Giza Governorate
CATEGORIES:Concert
ATTACH;FMTTYPE=image/jpeg:https://cairospots.com/wp-content/uploads/2026/01/90b435c616b87c2107cbe60bbf0dce79.png.jpg
END:VEVENT
END:VCALENDAR