BEGIN:VCALENDAR
VERSION:2.0
PRODID:-//Cairo Spots - ECPv6.15.20//NONSGML v1.0//EN
CALSCALE:GREGORIAN
METHOD:PUBLISH
X-ORIGINAL-URL:https://cairospots.com
X-WR-CALDESC:Events for Cairo Spots
REFRESH-INTERVAL;VALUE=DURATION:PT1H
X-Robots-Tag:noindex
X-PUBLISHED-TTL:PT1H
BEGIN:VTIMEZONE
TZID:UTC
BEGIN:STANDARD
TZOFFSETFROM:+0000
TZOFFSETTO:+0000
TZNAME:UTC
DTSTART:20250101T000000
END:STANDARD
END:VTIMEZONE
BEGIN:VEVENT
DTSTART;TZID=UTC:20260124T220000
DTEND;TZID=UTC:20260124T235900
DTSTAMP:20260424T231400
CREATED:20260115T190121Z
LAST-MODIFIED:20260117T094849Z
UID:10000809-1769292000-1769299140@cairospots.com
SUMMARY:Mawawil Live at Cairo Jazz Club Agouza
DESCRIPTION:Mawawil perform live at Cairo Jazz Club on Saturday\, January 24\, 2026\, presenting a concert rooted in Egyptian folk traditions. The ensemble draws from the musical heritage of the Nile Delta\, centering their performances around the mawwal\, a narrative vocal form connected to rural life\, love\, and poetic storytelling. \nTheir live set blends traditional elements with contemporary interpretation\, using indigenous instruments such as the rababa\, kawala\, and arghoul. The night offers a focused listening experience that bridges timeless folk expression with modern musical sensibility in an intimate concert setting.
URL:https://cairospots.com/event/mawawil-live-at-cairo-jazz-club-agouza/
LOCATION:Cairo Jazz Club Agouza\, 197 26th of July Corridor\, Agouza\, Giza\, Agouza
CATEGORIES:Concert
ATTACH;FMTTYPE=image/jpeg:https://cairospots.com/wp-content/uploads/2026/01/IMG_2825.jpeg
END:VEVENT
END:VCALENDAR