BEGIN:VCALENDAR
VERSION:2.0
PRODID:-//Cairo Spots - ECPv6.15.20//NONSGML v1.0//EN
CALSCALE:GREGORIAN
METHOD:PUBLISH
X-ORIGINAL-URL:https://cairospots.com
X-WR-CALDESC:Events for Cairo Spots
REFRESH-INTERVAL;VALUE=DURATION:PT1H
X-Robots-Tag:noindex
X-PUBLISHED-TTL:PT1H
BEGIN:VTIMEZONE
TZID:UTC
BEGIN:STANDARD
TZOFFSETFROM:+0000
TZOFFSETTO:+0000
TZNAME:UTC
DTSTART:20250101T000000
END:STANDARD
END:VTIMEZONE
BEGIN:VEVENT
DTSTART;TZID=UTC:20260130T210000
DTEND;TZID=UTC:20260130T235900
DTSTAMP:20260425T021540
CREATED:20260116T035220Z
LAST-MODIFIED:20260121T165804Z
UID:10000819-1769806800-1769817540@cairospots.com
SUMMARY:Noche Del Alma Ft. Astro\, Mazen Sherif & Arrab at Cairo Jazz Club Agouza
DESCRIPTION:Noche Del Alma takes place on Friday\, January 30\, 2026\, at Cairo Jazz Club\, presented as a Closed Circuit night focused on melodic and progressive electronic sound. \nThe night features Mazen Sherif\, Arrab\, and Astro\, guiding the dancefloor through a flowing sequence of warm grooves\, emotional melodies\, and tech infused rhythms. Built as a continuous musical journey\, the event emphasizes movement\, atmosphere\, and connection\, shaping a shared dancefloor experience driven by emotion and rhythm.
URL:https://cairospots.com/event/noche-del-alma-ft-astro-mazen-sherif-arrab-at-cairo-jazz-club-agouza/
LOCATION:Cairo Jazz Club Agouza\, 197 26th of July Corridor\, Agouza\, Giza\, Agouza
CATEGORIES:Party
ATTACH;FMTTYPE=image/jpeg:https://cairospots.com/wp-content/uploads/2026/01/d819084d2fb60f5ceb4dfd330e673863.png.jpg
END:VEVENT
END:VCALENDAR