BEGIN:VCALENDAR
VERSION:2.0
PRODID:-//Cairo Spots - ECPv6.15.20//NONSGML v1.0//EN
CALSCALE:GREGORIAN
METHOD:PUBLISH
X-ORIGINAL-URL:https://cairospots.com
X-WR-CALDESC:Events for Cairo Spots
REFRESH-INTERVAL;VALUE=DURATION:PT1H
X-Robots-Tag:noindex
X-PUBLISHED-TTL:PT1H
BEGIN:VTIMEZONE
TZID:UTC
BEGIN:STANDARD
TZOFFSETFROM:+0000
TZOFFSETTO:+0000
TZNAME:UTC
DTSTART:20250101T000000
END:STANDARD
END:VTIMEZONE
BEGIN:VEVENT
DTSTART;TZID=UTC:20260129T210000
DTEND;TZID=UTC:20260129T233000
DTSTAMP:20260425T003532
CREATED:20260127T125150Z
LAST-MODIFIED:20260127T125447Z
UID:10001346-1769720400-1769729400@cairospots.com
SUMMARY:Mehrez & Friends Birthday Bash at The Tap East
DESCRIPTION:On Thursday\, January 29\, Mehrez takes over The Tap East for a full birthday celebration set alongside a lineup of familiar faces and favorite DJs. The night is built around high energy selections\, open dance floors\, and the kind of crowd that knows how to celebrate properly. \nStarting in the evening and running late\, this is a party where drinks keep flowing\, the music stays upbeat\, and the atmosphere is all about marking another year with friends\, movement\, and no holding back. Expect a packed floor\, hands in the air moments\, and a soundtrack designed for dancing start to finish. \nCome ready to celebrate\, dress comfortable\, and settle in for a big night at The Tap East.
URL:https://cairospots.com/event/mehrez-friends-birthday-bash-at-the-tap-east/
LOCATION:The Tap East\, 2FWG+6FJ، Stella Compound\, Mohamed Naguib Axis\, New Cairo\, New Cairo 1\, Cairo Governorate\, New Cairo
CATEGORIES:Party
ATTACH;FMTTYPE=image/jpeg:https://cairospots.com/wp-content/uploads/2026/01/Untitled-design-13.jpg
END:VEVENT
END:VCALENDAR