BEGIN:VCALENDAR
VERSION:2.0
PRODID:-//Cairo Spots - ECPv6.15.20//NONSGML v1.0//EN
CALSCALE:GREGORIAN
METHOD:PUBLISH
X-ORIGINAL-URL:https://cairospots.com
X-WR-CALDESC:Events for Cairo Spots
REFRESH-INTERVAL;VALUE=DURATION:PT1H
X-Robots-Tag:noindex
X-PUBLISHED-TTL:PT1H
BEGIN:VTIMEZONE
TZID:UTC
BEGIN:STANDARD
TZOFFSETFROM:+0000
TZOFFSETTO:+0000
TZNAME:UTC
DTSTART:20250101T000000
END:STANDARD
END:VTIMEZONE
BEGIN:VEVENT
DTSTART;TZID=UTC:20260206T200000
DTEND;TZID=UTC:20260206T235900
DTSTAMP:20260425T035529
CREATED:20260121T163813Z
LAST-MODIFIED:20260121T163907Z
UID:10001330-1770408000-1770422340@cairospots.com
SUMMARY:Miss Monique & Baset By PLUS Live at the Pyramids of Giza
DESCRIPTION:On Friday\, February 6\, 2026\, P+US brings Miss Monique to the Pyramids of Giza for a large scale electronic music night set against one of the world’s most iconic landmarks. \nKnown globally for her melodic sound and emotionally driven sets\, Miss Monique leads the night alongside Cairo based DJ and producer Baset\, whose hypnotic and progressive selections continue to shape the local scene. Support comes from Omar Khalifa and Moti\, setting the tone from early hours through the full five hour journey. \nThis open air experience blends international and regional sounds in a setting that needs no introduction\, offering a rare night of music\, scale\, and atmosphere at the Pyramids.
URL:https://cairospots.com/event/miss-monique-baset-by-plus-live-at-the-pyramids-of-giza/
LOCATION:Pyramids Of Giza\, Al Haram\, Nazlet El-Semman\, Al Haram\, Giza Governorate 3512201\, Giza
CATEGORIES:Party
ATTACH;FMTTYPE=image/jpeg:https://cairospots.com/wp-content/uploads/2026/01/banner-md-v01-scaled.jpg
END:VEVENT
END:VCALENDAR