BEGIN:VCALENDAR
VERSION:2.0
PRODID:-//Cairo Spots - ECPv6.15.20//NONSGML v1.0//EN
CALSCALE:GREGORIAN
METHOD:PUBLISH
X-ORIGINAL-URL:https://cairospots.com
X-WR-CALDESC:Events for Cairo Spots
REFRESH-INTERVAL;VALUE=DURATION:PT1H
X-Robots-Tag:noindex
X-PUBLISHED-TTL:PT1H
BEGIN:VTIMEZONE
TZID:UTC
BEGIN:STANDARD
TZOFFSETFROM:+0000
TZOFFSETTO:+0000
TZNAME:UTC
DTSTART:20250101T000000
END:STANDARD
END:VTIMEZONE
BEGIN:VEVENT
DTSTART;TZID=UTC:20260120T210000
DTEND;TZID=UTC:20260120T235900
DTSTAMP:20260425T003733
CREATED:20260118T055100Z
LAST-MODIFIED:20260119T074626Z
UID:10000863-1768942800-1768953540@cairospots.com
SUMMARY:Tuesday Dine and Dance at Storia with Okasha
DESCRIPTION:There is a distinct rhythm to Tuesdays at Storia\, where refined dining meets live jazz in an intimate evening setting. Guests are invited to enjoy a carefully curated menu\, signature drinks\, and the warm\, timeless jazz performance of Okasha\, creating a relaxed yet elegant atmosphere from the first note to the last. \nDesigned for those who appreciate great food\, live music\, and unhurried evenings\, Tuesday Dine and Dance is an experience that brings together sound\, flavor\, and ambiance in perfect balance. \nLive jazz performance by Okasha\nEvery Tuesday from 9:00 PM\nStoria \nFor reservations\, please call 0122 145 1111
URL:https://cairospots.com/event/tuesday-dine-and-dance-at-storia-with-okasha/
LOCATION:Storia Katameya Heights\, Katameya Heights Rd\, New Cairo 1\, Cairo Governorate 4721010\, New Cairo
CATEGORIES:Food
ATTACH;FMTTYPE=image/jpeg:https://cairospots.com/wp-content/uploads/2026/01/SnapInsta-Ai_3812121899606617821-2.jpg
END:VEVENT
END:VCALENDAR