BEGIN:VCALENDAR
VERSION:2.0
PRODID:-//Cairo Spots - ECPv6.15.20//NONSGML v1.0//EN
CALSCALE:GREGORIAN
METHOD:PUBLISH
X-ORIGINAL-URL:https://cairospots.com
X-WR-CALDESC:Events for Cairo Spots
REFRESH-INTERVAL;VALUE=DURATION:PT1H
X-Robots-Tag:noindex
X-PUBLISHED-TTL:PT1H
BEGIN:VTIMEZONE
TZID:UTC
BEGIN:STANDARD
TZOFFSETFROM:+0000
TZOFFSETTO:+0000
TZNAME:UTC
DTSTART:20250101T000000
END:STANDARD
END:VTIMEZONE
BEGIN:VEVENT
DTSTART;TZID=UTC:20260116T200000
DTEND;TZID=UTC:20260117T000000
DTSTAMP:20260424T232027
CREATED:20260113T080502Z
LAST-MODIFIED:20260116T054346Z
UID:10000024-1768593600-1768608000@cairospots.com
SUMMARY:Ain Gamal Vol. 56 By Omar El Gamal at Theatro Arkan
DESCRIPTION:Ain Gamal Vol. 56 takes place at Theatro Arkan as the interactive comedy show returns with a new edition. The performance is built around live audience participation\, improvised moments\, and stand up comedy\, continuing the format that has defined Ain Gamal as a crowd driven live entertainment experience. \nThis edition includes a special reveal that marks a new phase for Ain Gamal\, introduced during the show. The night focuses on direct interaction between performers and the audience\, with each performance shaped by real time responses and participation.
URL:https://cairospots.com/event/ain-gamal-vol-56-2/
LOCATION:Theatro Arkan\, Arkan Plaza\, Elsheikh Zayed\, Giza Governorate\, Sheikh Zayed\, Egypt
CATEGORIES:Comedy
ATTACH;FMTTYPE=image/jpeg:https://cairospots.com/wp-content/uploads/2026/01/c38290530b03f01b5ba66ff02f69917e.jpg
END:VEVENT
END:VCALENDAR