BEGIN:VCALENDAR
VERSION:2.0
PRODID:-//Cairo Spots - ECPv6.15.20//NONSGML v1.0//EN
CALSCALE:GREGORIAN
METHOD:PUBLISH
X-ORIGINAL-URL:https://cairospots.com
X-WR-CALDESC:Events for Cairo Spots
REFRESH-INTERVAL;VALUE=DURATION:PT1H
X-Robots-Tag:noindex
X-PUBLISHED-TTL:PT1H
BEGIN:VTIMEZONE
TZID:UTC
BEGIN:STANDARD
TZOFFSETFROM:+0000
TZOFFSETTO:+0000
TZNAME:UTC
DTSTART:20250101T000000
END:STANDARD
END:VTIMEZONE
BEGIN:VEVENT
DTSTART;TZID=UTC:20260118T200000
DTEND;TZID=UTC:20260118T235900
DTSTAMP:20260425T021506
CREATED:20260115T182437Z
LAST-MODIFIED:20260119T074937Z
UID:10000803-1768766400-1768780740@cairospots.com
SUMMARY:Jazz Night with Rio Band at Cairo Jazz Club Agouza
DESCRIPTION:Jazz Night takes place on Sunday\, January 18\, 2026\, featuring a live performance by Rio Band. The evening is built around smooth rhythms\, rich melodies\, and a relaxed groove designed for an easy\, feel good listening experience. \nRio Band is a five piece ensemble inspired by Brazilian music\, drawing from bossa nova and samba while reinterpreting selected international songs through a Brazilian lens. The set blends warmth\, rhythm\, and familiarity\, creating a live music atmosphere suited for a laid back night of jazz influenced sounds.
URL:https://cairospots.com/event/jazz-night-with-rio-band-at-cairo-jazz-club-agouza/
LOCATION:Cairo Jazz Club Agouza\, 197 26th of July Corridor\, Agouza\, Giza\, Agouza
CATEGORIES:Concert
ATTACH;FMTTYPE=image/jpeg:https://cairospots.com/wp-content/uploads/2026/01/IMG_2813.jpeg
END:VEVENT
END:VCALENDAR