BEGIN:VCALENDAR
VERSION:2.0
PRODID:-//Cairo Spots - ECPv6.15.20//NONSGML v1.0//EN
CALSCALE:GREGORIAN
METHOD:PUBLISH
X-ORIGINAL-URL:https://cairospots.com
X-WR-CALDESC:Events for Cairo Spots
REFRESH-INTERVAL;VALUE=DURATION:PT1H
X-Robots-Tag:noindex
X-PUBLISHED-TTL:PT1H
BEGIN:VTIMEZONE
TZID:UTC
BEGIN:STANDARD
TZOFFSETFROM:+0000
TZOFFSETTO:+0000
TZNAME:UTC
DTSTART:20250101T000000
END:STANDARD
END:VTIMEZONE
BEGIN:VEVENT
DTSTART;TZID=UTC:20260206T210000
DTEND;TZID=UTC:20260206T233000
DTSTAMP:20260425T014457
CREATED:20260202T164421Z
LAST-MODIFIED:20260202T165000Z
UID:10001881-1770411600-1770420600@cairospots.com
SUMMARY:Mo Amer & Saify at The Rec Room
DESCRIPTION:Mo Amer and Saify take over the decks on Friday\, February 6 for their speakeasy debut at The Rec Room. Bringing an energy driven set built for late night dancing\, the duo delivers a sound that leans into rhythm\, flow\, and movement from the first track through the closing hours. \nThe night channels the feel of classic dance floor sessions\, where the music stays front and center and the crowd stays locked in. Expect a packed room\, a lively atmosphere\, and a dance floor that doesn’t slow down. \nFor reservations and table bookings\, contact +20 122 668 8996.
URL:https://cairospots.com/event/mo-amer-saify-at-the-rec-room/
LOCATION:The Rec Room\, 17 Street 257\, Maadi as Sarayat Al Gharbeyah\, Maadi\, Cairo Governorate 4234004\, Maadi
CATEGORIES:Party
ATTACH;FMTTYPE=image/jpeg:https://cairospots.com/wp-content/uploads/2026/02/Event-Cover-99-1.jpg
END:VEVENT
BEGIN:VEVENT
DTSTART;TZID=UTC:20260213T210000
DTEND;TZID=UTC:20260213T233000
DTSTAMP:20260425T014457
CREATED:20260202T195529Z
LAST-MODIFIED:20260202T195529Z
UID:10001887-1771016400-1771025400@cairospots.com
SUMMARY:Closed Circuit: Saify b2b Ashmawy b2b Sebzz at Cairo Jazz Club Agouza
DESCRIPTION:Closed Circuit takes over Cairo Jazz Club on Friday\, February 13\, with doors opening at 8 PM and the night starting at 9 PM. Saify\, Ashmawy\, and Sebzz come together for a back to back set focused on deep\, driving electronic selections and long\, immersive transitions. The night is built for a closed room club atmosphere where the energy builds gradually and the dancefloor stays locked from start to finish.
URL:https://cairospots.com/event/closed-circuit-saify-b2b-ashmawy-b2b-sebzz-at-cairo-jazz-club-agouza/
LOCATION:Cairo Jazz Club Agouza\, 197 26th of July Corridor\, Agouza\, Giza\, Agouza
CATEGORIES:Party
ATTACH;FMTTYPE=image/jpeg:https://cairospots.com/wp-content/uploads/2026/02/Event-Cover-106.jpg
END:VEVENT
END:VCALENDAR