BEGIN:VCALENDAR
VERSION:2.0
PRODID:-//Cairo Spots - ECPv6.15.20//NONSGML v1.0//EN
CALSCALE:GREGORIAN
METHOD:PUBLISH
X-WR-CALNAME:Cairo Spots
X-ORIGINAL-URL:https://cairospots.com
X-WR-CALDESC:Events for Cairo Spots
REFRESH-INTERVAL;VALUE=DURATION:PT1H
X-Robots-Tag:noindex
X-PUBLISHED-TTL:PT1H
BEGIN:VTIMEZONE
TZID:UTC
BEGIN:STANDARD
TZOFFSETFROM:+0000
TZOFFSETTO:+0000
TZNAME:UTC
DTSTART:20250101T000000
END:STANDARD
END:VTIMEZONE
BEGIN:VEVENT
DTSTART;TZID=UTC:20260205T210000
DTEND;TZID=UTC:20260205T233000
DTSTAMP:20260424T231147
CREATED:20260202T164231Z
LAST-MODIFIED:20260202T164328Z
UID:10001880-1770325200-1770334200@cairospots.com
SUMMARY:Masry & Sherif Rafik at The Rec Room
DESCRIPTION:Masry and Sherif Rafik return to the decks on Thursday\, February 5 for a long awaited night built around high energy selections and non stop movement. Known for their ability to flip the room the moment they start playing\, the duo brings a sound that keeps the dance floor full and the momentum going deep into the night. \nHosted at The Rec Room\, the night leans into groove driven sets\, familiar rhythms\, and dance floor focused music designed for people who come to move. Expect a packed room\, flowing drinks\, and a crowd locked into the same pulse from start to finish. \nFor reservations and table bookings\, contact +20 122 668 8996.
URL:https://cairospots.com/event/masry-sherif-rafik-at-the-rec-room/
LOCATION:The Rec Room\, 17 Street 257\, Maadi as Sarayat Al Gharbeyah\, Maadi\, Cairo Governorate 4234004\, Maadi
CATEGORIES:Party
ATTACH;FMTTYPE=image/jpeg:https://cairospots.com/wp-content/uploads/2026/02/Event-Cover-98.jpg
END:VEVENT
END:VCALENDAR