BEGIN:VCALENDAR
VERSION:2.0
PRODID:-//Cairo Spots - ECPv6.15.20//NONSGML v1.0//EN
CALSCALE:GREGORIAN
METHOD:PUBLISH
X-ORIGINAL-URL:https://cairospots.com
X-WR-CALDESC:Events for Cairo Spots
REFRESH-INTERVAL;VALUE=DURATION:PT1H
X-Robots-Tag:noindex
X-PUBLISHED-TTL:PT1H
BEGIN:VTIMEZONE
TZID:UTC
BEGIN:STANDARD
TZOFFSETFROM:+0000
TZOFFSETTO:+0000
TZNAME:UTC
DTSTART:20250101T000000
END:STANDARD
END:VTIMEZONE
BEGIN:VEVENT
DTSTART;TZID=UTC:20260122T200000
DTEND;TZID=UTC:20260122T235900
DTSTAMP:20260424T214725
CREATED:20260112T015243Z
LAST-MODIFIED:20260119T074607Z
UID:10000030-1769112000-1769126340@cairospots.com
SUMMARY:Tablet El Sitt in Downtown
DESCRIPTION:Tablet El Sitt performs live in Downtown on January 22 at 8:00 PM at Hilton Cairo Grand Nile. The show is led by Soha Mohamed Ali and presents a live music performance centered on rhythm driven arrangements and collective energy\, delivered through a full stage production in an indoor concert setting. The night focuses on live instrumentation\, vocals\, and audience engagement\, offering a contemporary live music experience rooted in rhythm and performance presence. \nتُحيي فرقة طبل الست حفلاً موسيقيًا حيًا في داونتاون يوم ٢٢ يناير في تمام الساعة ٨:٠٠ مساءً في فندق هيلتون كايرو جراند نايل. يقود العرض سها محمد علي، ويقدّم تجربة موسيقية قائمة على الإيقاع والطاقة من خلال أداء حي يعتمد على التفاعل، والآلات الموسيقية، والحضور القوي على المسرح، ضمن أجواء حفل موسيقي داخلي.
URL:https://cairospots.com/event/tablet-el-sitt-in-downtown/
LOCATION:Hilton Cairo Grand Nile\, Nile Corniche\, Old Cairo\, Cairo Governorate 11519\, Garden City\, Egypt
CATEGORIES:Concert
ATTACH;FMTTYPE=image/jpeg:https://cairospots.com/wp-content/uploads/2026/01/2743b4899b75a9e456b7c4a1194f46d0-2-2.jpg
END:VEVENT
END:VCALENDAR