BEGIN:VCALENDAR
VERSION:2.0
PRODID:-//Cairo Spots - ECPv6.15.20//NONSGML v1.0//EN
CALSCALE:GREGORIAN
METHOD:PUBLISH
X-ORIGINAL-URL:https://cairospots.com
X-WR-CALDESC:Events for Cairo Spots
REFRESH-INTERVAL;VALUE=DURATION:PT1H
X-Robots-Tag:noindex
X-PUBLISHED-TTL:PT1H
BEGIN:VTIMEZONE
TZID:UTC
BEGIN:STANDARD
TZOFFSETFROM:+0000
TZOFFSETTO:+0000
TZNAME:UTC
DTSTART:20250101T000000
END:STANDARD
END:VTIMEZONE
BEGIN:VEVENT
DTSTART;TZID=UTC:20260205T210000
DTEND;TZID=UTC:20260205T233000
DTSTAMP:20260424T231105
CREATED:20260202T122658Z
LAST-MODIFIED:20260202T170748Z
UID:10001872-1770325200-1770334200@cairospots.com
SUMMARY:Wust El Balad at The Tap West
DESCRIPTION:Wust El Balad return to The Tap West for a high energy live show on Thursday\, February 5\, 2026. Expect a night driven by powerful vocals\, sharp musicianship\, and the signature sound that made the band one of Egypt’s most loved live acts. The night keeps moving with DJ Anis on deck\, delivering nonstop hits before and after the set. A full live experience built around rhythm\, groove\, and crowd energy. \nRules:\n• Entry is subject to venue capacity\n• Reservations are required via direct message\n• Seating availability depends on arrival time\n• House rules apply\n• Management reserves the right of admission
URL:https://cairospots.com/event/west-el-balad-at-the-tap-west/
LOCATION:The Tap West\, Galleria40\, 26th of July Corridor\, First Al Sheikh Zayed\, Giza Governorate 12578\, Sheikh Zayed
CATEGORIES:Concert
ATTACH;FMTTYPE=image/jpeg:https://cairospots.com/wp-content/uploads/2026/02/Event-Cover-88.jpg
END:VEVENT
BEGIN:VEVENT
DTSTART;TZID=UTC:20260121T200000
DTEND;TZID=UTC:20260121T235900
DTSTAMP:20260424T231105
CREATED:20260113T215633Z
LAST-MODIFIED:20260117T085544Z
UID:10000419-1769025600-1769039940@cairospots.com
SUMMARY:Black Theama & Wust El Balad at Cairo Jazz Club 610
DESCRIPTION:Black Theama perform live at Cairo Jazz Club 610 on January 21 at 8:00 PM. The concert features the band’s signature alternative rock sound\, blending powerful vocals with energetic live instrumentation in an intimate club setting. \nتُحيي فرقة بلاك ثيما حفلاً موسيقيًا مباشرًا في كايرو جاز كلوب 610 يوم 21 يناير في تمام الساعة 8:00 مساءً. يقدّم الحفل تجربة روك بديل تجمع بين الأداء الحي القوي والصوت المميز للفرقة في أجواء قريبة من الجمهور.
URL:https://cairospots.com/event/black-theama-wust-el-balad-at-cairo-jazz-club-610/
LOCATION:Cairo Jazz Club 610\, CJC 610\, Al Guezira Plaza\, Sheikh Zayed 3755220 Giza Governorate
CATEGORIES:Party
ATTACH;FMTTYPE=image/jpeg:https://cairospots.com/wp-content/uploads/2026/01/87cc9631493b6dcffd913b2d65234552.png.jpeg
END:VEVENT
END:VCALENDAR