BEGIN:VCALENDAR
VERSION:2.0
PRODID:-//Cairo Spots - ECPv6.15.20//NONSGML v1.0//EN
CALSCALE:GREGORIAN
METHOD:PUBLISH
X-ORIGINAL-URL:https://cairospots.com
X-WR-CALDESC:Events for Cairo Spots
REFRESH-INTERVAL;VALUE=DURATION:PT1H
X-Robots-Tag:noindex
X-PUBLISHED-TTL:PT1H
BEGIN:VTIMEZONE
TZID:UTC
BEGIN:STANDARD
TZOFFSETFROM:+0000
TZOFFSETTO:+0000
TZNAME:UTC
DTSTART:20250101T000000
END:STANDARD
END:VTIMEZONE
BEGIN:VEVENT
DTSTART;TZID=UTC:20260126T210000
DTEND;TZID=UTC:20260126T235900
DTSTAMP:20260424T230754
CREATED:20260116T033740Z
LAST-MODIFIED:20260117T094631Z
UID:10000815-1769461200-1769471940@cairospots.com
SUMMARY:Friction Funk at Cairo Jazz Club Agouza
DESCRIPTION:Friction Funk takes place on Monday\, January 26\, 2026\, at Cairo Jazz Club. The night is built around movement and groove\, transforming the venue into a late night club space driven by disco tech and tech house rhythms. \nThe lineup features Youssef Roshdy\, Reda\, and Khalyl B2B with Mosty\, delivering warm\, funk infused disco tech selections that transition into rolling\, punchy tech house. The event focuses on continuous energy\, rhythm\, and flow\, designed for a high movement dancefloor experience.
URL:https://cairospots.com/event/friction-funk-at-cairo-jazz-club-agouza/
LOCATION:Cairo Jazz Club Agouza\, 197 26th of July Corridor\, Agouza\, Giza\, Agouza
CATEGORIES:Party
ATTACH;FMTTYPE=image/jpeg:https://cairospots.com/wp-content/uploads/2026/01/event_1618519012.jpg
END:VEVENT
BEGIN:VEVENT
DTSTART;TZID=UTC:20260206T160000
DTEND;TZID=UTC:20260206T233000
DTSTAMP:20260424T230754
CREATED:20260129T111406Z
LAST-MODIFIED:20260129T112617Z
UID:10001796-1770393600-1770420600@cairospots.com
SUMMARY:DiscoTech at Buoy
DESCRIPTION:DiscoTech returns to Buoy on Friday\, February 6 with a full day to night takeover. Music starts at 4 PM and runs straight through the night across two setups\, the Terrace and the Speakeasy. \nThe Terrace is led by Berlin based Andre Zimmer\, bringing raw\, high impact club selections shaped by his work with Big Trouble Records and Fabric. He is joined by Youla\, Youssef Roshdy\, Moenes\, Misty\, setting the tone from daytime into sunset. \nAs night falls\, the Speakeasy opens with a deeper shift in energy. Tino takes control with UK rooted house grooves and crisp percussion\, followed by Mady 303 closing the night with stripped back\, deep club sounds designed to hold the room.
URL:https://cairospots.com/event/discotech-at-buoy/
LOCATION:Buoy By KIKI’s\, Garden 8\, 2FWM+FJP\, Salah El Din Abdel Karim\, New Cairo 1\, Cairo Governorate 4740302\, New Cairo
CATEGORIES:Food,Party
ATTACH;FMTTYPE=image/jpeg:https://cairospots.com/wp-content/uploads/2026/01/Event-Cover-25.jpg
END:VEVENT
END:VCALENDAR