BEGIN:VCALENDAR
VERSION:2.0
PRODID:-//Cairo Spots - ECPv6.15.20//NONSGML v1.0//EN
CALSCALE:GREGORIAN
METHOD:PUBLISH
X-WR-CALNAME:Cairo Spots
X-ORIGINAL-URL:https://cairospots.com
X-WR-CALDESC:Events for Cairo Spots
REFRESH-INTERVAL;VALUE=DURATION:PT1H
X-Robots-Tag:noindex
X-PUBLISHED-TTL:PT1H
BEGIN:VTIMEZONE
TZID:UTC
BEGIN:STANDARD
TZOFFSETFROM:+0000
TZOFFSETTO:+0000
TZNAME:UTC
DTSTART:20250101T000000
END:STANDARD
END:VTIMEZONE
BEGIN:VEVENT
DTSTART;TZID=UTC:20260204T220000
DTEND;TZID=UTC:20260204T233000
DTSTAMP:20260424T231251
CREATED:20260127T173401Z
LAST-MODIFIED:20260127T173558Z
UID:10001371-1770242400-1770247800@cairospots.com
SUMMARY:Zabadi Khalat at Cairo Jazz Club
DESCRIPTION:Zabadi Khalat perform at Cairo Jazz Club on Wednesday February 4 2026. Doors open at 8:00 PM. The night features Arabic and English pop with a commercial focused set built for continuous dancing. ASH and AMER join the lineup\, keeping the music high energy and the dancefloor active until closing.
URL:https://cairospots.com/event/zabadi-khalat-at-cairo-jazz-club/
LOCATION:Cairo Jazz Club Agouza\, 197 26th of July Corridor\, Agouza\, Giza\, Agouza
CATEGORIES:Party
ATTACH;FMTTYPE=image/jpeg:https://cairospots.com/wp-content/uploads/2026/01/Untitled-design-24.jpg
END:VEVENT
BEGIN:VEVENT
DTSTART;TZID=UTC:20260217T200000
DTEND;TZID=UTC:20260217T233000
DTSTAMP:20260424T231251
CREATED:20260216T112745Z
LAST-MODIFIED:20260216T112745Z
UID:10001932-1771358400-1771371000@cairospots.com
SUMMARY:FlashBack 2000’s at Cairo Jazz Club 610
DESCRIPTION:FlashBack 2000’s returns with another night of playful\, familiar\, and impossible to resist throwbacks at Cairo Jazz Club 610 on Tuesday\, February 17\, 2026. \nBubblegum Kollectiv bring their signature high energy nostalgia\, packed with sing along moments and a dancefloor that feels instantly alive. Ash takes over with his infamous commercial Arabic and English hits\, blending club favorites and 2000’s anthems. Zabadi Khalat switches it up with feel good originals and creative mashups that keep the crowd moving all night. \nDoors open at 8 PM. Get ready for a full on throwback celebration.
URL:https://cairospots.com/event/flashback-2000s-at-cairo-jazz-club-610/
LOCATION:Cairo Jazz Club 610\, CJC 610\, Al Guezira Plaza\, Sheikh Zayed 3755220 Giza Governorate
ATTACH;FMTTYPE=image/jpeg:https://cairospots.com/wp-content/uploads/2026/02/Event-Cover-41.jpg
END:VEVENT
END:VCALENDAR