BEGIN:VCALENDAR
VERSION:2.0
PRODID:-//Cairo Spots - ECPv6.15.20//NONSGML v1.0//EN
CALSCALE:GREGORIAN
METHOD:PUBLISH
X-ORIGINAL-URL:https://cairospots.com
X-WR-CALDESC:Events for Cairo Spots
REFRESH-INTERVAL;VALUE=DURATION:PT1H
X-Robots-Tag:noindex
X-PUBLISHED-TTL:PT1H
BEGIN:VTIMEZONE
TZID:UTC
BEGIN:STANDARD
TZOFFSETFROM:+0000
TZOFFSETTO:+0000
TZNAME:UTC
DTSTART:20250101T000000
END:STANDARD
END:VTIMEZONE
BEGIN:VEVENT
DTSTART;TZID=UTC:20260129T220000
DTEND;TZID=UTC:20260129T233000
DTSTAMP:20260425T003756
CREATED:20260122T171751Z
LAST-MODIFIED:20260122T171913Z
UID:10001335-1769724000-1769729400@cairospots.com
SUMMARY:Zamna Sound System at The Village West Cairo
DESCRIPTION:For the first time in Egypt\, the iconic Zamna Sound System arrives in West Cairo on Thursday\, January 29\, for a night built entirely around sound\, atmosphere\, and immersion. Known globally for its precision driven audio experience\, Zamna brings a club concept where clarity\, depth\, and space come together to shape the dancefloor. \nThis event focuses on deep frequencies\, immersive sound design\, and a carefully engineered setup designed to move every sense. It is not just a performance\, but a full scale sonic journey created for those who come for the music first. \nThe night takes place at The Village in West Cairo\, starting at 10:00 PM\, and is organized by The Village West as part of its ongoing commitment to hosting international music experiences in the city.
URL:https://cairospots.com/event/zamna-sound-system-at-the-village-west-cairo/
LOCATION:The Village West\, The Village West\, 17، 17 second، Giza Governorate 3247201\, Sheikh Zayed
CATEGORIES:Party
ATTACH;FMTTYPE=image/jpeg:https://cairospots.com/wp-content/uploads/2026/01/Untitled-design-4.jpg
END:VEVENT
END:VCALENDAR