BEGIN:VCALENDAR
VERSION:2.0
PRODID:-//Cairo Spots - ECPv6.15.20//NONSGML v1.0//EN
CALSCALE:GREGORIAN
METHOD:PUBLISH
X-WR-CALNAME:Cairo Spots
X-ORIGINAL-URL:https://cairospots.com
X-WR-CALDESC:Events for Cairo Spots
REFRESH-INTERVAL;VALUE=DURATION:PT1H
X-Robots-Tag:noindex
X-PUBLISHED-TTL:PT1H
BEGIN:VTIMEZONE
TZID:UTC
BEGIN:STANDARD
TZOFFSETFROM:+0000
TZOFFSETTO:+0000
TZNAME:UTC
DTSTART:20250101T000000
END:STANDARD
END:VTIMEZONE
BEGIN:VEVENT
DTSTART;TZID=UTC:20260123T210000
DTEND;TZID=UTC:20260123T235900
DTSTAMP:20260424T212822
CREATED:20260119T073745Z
LAST-MODIFIED:20260121T165831Z
UID:10001288-1769202000-1769212740@cairospots.com
SUMMARY:Reda and Friends Live at Aperitivo
DESCRIPTION:On Friday\, January 23\, 2026\, Room B The Hive hosts a late night electronic session led by Reda\, joined by a lineup of friends and guest DJs to be announced. The night focuses on extended DJ sets\, fluid transitions\, and a club driven sound built for long form listening and dancing. \nMusic runs from 9 PM till late at Aperitivo Ancora\, offering a two room experience centered on community energy\, evolving selections\, and a shared dancefloor atmosphere.
URL:https://cairospots.com/event/reda-and-friends-live-at-aperitivo/
LOCATION:Aperitivo\, 157\, 26th July street\, AZ Zamalek\, Zamalek
CATEGORIES:Party
ATTACH;FMTTYPE=image/jpeg:https://cairospots.com/wp-content/uploads/2026/01/IMG_1682.jpg
END:VEVENT
END:VCALENDAR