BEGIN:VCALENDAR
VERSION:2.0
PRODID:-//Cairo Spots - ECPv6.15.20//NONSGML v1.0//EN
CALSCALE:GREGORIAN
METHOD:PUBLISH
X-WR-CALNAME:Cairo Spots
X-ORIGINAL-URL:https://cairospots.com
X-WR-CALDESC:Events for Cairo Spots
REFRESH-INTERVAL;VALUE=DURATION:PT1H
X-Robots-Tag:noindex
X-PUBLISHED-TTL:PT1H
BEGIN:VTIMEZONE
TZID:UTC
BEGIN:STANDARD
TZOFFSETFROM:+0000
TZOFFSETTO:+0000
TZNAME:UTC
DTSTART:20250101T000000
END:STANDARD
END:VTIMEZONE
BEGIN:VEVENT
DTSTART;TZID=UTC:20260131T210000
DTEND;TZID=UTC:20260131T235900
DTSTAMP:20260424T230117
CREATED:20260113T205125Z
LAST-MODIFIED:20260122T174010Z
UID:10000048-1769893200-1769903940@cairospots.com
SUMMARY:Eyad El Mogy: El Sabt El Momtaz at Hilton Cairo Grand Nile
DESCRIPTION:Eyad El Mogy brings his stand up comedy show El Sabt El Momtaz – The Last Dance to Hilton Cairo Grand Nile on January 31\, 2026\, at 9:00 PM. The live performance features Eyad El Mogy’s well known comedic style\, blending viral humor with real life observations in a full stage comedy show. \nيقدّم إياد الموجي عرض الستاند أب كوميدي السبت الممتاز – The Last Dance على مسرح هيلتون القاهرة جراند نايل يوم 31 يناير 2026 في تمام الساعة 9:00 مساءً. يعتمد العرض على أسلوب إياد الموجي الكوميدي المعروف، الذي يجمع بين المواقف اليومية والفكاهة التي حققت انتشاراً واسعاً على الإنترنت، في تجربة مسرحية مباشرة
URL:https://cairospots.com/event/eyad-el-mogy-el-sabt-el-momtaz-at-hilton-cairo-grand-nile/
LOCATION:Hilton Cairo Grand Nile\, Nile Corniche\, Old Cairo\, Cairo Governorate 11519\, Garden City\, Egypt
CATEGORIES:Comedy
ATTACH;FMTTYPE=image/jpeg:https://cairospots.com/wp-content/uploads/2026/01/IMG_2806.jpeg
END:VEVENT
BEGIN:VEVENT
DTSTART;TZID=UTC:20260130T210000
DTEND;TZID=UTC:20260130T230000
DTSTAMP:20260424T230117
CREATED:20260112T022048Z
LAST-MODIFIED:20260118T055453Z
UID:10000033-1769806800-1769814000@cairospots.com
SUMMARY:Ali Quandil: Crowd Work Comedy Show at Hilton Cairo Grand Nile
DESCRIPTION:Ali Quandil presents a live crowd work stand up comedy show on January 30\, 2026\, at 9:00 PM at the Hilton Cairo Grand Nile Theatre. Organized by CraftMedia 4\, the performance focuses on direct interaction with the audience\, with the show shaped in real time through spontaneous conversations and improvised comedy. \nThe night centers on unscripted moments\, audience driven humor\, and live stand up performance\, offering an intimate comedy experience where each show unfolds differently based on crowd participation. \nيقدّم علي قنديل عرض ستاند أب كوميدي تفاعلي يعتمد على الـ crowd work يوم ٣٠ يناير ٢٠٢٦ في تمام الساعة ٩:٠٠ مساءً على مسرح فندق هيلتون كايرو جراند نايل، بتنظيم CraftMedia 4. يعتمد العرض على التفاعل المباشر مع الجمهور، حيث يتشكّل الأداء لحظة بلحظة من خلال الحوار العفوي والكوميديا الارتجالية. \nيركّز العرض على المواقف غير المكتوبة، والكوميديا القائمة على مشاركة الحضور، ليقدّم تجربة ستاند أب حية تختلف في كل مرة بحسب تفاعل الجمهور.
URL:https://cairospots.com/event/ali-quandil-crowd-work-comedy-show/
LOCATION:Hilton Cairo Grand Nile\, Nile Corniche\, Old Cairo\, Cairo Governorate 11519\, Garden City\, Egypt
CATEGORIES:Comedy
ATTACH;FMTTYPE=image/jpeg:https://cairospots.com/wp-content/uploads/2026/01/sdwec.jpg
END:VEVENT
BEGIN:VEVENT
DTSTART;TZID=UTC:20260123T200000
DTEND;TZID=UTC:20260123T230000
DTSTAMP:20260424T230117
CREATED:20260112T020618Z
LAST-MODIFIED:20260117T093205Z
UID:10000031-1769198400-1769209200@cairospots.com
SUMMARY:Saad Eloud at Hilton Cairo Grand Nile Theatre
DESCRIPTION:Saad El Oud returns with a live performance on January 23\, 2026\, at 8:00 PM at the Hilton Cairo Grand Nile Theatre. Organized by CraftMedia 4\, the show follows a previously sold out night and presents another evening centered on live oud music and melodic performance. \nThe event features a live oud set built around rich musical arrangements and a focused listening atmosphere\, offering audiences a concert experience driven by traditional instrumentation and contemporary live presentation. \nسعد العود يعود بحفل موسيقي حي يوم ٢٣ يناير ٢٠٢٦ في تمام الساعة ٨:٠٠ مساءً على مسرح فندق هيلتون كايرو جراند نايل، بتنظيم CraftMedia 4. يأتي الحفل بعد ليلة كاملة العدد، ليقدّم أمسية جديدة تعتمد على العود الحي والتراكيب الموسيقية الغنية. \nيركّز العرض على أداء موسيقي مباشر قائم على العود، ضمن تجربة استماع هادئة تجمع بين الطابع الكلاسيكي والتقديم الحي المعاصر، في أجواء حفلات موسيقية داخلية.
URL:https://cairospots.com/event/saad-eloud/
LOCATION:Hilton Cairo Grand Nile\, Nile Corniche\, Old Cairo\, Cairo Governorate 11519\, Garden City\, Egypt
CATEGORIES:Concert
ATTACH;FMTTYPE=image/jpeg:https://cairospots.com/wp-content/uploads/2026/01/288c72506ed24fd9394bf88b025fe8dd-1.jpg
END:VEVENT
BEGIN:VEVENT
DTSTART;TZID=UTC:20260122T200000
DTEND;TZID=UTC:20260122T235900
DTSTAMP:20260424T230117
CREATED:20260112T015243Z
LAST-MODIFIED:20260119T074607Z
UID:10000030-1769112000-1769126340@cairospots.com
SUMMARY:Tablet El Sitt in Downtown
DESCRIPTION:Tablet El Sitt performs live in Downtown on January 22 at 8:00 PM at Hilton Cairo Grand Nile. The show is led by Soha Mohamed Ali and presents a live music performance centered on rhythm driven arrangements and collective energy\, delivered through a full stage production in an indoor concert setting. The night focuses on live instrumentation\, vocals\, and audience engagement\, offering a contemporary live music experience rooted in rhythm and performance presence. \nتُحيي فرقة طبل الست حفلاً موسيقيًا حيًا في داونتاون يوم ٢٢ يناير في تمام الساعة ٨:٠٠ مساءً في فندق هيلتون كايرو جراند نايل. يقود العرض سها محمد علي، ويقدّم تجربة موسيقية قائمة على الإيقاع والطاقة من خلال أداء حي يعتمد على التفاعل، والآلات الموسيقية، والحضور القوي على المسرح، ضمن أجواء حفل موسيقي داخلي.
URL:https://cairospots.com/event/tablet-el-sitt-in-downtown/
LOCATION:Hilton Cairo Grand Nile\, Nile Corniche\, Old Cairo\, Cairo Governorate 11519\, Garden City\, Egypt
CATEGORIES:Concert
ATTACH;FMTTYPE=image/jpeg:https://cairospots.com/wp-content/uploads/2026/01/2743b4899b75a9e456b7c4a1194f46d0-2-2.jpg
END:VEVENT
BEGIN:VEVENT
DTSTART;TZID=UTC:20260116T200000
DTEND;TZID=UTC:20260116T230000
DTSTAMP:20260424T230117
CREATED:20260112T002350Z
LAST-MODIFIED:20260112T002350Z
UID:10000018-1768593600-1768604400@cairospots.com
SUMMARY:Roooka: Standup & Interactive Comedy Show
DESCRIPTION:This stand up comedy event takes place on January 16\, 2026\, at Hilton Cairo Grand Nile and marks the first solo live comedy show by Ramy Abdelhafez. The performance presents Abdelhafez in a full length stand up format following the popularity of his short form comedy content and online appearances. \nThe show features new material written specifically for the stage\, focusing on personal stories\, social observations\, and everyday experiences. This debut solo performance introduces Ramy Abdelhafez in a live stand up setting\, offering audiences the chance to experience his comedy beyond digital platforms in a single night live show.
URL:https://cairospots.com/event/roooka-standup-interactive-comedy-show/
LOCATION:Hilton Cairo Grand Nile\, Nile Corniche\, Old Cairo\, Cairo Governorate 11519\, Garden City\, Egypt
CATEGORIES:Comedy
ATTACH;FMTTYPE=image/jpeg:https://cairospots.com/wp-content/uploads/2026/01/697d4017aafe81938d281da2fd83623f.jpg
END:VEVENT
END:VCALENDAR