BEGIN:VCALENDAR
VERSION:2.0
PRODID:-//Cairo Spots - ECPv6.15.20//NONSGML v1.0//EN
CALSCALE:GREGORIAN
METHOD:PUBLISH
X-ORIGINAL-URL:https://cairospots.com
X-WR-CALDESC:Events for Cairo Spots
REFRESH-INTERVAL;VALUE=DURATION:PT1H
X-Robots-Tag:noindex
X-PUBLISHED-TTL:PT1H
BEGIN:VTIMEZONE
TZID:UTC
BEGIN:STANDARD
TZOFFSETFROM:+0000
TZOFFSETTO:+0000
TZNAME:UTC
DTSTART:20250101T000000
END:STANDARD
END:VTIMEZONE
BEGIN:VEVENT
DTSTART;TZID=UTC:20260129T100000
DTEND;TZID=UTC:20260129T160000
DTSTAMP:20260424T230250
CREATED:20260118T060717Z
LAST-MODIFIED:20260118T060717Z
UID:10000865-1769680800-1769702400@cairospots.com
SUMMARY:A Trip to Dahshour with Darb 15
DESCRIPTION:Step away from the city and spend a full day immersed in an authentic countryside experience in Dahshour. This curated farm trip offers a blend of traditional food\, hands on activities\, and a closer look at rural life in a calm and welcoming setting. \nThe day begins with a warm reception and traditional tea prepared over an open wood fire\, followed by a guided farm discovery tour through the fields\, where guests learn about local crops and agricultural traditions. \nGuests then enjoy a wholesome farm breakfast featuring fresh Egyptian feteer\, cheese and mish\, honey\, eggs\, ta’ameya\, and seasonal vegetables\, all prepared using local ingredients. \nThe experience continues with four interactive workshops designed to celebrate heritage and creativity. Participants will prepare natural energy bites\, make and personalize maamoul baked in a traditional clay oven\, bake bread in a classic farm oven\, and create handmade traditional crafts. \nTransportation\, breakfast\, and all workshops are included in the ticket\, making this a complete countryside escape that combines learning\, flavor\, and shared moments. The day concludes with a return in the afternoon\, leaving guests with lasting memories from the heart of Dahshour.
URL:https://cairospots.com/event/a-trip-to-dahshour-with-darb-15/
LOCATION:Darb 15 Bait Arafa\, X72C+V3X\, Street 15\, Maadi as Sarayat Al Gharbeyah\, Maadi\, Cairo Governorate 4212008\, Maadi
CATEGORIES:Workshop
ATTACH;FMTTYPE=image/jpeg:https://cairospots.com/wp-content/uploads/2026/01/SnapInsta-Ai_3812216113296427373-2.jpg
END:VEVENT
BEGIN:VEVENT
DTSTART;TZID=UTC:20260124T150000
DTEND;TZID=UTC:20260124T190000
DTSTAMP:20260424T230250
CREATED:20260118T061451Z
LAST-MODIFIED:20260118T061451Z
UID:10000867-1769266800-1769281200@cairospots.com
SUMMARY:Creative Writing Workshop with Fatma El Zahraa at Darb 15
DESCRIPTION:This Creative Writing Workshop offers a gentle and practical introduction to writing for anyone looking to explore self expression through words. Designed for beginners\, artists\, and curious minds\, the session creates a supportive space to experiment with writing without the pressure of prior experience. \nOver the course of four hours\, participants will engage in guided discussions and hands on creative exercises that encourage fresh thinking and personal voice. The workshop focuses on writing as a tool for reflection\, creativity\, and artistic exploration\, with selected outcomes having the opportunity to be published online on the Millennial Aal Akher platform. \nLed by multidisciplinary artist\, writer\, and curator Fatma El Zahraa\, the workshop draws from her background in philosophy\, performance\, and narrative based practices. It is ideal for anyone experiencing creative blocks\, seeking new inspiration\, or wanting to develop clearer ways to express ideas and stories. \nLimited spots are available and advance booking is required.
URL:https://cairospots.com/event/creative-writing-workshop-with-fatma-el-zahraa-at-darb-15/
LOCATION:Darb 15 Bait Arafa\, X72C+V3X\, Street 15\, Maadi as Sarayat Al Gharbeyah\, Maadi\, Cairo Governorate 4212008\, Maadi
CATEGORIES:Workshop
ATTACH;FMTTYPE=image/jpeg:https://cairospots.com/wp-content/uploads/2026/01/SnapInsta-Ai_3810796389744355239-2.jpg
END:VEVENT
BEGIN:VEVENT
DTSTART;TZID=UTC:20260123T160000
DTEND;TZID=UTC:20260123T200000
DTSTAMP:20260424T230250
CREATED:20260118T061655Z
LAST-MODIFIED:20260118T061655Z
UID:10000868-1769184000-1769198400@cairospots.com
SUMMARY:Sculpt a Head Workshop with Marionorama Puppets at Darb 15
DESCRIPTION:Sculpt a Head is a hands on creative workshop focused on character creation through sculpting. Participants will be guided through the process of building their own puppet head using papier mâché and foam\, exploring form\, expression\, and personality from the ground up. \nThe session introduces the fundamentals of character development\, starting with basic structure and moving into details such as facial features\, texture\, and color. The workshop encourages experimentation and play\, allowing each participant to develop a unique character with its own presence and story. \nThis experience is open to beginners and creatives from all backgrounds\, including those interested in theater\, visual arts\, puppetry\, or anyone looking to try a new tactile artistic practice. No prior sculpting experience is required\, only curiosity and a willingness to create. \nSpaces are limited and the workshop is designed to provide a focused and supportive environment for hands on learning and creative exploration.
URL:https://cairospots.com/event/sculpt-a-head-workshop-with-marionorama-puppets-at-darb-15/
LOCATION:Darb 15 Bait Arafa\, X72C+V3X\, Street 15\, Maadi as Sarayat Al Gharbeyah\, Maadi\, Cairo Governorate 4212008\, Maadi
CATEGORIES:Workshop
ATTACH;FMTTYPE=image/jpeg:https://cairospots.com/wp-content/uploads/2026/01/SnapInsta-Ai_3811475500250774865-2-1.jpg
END:VEVENT
BEGIN:VEVENT
DTSTART;TZID=UTC:20260122T190000
DTEND;TZID=UTC:20260122T213000
DTSTAMP:20260424T230250
CREATED:20260118T061053Z
LAST-MODIFIED:20260118T061236Z
UID:10000866-1769108400-1769117400@cairospots.com
SUMMARY:Trivia Game Night at Darb 15
DESCRIPTION:Trivia Game Night is a lively and interactive quiz experience hosted at Darb 15 Beit Arafa in Maadi. The event features a wide range of questions across multiple topics\, presented in both English and Arabic\, making it accessible and engaging for bilingual participants and trivia enthusiasts alike. \nWhether you join solo or as part of a team\, the focus is on fun\, participation\, and friendly competition. Expect an energetic atmosphere filled with laughter\, quick thinking\, and great vibes\, where learning and entertainment come together in a relaxed social setting. \nThis is a night designed for curious minds\, social spirits\, and anyone looking to enjoy a smart and playful challenge in a welcoming community space.
URL:https://cairospots.com/event/trivia-game-night-at-darb-15/
LOCATION:Darb 15 Bait Arafa\, X72C+V3X\, Street 15\, Maadi as Sarayat Al Gharbeyah\, Maadi\, Cairo Governorate 4212008\, Maadi
CATEGORIES:Games
ATTACH;FMTTYPE=image/jpeg:https://cairospots.com/wp-content/uploads/2026/01/SnapInsta-Ai_3811364225457965582-2.jpg
END:VEVENT
BEGIN:VEVENT
DTSTART;TZID=UTC:20260122T100000
DTEND;TZID=UTC:20260122T140000
DTSTAMP:20260424T230250
CREATED:20260118T062103Z
LAST-MODIFIED:20260118T062103Z
UID:10000869-1769076000-1769090400@cairospots.com
SUMMARY:A Visit to Mazhar Garden with Darb 15
DESCRIPTION:This guided visit offers a calm and immersive experience inside Mazhar Botanical Garden\, one of Cairo’s lesser known green spaces. Participants will explore the garden with a dedicated guide\, including a visit to the Herbarium\, followed by an insightful talk by Dr. Therese Labib that sheds light on the garden’s history\, plants\, and ongoing work. \nThe visit also includes access to an exhibition\, a small takeaway gift\, and time for a relaxed walk through the garden paths. Designed as a slow paced experience\, the day encourages reconnecting with nature\, learning\, and stepping away from the city’s usual rhythm. \nSpaces are limited to ensure a focused and enjoyable experience for all participants.
URL:https://cairospots.com/event/a-visit-to-mazhar-garden-with-darb-15/
LOCATION:Darb 15 Bait Arafa\, X72C+V3X\, Street 15\, Maadi as Sarayat Al Gharbeyah\, Maadi\, Cairo Governorate 4212008\, Maadi
CATEGORIES:Workshop
ATTACH;FMTTYPE=image/jpeg:https://cairospots.com/wp-content/uploads/2026/01/SnapInsta-Ai_3809302933658215793-2.jpg
END:VEVENT
END:VCALENDAR