BEGIN:VCALENDAR
VERSION:2.0
PRODID:-//Cairo Spots - ECPv6.15.20//NONSGML v1.0//EN
CALSCALE:GREGORIAN
METHOD:PUBLISH
X-WR-CALNAME:Cairo Spots
X-ORIGINAL-URL:https://cairospots.com
X-WR-CALDESC:Events for Cairo Spots
REFRESH-INTERVAL;VALUE=DURATION:PT1H
X-Robots-Tag:noindex
X-PUBLISHED-TTL:PT1H
BEGIN:VTIMEZONE
TZID:UTC
BEGIN:STANDARD
TZOFFSETFROM:+0000
TZOFFSETTO:+0000
TZNAME:UTC
DTSTART:20250101T000000
END:STANDARD
END:VTIMEZONE
BEGIN:VEVENT
DTSTART;TZID=UTC:20260212T190000
DTEND;TZID=UTC:20260212T233000
DTSTAMP:20260424T200511
CREATED:20260205T172312Z
LAST-MODIFIED:20260205T181118Z
UID:10001900-1770922800-1770939000@cairospots.com
SUMMARY:Habaytak at Zawya Cinema and a Secret Downtown Location
DESCRIPTION:Following the warm reception of its first edition in Paris\, Habaytak arrives in Downtown Cairo for a cultural evening dedicated to love in all its forms. Taking place on February 12 from 7 PM until 1 AM at Zawya Cinema and a nearby secret location\, the night explores Arab romance through short film screenings\, conversations with filmmakers\, HiFi music sets by Daybreak and Soliman Gaa\, food\, and playful interactive moments including a matchmaking game. Inspired by everything from classic love songs and TV dramas to everyday expressions of romance\, Habaytak brings together cinema\, music\, and shared experiences in a setting that celebrates the beauty\, contradictions\, and emotions of love. The event is presented in collaboration with Daybreak\, CairoScene\, and Samak Laban Creative Studio.
URL:https://cairospots.com/event/habaytak-at-zawya-cinema-and-a-secret-downtown-location/
LOCATION:Zawya Cinema\, 15 Emad El-Deen\, Oraby\, Al Azbakeya\, Cairo Governorate 4320111\, Downtown
CATEGORIES:Show
ATTACH;FMTTYPE=image/jpeg:https://cairospots.com/wp-content/uploads/2026/02/Event-Cover-7.jpg
END:VEVENT
END:VCALENDAR