BEGIN:VCALENDAR
VERSION:2.0
PRODID:-//Cairo Spots - ECPv6.15.20//NONSGML v1.0//EN
CALSCALE:GREGORIAN
METHOD:PUBLISH
X-WR-CALNAME:Cairo Spots
X-ORIGINAL-URL:https://cairospots.com
X-WR-CALDESC:Events for Cairo Spots
REFRESH-INTERVAL;VALUE=DURATION:PT1H
X-Robots-Tag:noindex
X-PUBLISHED-TTL:PT1H
BEGIN:VTIMEZONE
TZID:UTC
BEGIN:STANDARD
TZOFFSETFROM:+0000
TZOFFSETTO:+0000
TZNAME:UTC
DTSTART:20250101T000000
END:STANDARD
END:VTIMEZONE
BEGIN:VEVENT
DTSTART;TZID=UTC:20260502T100000
DTEND;TZID=UTC:20260505T220000
DTSTAMP:20260424T162632
CREATED:20260419T172325Z
LAST-MODIFIED:20260419T172331Z
UID:10001998-1777716000-1778018400@cairospots.com
SUMMARY:EHAF Empower Her
DESCRIPTION:The Empower Her Art Forum (EHAF) is a premier international festival dedicated to championing women artists globally. Hosted annually in Cairo\, the forum serves as a vital bridge between creative expression and social advocacy. Since its 2023 debut\, EHAF has evolved into a significant cultural movement\, gaining the patronage of multiple Egyptian Ministries and international organizations.
URL:https://cairospots.com/event/ehaf-empower-her/
LOCATION:The Grand Egyptian Museum\, Cairo - Alexandria Desert Rd\, Kafr Nassar\, Al Haram\, Giza Governorate 3513204\, Giza\, Egypt
CATEGORIES:Exhibition
ATTACH;FMTTYPE=image/jpeg:https://cairospots.com/wp-content/uploads/2026/04/IMG_3528-1.jpeg
END:VEVENT
END:VCALENDAR