BEGIN:VCALENDAR
VERSION:2.0
PRODID:-//Cairo Spots - ECPv6.15.20//NONSGML v1.0//EN
CALSCALE:GREGORIAN
METHOD:PUBLISH
X-WR-CALNAME:Cairo Spots
X-ORIGINAL-URL:https://cairospots.com
X-WR-CALDESC:Events for Cairo Spots
REFRESH-INTERVAL;VALUE=DURATION:PT1H
X-Robots-Tag:noindex
X-PUBLISHED-TTL:PT1H
BEGIN:VTIMEZONE
TZID:UTC
BEGIN:STANDARD
TZOFFSETFROM:+0000
TZOFFSETTO:+0000
TZNAME:UTC
DTSTART:20250101T000000
END:STANDARD
END:VTIMEZONE
BEGIN:VEVENT
DTSTART;TZID=UTC:20260209T190000
DTEND;TZID=UTC:20260209T220000
DTSTAMP:20260424T212747
CREATED:20260204T141416Z
LAST-MODIFIED:20260204T141416Z
UID:10001895-1770663600-1770674400@cairospots.com
SUMMARY:GEM Talks: Beyond the Screen From Idea to Impact at the Grand Egyptian Museum
DESCRIPTION:A new edition of GEM Talks brings the conversation to the heart of the Grand Egyptian Museum\, focusing on how film and television move from a single idea to stories that shape public dialogue and cultural influence. The session explores storytelling today\, creative responsibility\, and the growing impact of media and social platforms through the perspectives of leading figures in Egyptian and regional cinema. \nModerated by Dr. Nancy Ali\, the talk features producer and screenwriter Mohamed Hefzy\, director and producer Omar Hilal\, and screenwriter Mariam Naoum. The discussion takes place at the Open Air Gallery at GEM on Monday\, February 9\, starting at 7:00 PM\, with a smart casual dress code. \nAttendance is by registration. RSVP by replying “confirmed” and register via gem.ticketsmarche.com.
URL:https://cairospots.com/event/gem-talks-beyond-the-screen-from-idea-to-impact-at-the-grand-egyptian-museum/
LOCATION:The Grand Egyptian Museum\, Cairo - Alexandria Desert Rd\, Kafr Nassar\, Al Haram\, Giza Governorate 3513204\, Giza\, Egypt
CATEGORIES:Workshop
ATTACH;FMTTYPE=image/jpeg:https://cairospots.com/wp-content/uploads/2026/02/Event-Cover-4.jpg
END:VEVENT
END:VCALENDAR