BEGIN:VCALENDAR
VERSION:2.0
PRODID:-//Cairo Spots - ECPv6.15.20//NONSGML v1.0//EN
CALSCALE:GREGORIAN
METHOD:PUBLISH
X-WR-CALNAME:Cairo Spots
X-ORIGINAL-URL:https://cairospots.com
X-WR-CALDESC:Events for Cairo Spots
REFRESH-INTERVAL;VALUE=DURATION:PT1H
X-Robots-Tag:noindex
X-PUBLISHED-TTL:PT1H
BEGIN:VTIMEZONE
TZID:UTC
BEGIN:STANDARD
TZOFFSETFROM:+0000
TZOFFSETTO:+0000
TZNAME:UTC
DTSTART:20250101T000000
END:STANDARD
END:VTIMEZONE
BEGIN:VEVENT
DTSTART;TZID=UTC:20260130T190000
DTEND;TZID=UTC:20260130T233000
DTSTAMP:20260424T212819
CREATED:20260122T123131Z
LAST-MODIFIED:20260122T123404Z
UID:10001334-1769799600-1769815800@cairospots.com
SUMMARY:IASC One Year Anniversary Party
DESCRIPTION:The IASC marks one year of movement\, music\, and community with a special anniversary edition on Friday\, January 30\, 2026\, from 7 PM to 2 AM\, at a secret location in Cairo revealed after confirmation. The night brings together live performances and DJ sets by Taffy\, Maman\, LANA\, Femaledjkhaled\, The stALIon\, and a surprise opening DJ\, alongside a tattoo station by Miss Lulu Tattoo. Built around rhythm\, stamina\, and shared energy\, this edition stays true to the IASC spirit with long hours on the dance floor and a sport-inspired atmosphere.
URL:https://cairospots.com/event/iasc-one-year-anniversary-party/
CATEGORIES:Party
ATTACH;FMTTYPE=image/jpeg:https://cairospots.com/wp-content/uploads/2026/01/Untitled-design-2.jpg
END:VEVENT
END:VCALENDAR